{"text_format":"3","workbook":"xlsx","n_sheets":10,"sheets":["チーム表","対戦表","リーグ戦表","トーナメント表","DATA1","DATA","対戦表1","対戦表2","対戦表3","組合表"],"not_rendered":{"macros":1,"defined_names":4},"read":"whole","date_system":"1900"}

{"sheet":"チーム表","index":0,"n_rows":48,"n_cols":6,"rows_kept":48,"merged":[[0,1,0,5],[1,1,1,4]]}
[null,"第１３回　卒業記念ドッジボール大会"]
[]
[null,"番号","ﾌﾞﾛｯｸ","チ　ー　ム　名","代表者名","県"]
[null,1,"A1","ＮＩＳＨＩファイヤースターズ","足滝　　信雄","石　川"]
[null,2,"B1","桜Ｖ６","川内　　清美","愛　知"]
[null,3,"C1","珠洲クラブ","名古谷　吉範","石　川"]
[null,4,"F1","珠洲魂８ ","名古谷　吉範","石　川"]
[null,5,"D1","杉っ子ドッジファイターズ","板山　　浩一","富　山"]
[null,6,"E1","千坂ドッジファイヤーズ","下野　　高広","石　川"]
[null,7,"A2","パイレーツα","木原　　清志","富　山"]
[null,8,"F2","三馬パワフル","石田　　敦子","石　川"]
[null,9,"C2","向本折SPARS","中田　　勝博","石　川"]
[null,10,"B2","山中SPARS","中田　　勝博","石　川"]
[null,11,"D2","鞍月アタッカーズ","廣岡　　俊和","石　川"]
[null,12,"E2","福光サンダージュニア","山本　　吏","富　山"]
[null,13,"A3","鳳至ドッジボールクラブ","角間　　雅之","石　川"]
[null,14,"B3","小木クラブ","河元　　智志","石　川"]
[null,15,"C3","寺井クラブ","久田　　誠","富　山"]
[null,16,"D3","附属ドッジファイターズ","土田　　裕子","福　井"]
[null,17,"F3","敦賀西ホワイトキッズ　","雁子　　裕美","福　井"]
[null,18,"E3","向本折クラブＡ","中島　　大樹","石　川"]
[null,19,"B4","Ｇ-Ｓhimozeki","山本　　佑香","富　山"]
[null,20,"A4","ミラクル元キッズ","政井　　順一","岐　阜"]
[null,21,"C4","呉羽ドッジボールクラブ","久郷　　厳","富　山"]
[null,22,"F4","五福ダイヤモンドサンズ","丹羽　　誠","富　山"]
[null,23,"D4","鵜川ミラクルフェニックス","馬場　　周一","石　川"]
[null,24,"B5","めちゃげん","横山　さち代","岐　阜"]
[null,25,"D5","松任の大魔陣","由水　　伸弥","石　川"]
[null,26,"E4","田上闘球DREAMS","盛一　　純平","石　川"]
[null,27,"C5","三谷Ｄ.Ｂ.Ｃ","前川　　大輔","石　川"]
[null,28,"A5","米丸ドッジボールクラブ","山田　ユカ子","石　川"]
[null,"Jr1","G1","ＮＩＳＨＩ Jr スターズ","足滝　　信雄","石　川"]
[null,"Jr2","H1","桜Ｖ３","川内　　清美","愛　知"]
[null,"Jr3","I1","千坂Ｆロータスルート","下野　　高広","石　川"]
[null,"Jr4","J1","ドッジの王子様","石田　　敦子","石　川"]
[null,"Jr5","G2","山中SＴARS","中田　　勝博","石　川"]
[null,"Jr6","H2","鞍月・三谷アタッカーズ","廣岡　　俊和","石　川"]
[null,"Jr7","I2","福光サンダーホープス","山本　　吏","富　山"]
[null,"Jr8","J2","鳳至ドッジボールクラブJr","角間　　雅之","石　川"]
[null,"Jr9","G3","奥能登クラブジュニア","河元　　智志","石　川"]
[null,"Jr10","H3","寺井クラブJr.","久田　　誠","石　川"]
[null,"Jr11","I3","寺井九谷クラブ","久田　　誠","石　川"]
[null,"Jr12","J3","向本折クラブ　","中島　　大樹","石　川"]
[null,"Jr13","G4","呉羽ジュニア","久郷　　厳","富　山"]
[null,"Jr14","H4","鵜川フェニックスジュニア","馬場　　周一","石　川"]
[null,"Jr15","I4","めちゃげん闘球小僧","横山　さち代","岐　阜"]
[null,"Jr16","J4","松任の大魔陣 Ｊｒ","由水　　伸弥","石　川"]
[null,"Jr17","G5","田上闘球ＦＵＴＵＲＥＳ","盛一　　純平","石　川"]

{"sheet":"対戦表","index":1,"n_rows":40,"n_cols":31,"rows_kept":40,"merged":[[0,0,0,30],[2,0,2,30],[21,2,21,10],[21,12,21,20],[21,22,21,30],[33,5,33,10],[33,15,33,20],[33,25,33,30],[34,5,34,10],[34,15,34,20],[34,25,34,30],[35,5,35,10],[35,15,35,20],[35,25,35,30],[36,5,36,10],[36,15,36,20],[36,25,36,30],[37,5,37,10],[37,15,37,20],[37,25,37,30],[38,5,38,10],[38,15,38,20],[38,25,38,30],[39,5,39,10],[39,15,39,20],[39,25,39,30]]}
[{"$f":"チーム表!$B$1","v":"第１３回　卒業記念ドッジボール大会"}]
[]
["　試合スケジュール"]
[]
[null,"時間",null,null,"点","Ａコート",{"$nulls":3},"点","Ａコート",{"$nulls":3},"点","Ｂコート",{"$nulls":3},"点","Ｂコート",{"$nulls":3},"点","Ｃコート",{"$nulls":3},"点","Ｃコート"]
[1,"09:20:00",{"$f":"組合表!AG4","v":"A1"},{"$f":"CONCATENATE(C6,H6)","v":"A1A2"},null,{"$f":"VLOOKUP(C6,チーム表!C:D,2,FALSE)","v":"ＮＩＳＨＩファイヤースターズ"},"×",{"$f":"組合表!AH4","v":"A2"},{"$f":"CONCATENATE(H6,C6)","v":"A2A1"},null,{"$f":"VLOOKUP(H6,チーム表!C:D,2,FALSE)","v":"パイレーツα"},null,{"$f":"組合表!AI4","v":"B1"},{"$f":"CONCATENATE(M6,R6)","v":"B1B2"},null,{"$f":"VLOOKUP(M6,チーム表!C:D,2,FALSE)","v":"桜Ｖ６"},"×",{"$f":"組合表!AJ4","v":"B2"},{"$f":"CONCATENATE(R6,M6)","v":"B2B1"},null,{"$f":"VLOOKUP(R6,チーム表!C:D,2,FALSE)","v":"山中SPARS"},null,{"$f":"組合表!AK4","v":"C1"},{"$f":"CONCATENATE(W6,AB6)","v":"C1C2"},null,{"$f":"VLOOKUP(W6,チーム表!C:D,2,FALSE)","v":"珠洲クラブ"},{"$f":"Q6","v":"×"},{"$f":"組合表!AL4","v":"C2"},{"$f":"CONCATENATE(AB6,W6)","v":"C2C1"},null,{"$f":"VLOOKUP(AB6,チーム表!C:D,2,FALSE)","v":"向本折SPARS"}]
[2,"09:30:00",{"$f":"組合表!AG5","v":"D1"},{"$f":"CONCATENATE(C7,H7)","v":"D1D2"},null,{"$f":"VLOOKUP(C7,チーム表!C:D,2,FALSE)","v":"杉っ子ドッジファイターズ"},"×",{"$f":"組合表!AH5","v":"D2"},{"$f":"CONCATENATE(H7,C7)","v":"D2D1"},null,{"$f":"VLOOKUP(H7,チーム表!C:D,2,FALSE)","v":"鞍月アタッカーズ"},null,{"$f":"組合表!AI5","v":"G1"},{"$f":"CONCATENATE(M7,R7)","v":"G1G2"},null,{"$f":"VLOOKUP(M7,チーム表!C:D,2,FALSE)","v":"ＮＩＳＨＩ Jr スターズ"},"×",{"$f":"組合表!AJ5","v":"G2"},{"$f":"CONCATENATE(R7,M7)","v":"G2G1"},null,{"$f":"VLOOKUP(R7,チーム表!C:D,2,FALSE)","v":"山中SＴARS"},null,{"$f":"組合表!AK5","v":"E1"},{"$f":"CONCATENATE(W7,AB7)","v":"E1E2"},null,{"$f":"VLOOKUP(W7,チーム表!C:D,2,FALSE)","v":"千坂ドッジファイヤーズ"},"×",{"$f":"組合表!AL5","v":"E2"},{"$f":"CONCATENATE(AB7,W7)","v":"E2E1"},null,{"$f":"VLOOKUP(AB7,チーム表!C:D,2,FALSE)","v":"福光サンダージュニア"}]
[3,"09:40:00",{"$f":"組合表!AG6","v":"F1"},"F1F2",null,{"$f":"VLOOKUP(C8,チーム表!C:D,2,FALSE)","v":"珠洲魂８ "},"×",{"$f":"組合表!AH6","v":"F2"},"F2F1",null,{"$f":"VLOOKUP(H8,チーム表!C:D,2,FALSE)","v":"三馬パワフル"},null,{"$f":"組合表!AI6","v":"H1"},"H1H2",null,{"$f":"VLOOKUP(M8,チーム表!C:D,2,FALSE)","v":"桜Ｖ３"},"×",{"$f":"組合表!AJ6","v":"H2"},"H2H1",null,{"$f":"VLOOKUP(R8,チーム表!C:D,2,FALSE)","v":"鞍月・三谷アタッカーズ"},null,{"$f":"組合表!AK6","v":"I1"},"I1I2",null,{"$f":"VLOOKUP(W8,チーム表!C:D,2,FALSE)","v":"千坂Ｆロータスルート"},"×",{"$f":"組合表!AL6","v":"I2"},"I2I1",null,{"$f":"VLOOKUP(AB8,チーム表!C:D,2,FALSE)","v":"福光サンダーホープス"}]
[4,"09:50:00","C3","C3C4",null,{"$f":"VLOOKUP(C9,チーム表!C:D,2,FALSE)","v":"寺井クラブ"},"×","C4","C4C3",null,{"$f":"VLOOKUP(H9,チーム表!C:D,2,FALSE)","v":"呉羽ドッジボールクラブ"},null,{"$f":"組合表!AI7","v":"A3"},"A3A4",null,{"$f":"VLOOKUP(M9,チーム表!C:D,2,FALSE)","v":"鳳至ドッジボールクラブ"},"×",{"$f":"組合表!AJ7","v":"A4"},"A4A3",null,{"$f":"VLOOKUP(R9,チーム表!C:D,2,FALSE)","v":"ミラクル元キッズ"},null,{"$f":"組合表!AK7","v":"B3"},"B3B4",null,{"$f":"VLOOKUP(W9,チーム表!C:D,2,FALSE)","v":"小木クラブ"},"×",{"$f":"組合表!AL7","v":"B4"},"B4B3",null,{"$f":"VLOOKUP(AB9,チーム表!C:D,2,FALSE)","v":"Ｇ-Ｓhimozeki"}]
[5,"10:00:00","J1","J1J2",null,{"$f":"VLOOKUP(C10,チーム表!C:D,2,FALSE)","v":"ドッジの王子様"},"×","J2","J2J1",null,{"$f":"VLOOKUP(H10,チーム表!C:D,2,FALSE)","v":"鳳至ドッジボールクラブJr"},null,{"$f":"組合表!AI8","v":"D3"},"D3D4",null,{"$f":"VLOOKUP(M10,チーム表!C:D,2,FALSE)","v":"附属ドッジファイターズ"},"×",{"$f":"組合表!AJ8","v":"D4"},"D4D3",null,{"$f":"VLOOKUP(R10,チーム表!C:D,2,FALSE)","v":"鵜川ミラクルフェニックス"},null,{"$f":"組合表!AK8","v":"G3"},"G3G4",null,{"$f":"VLOOKUP(W10,チーム表!C:D,2,FALSE)","v":"奥能登クラブジュニア"},"×",{"$f":"組合表!AL8","v":"G4"},"G4G3",null,{"$f":"VLOOKUP(AB10,チーム表!C:D,2,FALSE)","v":"呉羽ジュニア"}]
[6,"10:10:00",{"$f":"組合表!AG9","v":"E3"},"E3E4",null,{"$f":"VLOOKUP(C11,チーム表!C:D,2,FALSE)","v":"向本折クラブＡ"},"×",{"$f":"組合表!AH9","v":"E4"},"E4E3",null,{"$f":"VLOOKUP(H11,チーム表!C:D,2,FALSE)","v":"田上闘球DREAMS"},null,{"$f":"組合表!AI9","v":"F3"},"F3F4",null,{"$f":"VLOOKUP(M11,チーム表!C:D,2,FALSE)","v":"敦賀西ホワイトキッズ　"},"×",{"$f":"組合表!AJ9","v":"F4"},"F4F3",null,{"$f":"VLOOKUP(R11,チーム表!C:D,2,FALSE)","v":"五福ダイヤモンドサンズ"},null,{"$f":"組合表!AK9","v":"H3"},"H3H4",null,{"$f":"VLOOKUP(W11,チーム表!C:D,2,FALSE)","v":"寺井クラブJr."},"×",{"$f":"組合表!AL9","v":"H4"},"H4H3",null,{"$f":"VLOOKUP(AB11,チーム表!C:D,2,FALSE)","v":"鵜川フェニックスジュニア"}]
[7,"10:20:00",{"$f":"組合表!AG10","v":"I3"},"I3I4",null,{"$f":"VLOOKUP(C12,チーム表!C:D,2,FALSE)","v":"寺井九谷クラブ"},"×",{"$f":"組合表!AH10","v":"I4"},"I4I3",null,{"$f":"VLOOKUP(H12,チーム表!C:D,2,FALSE)","v":"めちゃげん闘球小僧"},null,{"$f":"組合表!AI10","v":"J3"},"J3J4",null,{"$f":"VLOOKUP(M12,チーム表!C:D,2,FALSE)","v":"向本折クラブ　"},"×",{"$f":"組合表!AJ10","v":"J4"},"J4J3",null,{"$f":"VLOOKUP(R12,チーム表!C:D,2,FALSE)","v":"松任の大魔陣 Ｊｒ"},null,{"$f":"組合表!AK10","v":"A1"},"A1A5",null,{"$f":"VLOOKUP(W12,チーム表!C:D,2,FALSE)","v":"ＮＩＳＨＩファイヤースターズ"},"×",{"$f":"組合表!AL10","v":"A5"},"A5A1",null,{"$f":"VLOOKUP(AB12,チーム表!C:D,2,FALSE)","v":"米丸ドッジボールクラブ"}]
[8,"10:30:00",{"$f":"組合表!AG11","v":"B1"},"B1B5",null,{"$f":"VLOOKUP(C13,チーム表!C:D,2,FALSE)","v":"桜Ｖ６"},"×",{"$f":"組合表!AH11","v":"B5"},"B5B1",null,{"$f":"VLOOKUP(H13,チーム表!C:D,2,FALSE)","v":"めちゃげん"},null,{"$f":"組合表!AI11","v":"C1"},"C1C5",null,{"$f":"VLOOKUP(M13,チーム表!C:D,2,FALSE)","v":"珠洲クラブ"},"×",{"$f":"組合表!AJ11","v":"C5"},"C5C1",null,{"$f":"VLOOKUP(R13,チーム表!C:D,2,FALSE)","v":"三谷Ｄ.Ｂ.Ｃ"},null,{"$f":"組合表!AK11","v":"D1"},"D1D5",null,{"$f":"VLOOKUP(W13,チーム表!C:D,2,FALSE)","v":"杉っ子ドッジファイターズ"},{"$f":"Q14","v":"×"},{"$f":"組合表!AL11","v":"D5"},"D5D1",null,{"$f":"VLOOKUP(AB13,チーム表!C:D,2,FALSE)","v":"松任の大魔陣"}]
[9,"10:40:00",{"$f":"組合表!AG12","v":"G1"},"G1G5",null,{"$f":"VLOOKUP(C14,チーム表!C:D,2,FALSE)","v":"ＮＩＳＨＩ Jr スターズ"},"×",{"$f":"組合表!AH12","v":"G5"},"G5G1",null,{"$f":"VLOOKUP(H14,チーム表!C:D,2,FALSE)","v":"田上闘球ＦＵＴＵＲＥＳ"},null,{"$f":"組合表!AI12","v":"E2"},"E2E3",null,{"$f":"VLOOKUP(M14,チーム表!C:D,2,FALSE)","v":"福光サンダージュニア"},"×",{"$f":"組合表!AJ12","v":"E3"},"E3E2",null,{"$f":"VLOOKUP(R14,チーム表!C:D,2,FALSE)","v":"向本折クラブＡ"},null,{"$f":"組合表!AK12","v":"F2"},"F2F3",null,{"$f":"VLOOKUP(W14,チーム表!C:D,2,FALSE)","v":"三馬パワフル"},{"$f":"Q15","v":"×"},{"$f":"組合表!AL12","v":"F3"},"F3F2",null,{"$f":"VLOOKUP(AB14,チーム表!C:D,2,FALSE)","v":"敦賀西ホワイトキッズ　"}]
[10,"10:50:00",{"$f":"組合表!AG13","v":"H2"},"H2H3",null,{"$f":"VLOOKUP(C15,チーム表!C:D,2,FALSE)","v":"鞍月・三谷アタッカーズ"},"×",{"$f":"組合表!AH13","v":"H3"},"H3H2",null,{"$f":"VLOOKUP(H15,チーム表!C:D,2,FALSE)","v":"寺井クラブJr."},null,{"$f":"組合表!AI13","v":"I2"},"I2I3",null,{"$f":"VLOOKUP(M15,チーム表!C:D,2,FALSE)","v":"福光サンダーホープス"},"×",{"$f":"組合表!AJ13","v":"I3"},"I3I2",null,{"$f":"VLOOKUP(R15,チーム表!C:D,2,FALSE)","v":"寺井九谷クラブ"},null,{"$f":"組合表!AK13","v":"J2"},"J2J3",null,{"$f":"VLOOKUP(W15,チーム表!C:D,2,FALSE)","v":"鳳至ドッジボールクラブJr"},{"$f":"Q16","v":"×"},{"$f":"組合表!AL13","v":"J3"},"J3J2",null,{"$f":"VLOOKUP(AB15,チーム表!C:D,2,FALSE)","v":"向本折クラブ　"}]
[11,"11:00:00",{"$f":"組合表!AG14","v":"A2"},"A2A3",null,{"$f":"VLOOKUP(C16,チーム表!C:D,2,FALSE)","v":"パイレーツα"},"×",{"$f":"組合表!AH14","v":"A3"},"A3A2",null,{"$f":"VLOOKUP(H16,チーム表!C:D,2,FALSE)","v":"鳳至ドッジボールクラブ"},null,{"$f":"組合表!AI14","v":"B2"},"B2B3",null,{"$f":"VLOOKUP(M16,チーム表!C:D,2,FALSE)","v":"山中SPARS"},"×",{"$f":"組合表!AJ14","v":"B3"},"B3B2",null,{"$f":"VLOOKUP(R16,チーム表!C:D,2,FALSE)","v":"小木クラブ"},null,{"$f":"組合表!AK14","v":"C2"},"C2C3",null,{"$f":"VLOOKUP(W16,チーム表!C:D,2,FALSE)","v":"向本折SPARS"},{"$f":"Q17","v":"×"},{"$f":"組合表!AL14","v":"C3"},"C3C2",null,{"$f":"VLOOKUP(AB16,チーム表!C:D,2,FALSE)","v":"寺井クラブ"}]
[12,"11:10:00",{"$f":"組合表!AG15","v":"D2"},"D2D3",null,{"$f":"VLOOKUP(C17,チーム表!C:D,2,FALSE)","v":"鞍月アタッカーズ"},"×",{"$f":"組合表!AH15","v":"D3"},"D3D2",null,{"$f":"VLOOKUP(H17,チーム表!C:D,2,FALSE)","v":"附属ドッジファイターズ"},null,{"$f":"組合表!AI15","v":"G2"},"G2G3",null,{"$f":"VLOOKUP(M17,チーム表!C:D,2,FALSE)","v":"山中SＴARS"},"×",{"$f":"組合表!AJ15","v":"G3"},"G3G2",null,{"$f":"VLOOKUP(R17,チーム表!C:D,2,FALSE)","v":"奥能登クラブジュニア"},null,{"$f":"組合表!AK15","v":"E1"},"E1E4",null,{"$f":"VLOOKUP(W17,チーム表!C:D,2,FALSE)","v":"千坂ドッジファイヤーズ"},{"$f":"Q19","v":"×"},{"$f":"組合表!AL15","v":"E4"},"E4E1",null,{"$f":"VLOOKUP(AB17,チーム表!C:D,2,FALSE)","v":"田上闘球DREAMS"}]
[13,"11:20:00",{"$f":"組合表!AG16","v":"F1"},"F1F4",null,{"$f":"VLOOKUP(C18,チーム表!C:D,2,FALSE)","v":"珠洲魂８ "},"×",{"$f":"組合表!AH16","v":"F4"},"F4F1",null,{"$f":"VLOOKUP(H18,チーム表!C:D,2,FALSE)","v":"五福ダイヤモンドサンズ"},null,{"$f":"組合表!AI16","v":"H1"},"H1H4",null,{"$f":"VLOOKUP(M18,チーム表!C:D,2,FALSE)","v":"桜Ｖ３"},"×",{"$f":"組合表!AJ16","v":"H4"},"H4H1",null,{"$f":"VLOOKUP(R18,チーム表!C:D,2,FALSE)","v":"鵜川フェニックスジュニア"},null,{"$f":"組合表!AK16","v":"I1"},"I1I4",null,{"$f":"VLOOKUP(W18,チーム表!C:D,2,FALSE)","v":"千坂Ｆロータスルート"},{"$f":"Q30","v":"×"},{"$f":"組合表!AL16","v":"I4"},"I4I1",null,{"$f":"VLOOKUP(AB18,チーム表!C:D,2,FALSE)","v":"めちゃげん闘球小僧"}]
[14,"11:30:00",{"$f":"組合表!AG17","v":"J1"},"J1J4",null,{"$f":"VLOOKUP(C19,チーム表!C:D,2,FALSE)","v":"ドッジの王子様"},"×",{"$f":"組合表!AH17","v":"J4"},"J4J1",null,{"$f":"VLOOKUP(H19,チーム表!C:D,2,FALSE)","v":"松任の大魔陣 Ｊｒ"},null,{"$f":"組合表!AI17","v":"A4"},"A4A5",null,{"$f":"VLOOKUP(M19,チーム表!C:D,2,FALSE)","v":"ミラクル元キッズ"},"×",{"$f":"組合表!AJ17","v":"A5"},"A5A4",null,{"$f":"VLOOKUP(R19,チーム表!C:D,2,FALSE)","v":"米丸ドッジボールクラブ"},null,{"$f":"組合表!AK17","v":"B4"},"B4B5",null,{"$f":"VLOOKUP(W19,チーム表!C:D,2,FALSE)","v":"Ｇ-Ｓhimozeki"},"×",{"$f":"組合表!AL17","v":"B5"},"B5B4",null,{"$f":"VLOOKUP(AB19,チーム表!C:D,2,FALSE)","v":"めちゃげん"}]
[15,"11:40:00","E1","E1E3",null,{"$f":"VLOOKUP(C20,チーム表!C:D,2,FALSE)","v":"千坂ドッジファイヤーズ"},"×","E3","E3E1",null,{"$f":"VLOOKUP(H20,チーム表!C:D,2,FALSE)","v":"向本折クラブＡ"},null,{"$f":"組合表!AI18","v":"D4"},"D4D5",null,{"$f":"VLOOKUP(M20,チーム表!C:D,2,FALSE)","v":"鵜川ミラクルフェニックス"},"×",{"$f":"組合表!AJ18","v":"D5"},"D5D4",null,{"$f":"VLOOKUP(R20,チーム表!C:D,2,FALSE)","v":"松任の大魔陣"},null,{"$f":"組合表!AK18","v":"G4"},"G4G5",null,{"$f":"VLOOKUP(W20,チーム表!C:D,2,FALSE)","v":"呉羽ジュニア"},"×",{"$f":"組合表!AL18","v":"G5"},"G5G4",null,{"$f":"VLOOKUP(AB20,チーム表!C:D,2,FALSE)","v":"田上闘球ＦＵＴＵＲＥＳ"}]
[16,"11:50:00","C4","C4C5",null,{"$f":"VLOOKUP(C21,チーム表!C:D,2,FALSE)","v":"呉羽ドッジボールクラブ"},"×","C5","C5C4",null,{"$f":"VLOOKUP(H21,チーム表!C:D,2,FALSE)","v":"三谷Ｄ.Ｂ.Ｃ"},null,{"$f":"組合表!AI19","v":"F1"},"F1F3",null,{"$f":"VLOOKUP(M21,チーム表!C:D,2,FALSE)","v":"珠洲魂８ "},"×",{"$f":"組合表!AJ19","v":"F3"},"F3F1",null,{"$f":"VLOOKUP(R21,チーム表!C:D,2,FALSE)","v":"敦賀西ホワイトキッズ　"},null,{"$f":"組合表!AK19","v":"H1"},"H1H3",null,{"$f":"VLOOKUP(W21,チーム表!C:D,2,FALSE)","v":"桜Ｖ３"},"×",{"$f":"組合表!AL19","v":"H3"},"H3H1",null,{"$f":"VLOOKUP(AB21,チーム表!C:D,2,FALSE)","v":"寺井クラブJr."}]
[null,null,"昼　　　　　　　　食",{"$nulls":9},"昼　　　　　　　　食",{"$nulls":9},"昼　　　　　　　　食"]
[17,"12:40:00",{"$f":"組合表!AG20","v":"I1"},"I1I3",null,{"$f":"VLOOKUP(C23,チーム表!C:D,2,FALSE)","v":"千坂Ｆロータスルート"},"×",{"$f":"組合表!AH20","v":"I3"},"I3I1",null,{"$f":"VLOOKUP(H23,チーム表!C:D,2,FALSE)","v":"寺井九谷クラブ"},null,{"$f":"組合表!AI20","v":"J1"},"J1J3",null,{"$f":"VLOOKUP(M23,チーム表!C:D,2,FALSE)","v":"ドッジの王子様"},"×",{"$f":"組合表!AJ20","v":"J3"},"J3J1",null,{"$f":"VLOOKUP(R23,チーム表!C:D,2,FALSE)","v":"向本折クラブ　"},null,{"$f":"組合表!AK20","v":"A1"},"A1A4",null,{"$f":"VLOOKUP(W23,チーム表!C:D,2,FALSE)","v":"ＮＩＳＨＩファイヤースターズ"},"×",{"$f":"組合表!AL20","v":"A4"},"A4A1",null,{"$f":"VLOOKUP(AB23,チーム表!C:D,2,FALSE)","v":"ミラクル元キッズ"}]
[18,"12:50:00",{"$f":"組合表!AG21","v":"B1"},"B1B4",null,{"$f":"VLOOKUP(C24,チーム表!C:D,2,FALSE)","v":"桜Ｖ６"},"×",{"$f":"組合表!AH21","v":"B4"},"B4B1",null,{"$f":"VLOOKUP(H24,チーム表!C:D,2,FALSE)","v":"Ｇ-Ｓhimozeki"},null,{"$f":"組合表!AI21","v":"C1"},"C1C4",null,{"$f":"VLOOKUP(M24,チーム表!C:D,2,FALSE)","v":"珠洲クラブ"},"×",{"$f":"組合表!AJ21","v":"C4"},"C4C1",null,{"$f":"VLOOKUP(R24,チーム表!C:D,2,FALSE)","v":"呉羽ドッジボールクラブ"},null,{"$f":"組合表!AK21","v":"D1"},"D1D4",null,{"$f":"VLOOKUP(W24,チーム表!C:D,2,FALSE)","v":"杉っ子ドッジファイターズ"},"×",{"$f":"組合表!AL21","v":"D4"},"D4D1",null,{"$f":"VLOOKUP(AB24,チーム表!C:D,2,FALSE)","v":"鵜川ミラクルフェニックス"}]
[19,"13:00:00",{"$f":"組合表!AG22","v":"G1"},"G1G4",null,{"$f":"VLOOKUP(C25,チーム表!C:D,2,FALSE)","v":"ＮＩＳＨＩ Jr スターズ"},"×",{"$f":"組合表!AH22","v":"G4"},"G4G1",null,{"$f":"VLOOKUP(H25,チーム表!C:D,2,FALSE)","v":"呉羽ジュニア"},null,{"$f":"組合表!AI22","v":"E2"},"E2E4",null,{"$f":"VLOOKUP(M25,チーム表!C:D,2,FALSE)","v":"福光サンダージュニア"},"×",{"$f":"組合表!AJ22","v":"E4"},"E4E2",null,{"$f":"VLOOKUP(R25,チーム表!C:D,2,FALSE)","v":"田上闘球DREAMS"},null,{"$f":"組合表!AK22","v":"F2"},"F2F4",null,{"$f":"VLOOKUP(W25,チーム表!C:D,2,FALSE)","v":"三馬パワフル"},"×",{"$f":"組合表!AL22","v":"F4"},"F4F2",null,{"$f":"VLOOKUP(AB25,チーム表!C:D,2,FALSE)","v":"五福ダイヤモンドサンズ"}]
[20,"13:10:00",{"$f":"組合表!AG23","v":"H2"},"H2H4",null,{"$f":"VLOOKUP(C26,チーム表!C:D,2,FALSE)","v":"鞍月・三谷アタッカーズ"},"×",{"$f":"組合表!AH23","v":"H4"},"H4H2",null,{"$f":"VLOOKUP(H26,チーム表!C:D,2,FALSE)","v":"鵜川フェニックスジュニア"},null,{"$f":"組合表!AI23","v":"I2"},"I2I4",null,{"$f":"VLOOKUP(M26,チーム表!C:D,2,FALSE)","v":"福光サンダーホープス"},"×",{"$f":"組合表!AJ23","v":"I4"},"I4I2",null,{"$f":"VLOOKUP(R26,チーム表!C:D,2,FALSE)","v":"めちゃげん闘球小僧"},null,{"$f":"組合表!AK23","v":"J2"},"J2J4",null,{"$f":"VLOOKUP(W26,チーム表!C:D,2,FALSE)","v":"鳳至ドッジボールクラブJr"},"×",{"$f":"組合表!AL23","v":"J4"},"J4J2",null,{"$f":"VLOOKUP(AB26,チーム表!C:D,2,FALSE)","v":"松任の大魔陣 Ｊｒ"}]
[21,"13:20:00",{"$f":"組合表!AG24","v":"A2"},"A2A5",null,{"$f":"VLOOKUP(C27,チーム表!C:D,2,FALSE)","v":"パイレーツα"},"×",{"$f":"組合表!AH24","v":"A5"},"A5A2",null,{"$f":"VLOOKUP(H27,チーム表!C:D,2,FALSE)","v":"米丸ドッジボールクラブ"},null,{"$f":"組合表!AI24","v":"B2"},"B2B5",null,{"$f":"VLOOKUP(M27,チーム表!C:D,2,FALSE)","v":"山中SPARS"},"×",{"$f":"組合表!AJ24","v":"B5"},"B5B2",null,{"$f":"VLOOKUP(R27,チーム表!C:D,2,FALSE)","v":"めちゃげん"},null,{"$f":"組合表!AK24","v":"C2"},"C2C5",null,{"$f":"VLOOKUP(W27,チーム表!C:D,2,FALSE)","v":"向本折SPARS"},"×",{"$f":"組合表!AL24","v":"C5"},"C5C2",null,{"$f":"VLOOKUP(AB27,チーム表!C:D,2,FALSE)","v":"三谷Ｄ.Ｂ.Ｃ"}]
[22,"13:30:00",{"$f":"組合表!AG25","v":"D2"},"D2D5",null,{"$f":"VLOOKUP(C28,チーム表!C:D,2,FALSE)","v":"鞍月アタッカーズ"},"×",{"$f":"組合表!AH25","v":"D5"},"D5D2",null,{"$f":"VLOOKUP(H28,チーム表!C:D,2,FALSE)","v":"松任の大魔陣"},null,{"$f":"組合表!AI25","v":"G2"},"G2G5",null,{"$f":"VLOOKUP(M28,チーム表!C:D,2,FALSE)","v":"山中SＴARS"},"×",{"$f":"組合表!AJ25","v":"G5"},"G5G2",null,{"$f":"VLOOKUP(R28,チーム表!C:D,2,FALSE)","v":"田上闘球ＦＵＴＵＲＥＳ"},null,{"$f":"組合表!AK25","v":"A1"},"A1A3",null,{"$f":"VLOOKUP(W28,チーム表!C:D,2,FALSE)","v":"ＮＩＳＨＩファイヤースターズ"},"×",{"$f":"組合表!AL25","v":"A3"},"A3A1",null,{"$f":"VLOOKUP(AB28,チーム表!C:D,2,FALSE)","v":"鳳至ドッジボールクラブ"}]
[23,"13:40:00",{"$f":"組合表!AG26","v":"B1"},"B1B3",null,{"$f":"VLOOKUP(C29,チーム表!C:D,2,FALSE)","v":"桜Ｖ６"},"×",{"$f":"組合表!AH26","v":"B3"},"B3B1",null,{"$f":"VLOOKUP(H29,チーム表!C:D,2,FALSE)","v":"小木クラブ"},null,{"$f":"組合表!AI26","v":"C1"},"C1C3",null,{"$f":"VLOOKUP(M29,チーム表!C:D,2,FALSE)","v":"珠洲クラブ"},"×",{"$f":"組合表!AJ26","v":"C3"},"C3C1",null,{"$f":"VLOOKUP(R29,チーム表!C:D,2,FALSE)","v":"寺井クラブ"},null,{"$f":"組合表!AK26","v":"D1"},"D1D3",null,{"$f":"VLOOKUP(W29,チーム表!C:D,2,FALSE)","v":"杉っ子ドッジファイターズ"},"×",{"$f":"組合表!AL26","v":"D3"},"D3D1",null,{"$f":"VLOOKUP(AB29,チーム表!C:D,2,FALSE)","v":"附属ドッジファイターズ"}]
[24,"13:50:00","C2","C2C4",null,{"$f":"VLOOKUP(C30,チーム表!C:D,2,FALSE)","v":"向本折SPARS"},"×","C4","C4C2",null,{"$f":"VLOOKUP(H30,チーム表!C:D,2,FALSE)","v":"呉羽ドッジボールクラブ"},null,{"$f":"組合表!AI27","v":"A2"},"A2A4",null,{"$f":"VLOOKUP(M30,チーム表!C:D,2,FALSE)","v":"パイレーツα"},"×",{"$f":"組合表!AJ27","v":"A4"},"A4A2",null,{"$f":"VLOOKUP(R30,チーム表!C:D,2,FALSE)","v":"ミラクル元キッズ"},null,{"$f":"組合表!AK27","v":"B2"},"B2B4",null,{"$f":"VLOOKUP(W30,チーム表!C:D,2,FALSE)","v":"山中SPARS"},"×",{"$f":"組合表!AL27","v":"B4"},"B4B2",null,{"$f":"VLOOKUP(AB30,チーム表!C:D,2,FALSE)","v":"Ｇ-Ｓhimozeki"}]
[25,"14:00:00","G1","G1G3",null,{"$f":"VLOOKUP(C31,チーム表!C:D,2,FALSE)","v":"ＮＩＳＨＩ Jr スターズ"},"×","G3","G3G1",null,{"$f":"VLOOKUP(H31,チーム表!C:D,2,FALSE)","v":"奥能登クラブジュニア"},null,{"$f":"組合表!AI28","v":"D2"},"D2D4",null,{"$f":"VLOOKUP(M31,チーム表!C:D,2,FALSE)","v":"鞍月アタッカーズ"},"×",{"$f":"組合表!AJ28","v":"D4"},"D4D2",null,{"$f":"VLOOKUP(R31,チーム表!C:D,2,FALSE)","v":"鵜川ミラクルフェニックス"},null,{"$f":"組合表!AK28","v":"G2"},"G2G4",null,{"$f":"VLOOKUP(W31,チーム表!C:D,2,FALSE)","v":"山中SＴARS"},"×",{"$f":"組合表!AL28","v":"G4"},"G4G2",null,{"$f":"VLOOKUP(AB31,チーム表!C:D,2,FALSE)","v":"呉羽ジュニア"}]
[26,"14:10:00",{"$f":"組合表!AG29","v":"A3"},"A3A5",null,{"$f":"VLOOKUP(C32,チーム表!C:D,2,FALSE)","v":"鳳至ドッジボールクラブ"},"×",{"$f":"組合表!AH29","v":"A5"},"A5A3",null,{"$f":"VLOOKUP(H32,チーム表!C:D,2,FALSE)","v":"米丸ドッジボールクラブ"},null,{"$f":"組合表!AI29","v":"B3"},"B3B5",null,{"$f":"VLOOKUP(M32,チーム表!C:D,2,FALSE)","v":"小木クラブ"},"×",{"$f":"組合表!AJ29","v":"B5"},"B5B3",null,{"$f":"VLOOKUP(R32,チーム表!C:D,2,FALSE)","v":"めちゃげん"},null,{"$f":"組合表!AK29","v":"C3"},"C3C5",null,{"$f":"VLOOKUP(W32,チーム表!C:D,2,FALSE)","v":"寺井クラブ"},"×",{"$f":"組合表!AL29","v":"C5"},"C5C3",null,{"$f":"VLOOKUP(AB32,チーム表!C:D,2,FALSE)","v":"三谷Ｄ.Ｂ.Ｃ"}]
[27,"14:20:00",{"$f":"組合表!AG30","v":"D3"},"D3D5",null,{"$f":"VLOOKUP(C33,チーム表!C:D,2,FALSE)","v":"附属ドッジファイターズ"},"×",{"$f":"組合表!AH30","v":"D5"},"D5D3",null,{"$f":"VLOOKUP(H33,チーム表!C:D,2,FALSE)","v":"松任の大魔陣"},null,{"$f":"組合表!AI30","v":"G3"},"G3G5",null,{"$f":"VLOOKUP(M33,チーム表!C:D,2,FALSE)","v":"奥能登クラブジュニア"},"×",{"$f":"組合表!AJ30","v":"G5"},"G5G3",null,{"$f":"VLOOKUP(R33,チーム表!C:D,2,FALSE)","v":"田上闘球ＦＵＴＵＲＥＳ"},null,{"$f":"組合表!AK30","v":""},"",null,null,"×",{"$f":"組合表!AL30","v":""},""]
[28,"14:40:00",1,null,null,"決勝トーナメント　レギュラーの部　①",{"$nulls":8},1,"決勝トーナメント　レギュラーの部　①",{"$nulls":8},1,"決勝トーナメント　ジュニアの部　①"]
[29,"14:50:00",2,null,null,"決勝トーナメント　レギュラーの部　②",{"$nulls":8},2,"決勝トーナメント　レギュラーの部　②",{"$nulls":8},2,"決勝トーナメント　ジュニアの部　②"]
[30,"15:00:00",3,null,null,"決勝トーナメント　レギュラーの部　③",{"$nulls":8},3,"決勝トーナメント　レギュラーの部　③",{"$nulls":8},3,"決勝トーナメント　ジュニアの部　③"]
[31,"15:10:00",4,null,null,"決勝トーナメント　ジュニアの部　④",{"$nulls":8},4,"決勝トーナメント　レギュラーの部　④",{"$nulls":8},4,"決勝トーナメント　ジュニアの部　準決勝"]
[32,"15:20:00",5,null,null,"決勝トーナメント　レギュラーの部　⑤",{"$nulls":8},5,{"$nulls":9},5,"決勝トーナメント　ジュニアの部　準決勝"]
[33,"15:30:00",6,null,null,"決勝トーナメント　レギュラーの部　準決勝",{"$nulls":8},6,"決勝トーナメント　レギュラーの部　準決勝",{"$nulls":8},6,"決勝トーナメント　ジュニアの部　３位決定戦"]
[34,"15:40:00",7,null,null,"決勝トーナメント　レギュラーの部　３位決定戦",{"$nulls":8},7,"決勝トーナメント　レギュラーの部　決　勝　戦",{"$nulls":8},7,"決勝トーナメント　ジュニアの部　決　勝　戦"]

{"sheet":"リーグ戦表","index":2,"n_rows":133,"n_cols":35,"rows_kept":133,"merged":[[0,0,0,31],[3,0,4,0],[3,1,4,2],[3,3,4,5],[3,6,4,8],[3,9,4,11],[3,12,4,14],[3,15,4,17],[3,18,4,20],[3,21,4,23],[3,24,4,24],[3,25,4,25],[3,26,4,26],[3,27,4,27],[3,28,4,28],[3,29,4,29],[3,30,4,30],[3,31,4,31],[3,32,4,32],[5,0,6,0],[5,1,6,2],[5,3,6,5],[5,24,6,24],[5,25,6,25],[5,26,6,26],[5,27,6,27],[5,28,6,28],[5,29,6,29],[5,30,6,30],[5,31,6,31],[5,32,6,32],[7,0,8,0],[7,1,8,2],[7,6,8,8],[7,24,8,24],[7,25,8,25],[7,26,8,26],[7,27,8,27],[7,28,8,28],[7,29,8,29],[7,30,8,30],[7,31,8,31],[7,32,8,32],[9,0,10,0],[9,1,10,2],[9,9,10,11],[9,24,10,24],[9,25,10,25],[9,26,10,26],[9,27,10,27],[9,28,10,28],[9,29,10,29],[9,30,10,30],[9,31,10,31],[9,32,10,32],[11,0,12,0],[11,1,12,2],[11,12,12,14],[11,24,12,24],[11,25,12,25],[11,26,12,26],[11,27,12,27],[11,28,12,28],[11,29,12,29],[11,30,12,30],[11,31,12,31],[11,32,12,32],[13,0,14,0],[13,1,14,2],[13,15,14,17],[13,24,14,24],[13,25,14,25],[13,26,14,26],[13,27,14,27],[13,28,14,28],[13,29,14,29],[13,30,14,30],[13,31,14,31],[13,32,14,32],[17,0,18,0],[17,1,18,2],[17,3,18,5],[17,6,18,8],[17,9,18,11],[17,12,18,14],[17,15,18,17],[17,18,18,20],[17,21,18,23],[17,24,18,24],[17,25,18,25],[17,26,18,26],[17,27,18,27],[17,28,18,28],[17,29,18,29],[17,30,18,30],[17,31,18,31],[17,32,18,32],[19,0,20,0],[19,1,20,2],[19,3,20,5],[19,24,20,24],[19,25,20,25],[19,26,20,26],[19,27,20,27],[19,28,20,28],[19,29,20,29],[19,30,20,30],[19,31,20,31],[19,32,20,32],[21,0,22,0],[21,1,22,2],[21,6,22,8],[21,24,22,24],[21,25,22,25],[21,26,22,26],[21,27,22,27],[21,28,22,28],[21,29,22,29],[21,30,22,30],[21,31,22,31],[21,32,22,32],[23,0,24,0],[23,1,24,2],[23,9,24,11],[23,24,24,24],[23,25,24,25],[23,26,24,26],[23,27,24,27],[23,28,24,28],[23,29,24,29],[23,30,24,30],[23,31,24,31],[23,32,24,32],[25,0,26,0],[25,1,26,2],[25,12,26,14],[25,24,26,24],[25,25,26,25],[25,26,26,26],[25,27,26,27],[25,28,26,28],[25,29,26,29],[25,30,26,30],[25,31,26,31],[25,32,26,32],[27,0,28,0],[27,1,28,2],[27,15,28,17],[27,24,28,24],[27,25,28,25],[27,26,28,26],[27,27,28,27],[27,28,28,28],[27,29,28,29],[27,30,28,30],[27,31,28,31],[27,32,28,32],[31,0,32,0],[31,1,32,2],[31,3,32,5],[31,6,32,8],[31,9,32,11],[31,12,32,14],[31,15,32,17],[31,18,32,20],[31,21,32,23],[31,24,32,24],[31,25,32,25],[31,26,32,26],[31,27,32,27],[31,28,32,28],[31,29,32,29],[31,30,32,30],[31,31,32,31],[31,32,32,32],[33,0,34,0],[33,1,34,2],[33,3,34,5],[33,24,34,24],[33,25,34,25],[33,26,34,26],[33,27,34,27],[33,28,34,28],[33,29,34,29],[33,30,34,30],[33,31,34,31],[33,32,34,32],[35,0,36,0],[35,1,36,2],[35,6,36,8],[35,24,36,24],[35,25,36,25],[35,26,36,26],[35,27,36,27],[35,28,36,28],[35,29,36,29],[35,30,36,30],[35,31,36,31],[35,32,36,32],[37,0,38,0],[37,1,38,2],[37,9,38,11],[37,24,38,24],[37,25,38,25],[37,26,38,26],[37,27,38,27],[37,28,38,28],[37,29,38,29],[37,30,38,30],[37,31,38,31],[37,32,38,32],[39,0,40,0],[39,1,40,2],[39,12,40,14],[39,24,40,24],[39,25,40,25],[39,26,40,26],[39,27,40,27],[39,28,40,28],[39,29,40,29],[39,30,40,30],[39,31,40,31],[39,32,40,32],[41,0,42,0],[41,1,42,2],[41,15,42,17],[41,24,42,24],[41,25,42,25],[41,26,42,26],[41,27,42,27],[41,28,42,28],[41,29,42,29],[41,30,42,30],[41,31,42,31],[41,32,42,32],[45,0,46,0],[45,1,46,2],[45,3,46,5],[45,6,46,8],[45,9,46,11],[45,12,46,14],[45,15,46,17],[45,18,46,20],[45,21,46,23],[45,24,46,24],[45,25,46,25],[45,26,46,26],[45,27,46,27],[45,28,46,28],[45,29,46,29],[45,30,46,30],[45,31,46,31],[45,32,46,32],[47,0,48,0],[47,1,48,2],[47,3,48,5],[47,24,48,24],[47,25,48,25],[47,26,48,26],[47,27,48,27],[47,28,48,28],[47,29,48,29],[47,30,48,30],[47,31,48,31],[47,32,48,32],[49,0,50,0],[49,1,50,2],[49,6,50,8],[49,24,50,24],[49,25,50,25],[49,26,50,26],[49,27,50,27],[49,28,50,28],[49,29,50,29],[49,30,50,30],[49,31,50,31],[49,32,50,32],[51,0,52,0],[51,1,52,2],[51,9,52,11],[51,24,52,24],[51,25,52,25],[51,26,52,26],[51,27,52,27],[51,28,52,28],[51,29,52,29],[51,30,52,30],[51,31,52,31],[51,32,52,32],[53,0,54,0],[53,1,54,2],[53,12,54,14],[53,24,54,24],[53,25,54,25],[53,26,54,26],[53,27,54,27],[53,28,54,28],[53,29,54,29],[53,30,54,30],[53,31,54,31],[53,32,54,32],[55,0,56,0],[55,1,56,2],[55,15,56,17],[55,24,56,24],[55,25,56,25],[55,26,56,26],[55,27,56,27],[55,28,56,28],[55,29,56,29],[55,30,56,30],[55,31,56,31],[55,32,56,32],[59,0,60,0],[59,1,60,2],[59,3,60,5],[59,6,60,8],[59,9,60,11],[59,12,60,14],[59,15,60,17],[59,18,60,20],[59,21,60,23],[59,24,60,24],[59,25,60,25],[59,26,60,26],[59,27,60,27],[59,28,60,28],[59,29,60,29],[59,30,60,30],[59,31,60,31],[59,32,60,32],[61,0,62,0],[61,1,62,2],[61,3,62,5],[61,24,62,24],[61,25,62,25],[61,26,62,26],[61,27,62,27],[61,28,62,28],[61,29,62,29],[61,30,62,30],[61,31,62,31],[61,32,62,32],[63,0,64,0],[63,1,64,2],[63,6,64,8],[63,24,64,24],[63,25,64,25],[63,26,64,26],[63,27,64,27],[63,28,64,28],[63,29,64,29],[63,30,64,30],[63,31,64,31],[63,32,64,32],[65,0,66,0],[65,1,66,2],[65,9,66,11],[65,24,66,24],[65,25,66,25],[65,26,66,26],[65,27,66,27],[65,28,66,28],[65,29,66,29],[65,30,66,30],[65,31,66,31],[65,32,66,32],[67,0,68,0],[67,1,68,2],[67,12,68,14],[67,24,68,24],[67,25,68,25],[67,26,68,26],[67,27,68,27],[67,28,68,28],[67,29,68,29],[67,30,68,30],[67,31,68,31],[67,32,68,32],[71,0,72,0],[71,1,72,2],[71,3,72,5],[71,6,72,8],[71,9,72,11],[71,12,72,14],[71,15,72,17],[71,18,72,20],[71,21,72,23],[71,24,72,24],[71,25,72,25],[71,26,72,26],[71,27,72,27],[71,28,72,28],[71,29,72,29],[71,30,72,30],[71,31,72,31],[71,32,72,32],[73,0,74,0],[73,1,74,2],[73,3,74,5],[73,24,74,24],[73,25,74,25],[73,26,74,26],[73,27,74,27],[73,28,74,28],[73,29,74,29],[73,30,74,30],[73,31,74,31],[73,32,74,32],[75,0,76,0],[75,1,76,2],[75,6,76,8],[75,24,76,24],[75,25,76,25],[75,26,76,26],[75,27,76,27],[75,28,76,28],[75,29,76,29],[75,30,76,30],[75,31,76,31],[75,32,76,32],[77,0,78,0],[77,1,78,2],[77,9,78,11],[77,24,78,24],[77,25,78,25],[77,26,78,26],[77,27,78,27],[77,28,78,28],[77,29,78,29],[77,30,78,30],[77,31,78,31],[77,32,78,32],[79,0,80,0],[79,1,80,2],[79,12,80,14],[79,24,80,24],[79,25,80,25],[79,26,80,26],[79,27,80,27],[79,28,80,28],[79,29,80,29],[79,30,80,30],[79,31,80,31],[79,32,80,32],[85,0,86,0],[85,1,86,2],[85,3,86,5],[85,6,86,8],[85,9,86,11],[85,12,86,14],[85,15,86,17],[85,18,86,20],[85,21,86,23],[85,24,86,24],[85,25,86,25],[85,26,86,26],[85,27,86,27],[85,28,86,28],[85,29,86,29],[85,30,86,30],[85,31,86,31],[85,32,86,32],[87,0,88,0],[87,1,88,2],[87,3,88,5],[87,24,88,24],[87,25,88,25],[87,26,88,26],[87,27,88,27],[87,28,88,28],[87,29,88,29],[87,30,88,30],[87,31,88,31],[87,32,88,32],[89,0,90,0],[89,1,90,2],[89,6,90,8],[89,24,90,24],[89,25,90,25],[89,26,90,26],[89,27,90,27],[89,28,90,28],[89,29,90,29],[89,30,90,30],[89,31,90,31],[89,32,90,32],[91,0,92,0],[91,1,92,2],[91,9,92,11],[91,24,92,24],[91,25,92,25],[91,26,92,26],[91,27,92,27],[91,28,92,28],[91,29,92,29],[91,30,92,30],[91,31,92,31],[91,32,92,32],[93,0,94,0],[93,1,94,2],[93,12,94,14],[93,24,94,24],[93,25,94,25],[93,26,94,26],[93,27,94,27],[93,28,94,28],[93,29,94,29],[93,30,94,30],[93,31,94,31],[93,32,94,32],[95,0,96,0],[95,1,96,2],[95,15,96,17],[95,24,96,24],[95,25,96,25],[95,26,96,26],[95,27,96,27],[95,28,96,28],[95,29,96,29],[95,30,96,30],[95,31,96,31],[95,32,96,32],[99,0,100,0],[99,1,100,2],[99,3,100,5],[99,6,100,8],[99,9,100,11],[99,12,100,14],[99,15,100,17],[99,18,100,20],[99,21,100,23],[99,24,100,24],[99,25,100,25],[99,26,100,26],[99,27,100,27],[99,28,100,28],[99,29,100,29],[99,30,100,30],[99,31,100,31],[99,32,100,32],[101,0,102,0],[101,1,102,2],[101,3,102,5],[101,24,102,24],[101,25,102,25],[101,26,102,26],[101,27,102,27],[101,28,102,28],[101,29,102,29],[101,30,102,30],[101,31,102,31],[101,32,102,32],[103,0,104,0],[103,1,104,2],[103,6,104,8],[103,24,104,24],[103,25,104,25],[103,26,104,26],[103,27,104,27],[103,28,104,28],[103,29,104,29],[103,30,104,30],[103,31,104,31],[103,32,104,32],[105,0,106,0],[105,1,106,2],[105,9,106,11],[105,24,106,24],[105,25,106,25],[105,26,106,26],[105,27,106,27],[105,28,106,28],[105,29,106,29],[105,30,106,30],[105,31,106,31],[105,32,106,32],[107,0,108,0],[107,1,108,2],[107,12,108,14],[107,24,108,24],[107,25,108,25],[107,26,108,26],[107,27,108,27],[107,28,108,28],[107,29,108,29],[107,30,108,30],[107,31,108,31],[107,32,108,32],[111,0,112,0],[111,1,112,2],[111,3,112,5],[111,6,112,8],[111,9,112,11],[111,12,112,14],[111,15,112,17],[111,18,112,20],[111,21,112,23],[111,24,112,24],[111,25,112,25],[111,26,112,26],[111,27,112,27],[111,28,112,28],[111,29,112,29],[111,30,112,30],[111,31,112,31],[111,32,112,32],[113,0,114,0],[113,1,114,2],[113,3,114,5],[113,24,114,24],[113,25,114,25],[113,26,114,26],[113,27,114,27],[113,28,114,28],[113,29,114,29],[113,30,114,30],[113,31,114,31],[113,32,114,32],[115,0,116,0],[115,1,116,2],[115,6,116,8],[115,24,116,24],[115,25,116,25],[115,26,116,26],[115,27,116,27],[115,28,116,28],[115,29,116,29],[115,30,116,30],[115,31,116,31],[115,32,116,32],[117,0,118,0],[117,1,118,2],[117,9,118,11],[117,24,118,24],[117,25,118,25],[117,26,118,26],[117,27,118,27],[117,28,118,28],[117,29,118,29],[117,30,118,30],[117,31,118,31],[117,32,118,32],[119,0,120,0],[119,1,120,2],[119,12,120,14],[119,24,120,24],[119,25,120,25],[119,26,120,26],[119,27,120,27],[119,28,120,28],[119,29,120,29],[119,30,120,30],[119,31,120,31],[119,32,120,32],[123,0,124,0],[123,1,124,2],[123,3,124,5],[123,6,124,8],[123,9,124,11],[123,12,124,14],[123,15,124,17],[123,18,124,20],[123,21,124,23],[123,24,124,24],[123,25,124,25],[123,26,124,26],[123,27,124,27],[123,28,124,28],[123,29,124,29],[123,30,124,30],[123,31,124,31],[123,32,124,32],[125,0,126,0],[125,1,126,2],[125,3,126,5],[125,24,126,24],[125,25,126,25],[125,26,126,26],[125,27,126,27],[125,28,126,28],[125,29,126,29],[125,30,126,30],[125,31,126,31],[125,32,126,32],[127,0,128,0],[127,1,128,2],[127,6,128,8],[127,24,128,24],[127,25,128,25],[127,26,128,26],[127,27,128,27],[127,28,128,28],[127,29,128,29],[127,30,128,30],[127,31,128,31],[127,32,128,32],[129,0,130,0],[129,1,130,2],[129,9,130,11],[129,24,130,24],[129,25,130,25],[129,26,130,26],[129,27,130,27],[129,28,130,28],[129,29,130,29],[129,30,130,30],[129,31,130,31],[129,32,130,32],[131,0,132,0],[131,1,132,2],[131,12,132,14],[131,24,132,24],[131,25,132,25],[131,26,132,26],[131,27,132,27],[131,28,132,28],[131,29,132,29],[131,30,132,30],[131,31,132,31],[131,32,132,32]]}
[{"$f":"チーム表!$B$1","v":"第１３回　卒業記念ドッジボール大会"}]
[null,"リーグ戦表"]
[{"$nulls":4},{"$f":"CONCATENATE(A4,\"1\")","v":"A1"},null,null,{"$f":"CONCATENATE(A4,\"2\")","v":"A2"},null,null,{"$f":"CONCATENATE(A4,\"3\")","v":"A3"},null,null,{"$f":"CONCATENATE(A4,\"4\")","v":"A4"},null,null,{"$f":"CONCATENATE(A4,\"5\")","v":"A5"}]
["A","チーム名",null,{"$f":"B6","v":"ＮＩＳＨＩファイヤースターズ"},null,null,{"$f":"B8","v":"パイレーツα"},null,null,{"$f":"B10","v":"鳳至ドッジボールクラブ"},null,null,{"$f":"B12","v":"ミラクル元キッズ"},null,null,{"$f":"B14","v":"米丸ドッジボールクラブ"},{"$nulls":8},"勝","負","分","点","内野","順位決定点","相手内野","順位","kaku"]
[]
[{"$f":"CONCATENATE(A4,1)","v":"A1"},{"$f":"VLOOKUP(A6,チーム表!C:D,2,FALSE)","v":"ＮＩＳＨＩファイヤースターズ"},{"$nulls":5},{"$f":"IF(G7=\"\",\"\",IF(G7=I7,\"△\",IF(G7>I7,\"〇\",\"×\")))","v":""},null,null,{"$f":"IF(J7=\"\",\"\",IF(J7=L7,\"△\",IF(J7>L7,\"〇\",\"×\")))","v":""},null,null,{"$f":"IF(M7=\"\",\"\",IF(M7=O7,\"△\",IF(M7>O7,\"〇\",\"×\")))","v":""},null,null,{"$f":"IF(P7=\"\",\"\",IF(P7=R7,\"△\",IF(P7>R7,\"〇\",\"×\")))","v":""},{"$nulls":16},{"$f":"CONCATENATE(A4,AF6)","v":"A"},{"$f":"B6","v":"ＮＩＳＨＩファイヤースターズ"}]
[{"$nulls":7},"-",null,null,"-",null,null,"-",null,null,"-"]
[{"$f":"CONCATENATE(A4,2)","v":"A2"},{"$f":"VLOOKUP(A8,チーム表!C:D,2,FALSE)","v":"パイレーツα"},null,null,{"$f":"IF(D9=\"\",\"\",IF(D9=F9,\"△\",IF(D9>F9,\"〇\",\"×\")))","v":""},{"$nulls":5},{"$f":"IF(J9=\"\",\"\",IF(J9=L9,\"△\",IF(J9>L9,\"〇\",\"×\")))","v":""},null,null,{"$f":"IF(M9=\"\",\"\",IF(M9=O9,\"△\",IF(M9>O9,\"〇\",\"×\")))","v":""},null,null,{"$f":"IF(P9=\"\",\"\",IF(P9=R9,\"△\",IF(P9>R9,\"〇\",\"×\")))","v":""},{"$nulls":16},{"$f":"CONCATENATE(A4,AF8)","v":"A"},{"$f":"B8","v":"パイレーツα"}]
[{"$nulls":3},{"$f":"IF(I7=\"\",\"\",I7)","v":""},"-",{"$f":"IF(G7=\"\",\"\",G7)","v":""},{"$nulls":4},"-",null,null,"-",null,null,"-"]
[{"$f":"CONCATENATE(A4,3)","v":"A3"},{"$f":"VLOOKUP(A10,チーム表!C:D,2,FALSE)","v":"鳳至ドッジボールクラブ"},null,null,{"$f":"IF(D11=\"\",\"\",IF(D11=F11,\"△\",IF(D11>F11,\"〇\",\"×\")))","v":""},null,null,{"$f":"IF(G11=\"\",\"\",IF(G11=I11,\"△\",IF(G11>I11,\"〇\",\"×\")))","v":""},{"$nulls":5},{"$f":"IF(M11=\"\",\"\",IF(M11=O11,\"△\",IF(M11>O11,\"〇\",\"×\")))","v":""},null,null,{"$f":"IF(P11=\"\",\"\",IF(P11=R11,\"△\",IF(P11>R11,\"〇\",\"×\")))","v":""},{"$nulls":16},{"$f":"CONCATENATE(A4,AF10)","v":"A"},{"$f":"B10","v":"鳳至ドッジボールクラブ"}]
[{"$nulls":3},{"$f":"IF(L7=\"\",\"\",L7)","v":""},"-",{"$f":"IF(J7=\"\",\"\",J7)","v":""},{"$f":"IF(L9=\"\",\"\",L9)","v":""},"-",{"$f":"IF(J9=\"\",\"\",J9)","v":""},{"$nulls":4},"-",null,null,"-"]
[{"$f":"CONCATENATE(A4,4)","v":"A4"},{"$f":"VLOOKUP(A12,チーム表!C:D,2,FALSE)","v":"ミラクル元キッズ"},null,null,{"$f":"IF(D13=\"\",\"\",IF(D13=F13,\"△\",IF(D13>F13,\"〇\",\"×\")))","v":""},null,null,{"$f":"IF(G13=\"\",\"\",IF(G13=I13,\"△\",IF(G13>I13,\"〇\",\"×\")))","v":""},null,null,{"$f":"IF(J13=\"\",\"\",IF(J13=L13,\"△\",IF(J13>L13,\"〇\",\"×\")))","v":""},{"$nulls":5},{"$f":"IF(P13=\"\",\"\",IF(P13=R13,\"△\",IF(P13>R13,\"〇\",\"×\")))","v":""},{"$nulls":16},{"$f":"CONCATENATE(A4,AF12)","v":"A"},{"$f":"B12","v":"ミラクル元キッズ"}]
[{"$nulls":3},{"$f":"IF(O7=\"\",\"\",O7)","v":""},"-",{"$f":"IF(M7=\"\",\"\",M7)","v":""},{"$f":"IF(O9=\"\",\"\",O9)","v":""},"-",{"$f":"IF(M9=\"\",\"\",M9)","v":""},{"$f":"IF(O11=\"\",\"\",O11)","v":""},"-",{"$f":"IF(M11=\"\",\"\",M11)","v":""},{"$nulls":4},"-"]
[{"$f":"CONCATENATE(A4,5)","v":"A5"},{"$f":"VLOOKUP(A14,チーム表!C:D,2,FALSE)","v":"米丸ドッジボールクラブ"},null,null,{"$f":"IF(D15=\"\",\"\",IF(D15=F15,\"△\",IF(D15>F15,\"〇\",\"×\")))","v":""},null,null,{"$f":"IF(G15=\"\",\"\",IF(G15=I15,\"△\",IF(G15>I15,\"〇\",\"×\")))","v":""},null,null,{"$f":"IF(J15=\"\",\"\",IF(J15=L15,\"△\",IF(J15>L15,\"〇\",\"×\")))","v":""},null,null,{"$f":"IF(M15=\"\",\"\",IF(M15=O15,\"△\",IF(M15>O15,\"〇\",\"×\")))","v":""},null,{"$f":"IF(P15=\"\",\"\",IF(P15=R15,\"△\",IF(P15>R15,\"〇\",\"×\")))","v":""},{"$nulls":17},{"$f":"CONCATENATE(A4,AF14)","v":"A"},{"$f":"B14","v":"米丸ドッジボールクラブ"}]
[{"$nulls":3},{"$f":"IF($R7=\"\",\"\",$R7)","v":""},"-",{"$f":"IF($P7=\"\",\"\",$P7)","v":""},{"$f":"IF($R9=\"\",\"\",$R9)","v":""},"-",{"$f":"IF($P9=\"\",\"\",$P9)","v":""},{"$f":"IF($R11=\"\",\"\",$R11)","v":""},"-",{"$f":"IF($P11=\"\",\"\",$P11)","v":""},{"$f":"IF($R13=\"\",\"\",$R13)","v":""},"-",{"$f":"IF($P13=\"\",\"\",$P13)","v":""}]
[]
[{"$nulls":4},{"$f":"CONCATENATE(A18,\"1\")","v":"B1"},null,null,{"$f":"CONCATENATE(A18,\"2\")","v":"B2"},null,null,{"$f":"CONCATENATE(A18,\"3\")","v":"B3"},null,null,{"$f":"CONCATENATE(A18,\"4\")","v":"B4"},null,null,{"$f":"CONCATENATE(A18,\"5\")","v":"B5"}]
["B","チーム名",null,{"$f":"B20","v":"桜Ｖ６"},null,null,{"$f":"B22","v":"山中SPARS"},null,null,{"$f":"B24","v":"小木クラブ"},null,null,{"$f":"B26","v":"Ｇ-Ｓhimozeki"},null,null,{"$f":"B28","v":"めちゃげん"},{"$nulls":8},"勝","負","分","点","内野","順位決定点","相手内野","順位","kaku"]
[]
[{"$f":"CONCATENATE(A18,1)","v":"B1"},{"$f":"VLOOKUP(A20,チーム表!C:D,2,FALSE)","v":"桜Ｖ６"},{"$nulls":5},{"$f":"IF(G21=\"\",\"\",IF(G21=I21,\"△\",IF(G21>I21,\"〇\",\"×\")))","v":""},null,null,{"$f":"IF(J21=\"\",\"\",IF(J21=L21,\"△\",IF(J21>L21,\"〇\",\"×\")))","v":""},null,null,{"$f":"IF(M21=\"\",\"\",IF(M21=O21,\"△\",IF(M21>O21,\"〇\",\"×\")))","v":""},null,null,{"$f":"IF(P21=\"\",\"\",IF(P21=R21,\"△\",IF(P21>R21,\"〇\",\"×\")))","v":""},{"$nulls":16},{"$f":"CONCATENATE(A18,AF20)","v":"B"},{"$f":"B20","v":"桜Ｖ６"}]
[{"$nulls":7},"-",null,null,"-",null,null,"-",null,null,"-"]
[{"$f":"CONCATENATE(A18,2)","v":"B2"},{"$f":"VLOOKUP(A22,チーム表!C:D,2,FALSE)","v":"山中SPARS"},null,null,{"$f":"IF(D23=\"\",\"\",IF(D23=F23,\"△\",IF(D23>F23,\"〇\",\"×\")))","v":""},{"$nulls":5},{"$f":"IF(J23=\"\",\"\",IF(J23=L23,\"△\",IF(J23>L23,\"〇\",\"×\")))","v":""},null,null,{"$f":"IF(M23=\"\",\"\",IF(M23=O23,\"△\",IF(M23>O23,\"〇\",\"×\")))","v":""},null,null,{"$f":"IF(P23=\"\",\"\",IF(P23=R23,\"△\",IF(P23>R23,\"〇\",\"×\")))","v":""},{"$nulls":16},{"$f":"CONCATENATE(A18,AF22)","v":"B"},{"$f":"B22","v":"山中SPARS"}]
[{"$nulls":3},{"$f":"IF(I21=\"\",\"\",I21)","v":""},"-",{"$f":"IF(G21=\"\",\"\",G21)","v":""},{"$nulls":4},"-",null,null,"-",null,null,"-"]
[{"$f":"CONCATENATE(A18,3)","v":"B3"},{"$f":"VLOOKUP(A24,チーム表!C:D,2,FALSE)","v":"小木クラブ"},null,null,{"$f":"IF(D25=\"\",\"\",IF(D25=F25,\"△\",IF(D25>F25,\"〇\",\"×\")))","v":""},null,null,{"$f":"IF(G25=\"\",\"\",IF(G25=I25,\"△\",IF(G25>I25,\"〇\",\"×\")))","v":""},{"$nulls":5},{"$f":"IF(M25=\"\",\"\",IF(M25=O25,\"△\",IF(M25>O25,\"〇\",\"×\")))","v":""},null,null,{"$f":"IF(P25=\"\",\"\",IF(P25=R25,\"△\",IF(P25>R25,\"〇\",\"×\")))","v":""},{"$nulls":16},{"$f":"CONCATENATE(A18,AF24)","v":"B"},{"$f":"B24","v":"小木クラブ"}]
[{"$nulls":3},{"$f":"IF(L21=\"\",\"\",L21)","v":""},"-",{"$f":"IF(J21=\"\",\"\",J21)","v":""},{"$f":"IF(L23=\"\",\"\",L23)","v":""},"-",{"$f":"IF(J23=\"\",\"\",J23)","v":""},{"$nulls":4},"-",null,null,"-"]
[{"$f":"CONCATENATE(A18,4)","v":"B4"},{"$f":"VLOOKUP(A26,チーム表!C:D,2,FALSE)","v":"Ｇ-Ｓhimozeki"},null,null,{"$f":"IF(D27=\"\",\"\",IF(D27=F27,\"△\",IF(D27>F27,\"〇\",\"×\")))","v":""},null,null,{"$f":"IF(G27=\"\",\"\",IF(G27=I27,\"△\",IF(G27>I27,\"〇\",\"×\")))","v":""},null,null,{"$f":"IF(J27=\"\",\"\",IF(J27=L27,\"△\",IF(J27>L27,\"〇\",\"×\")))","v":""},{"$nulls":5},{"$f":"IF(P27=\"\",\"\",IF(P27=R27,\"△\",IF(P27>R27,\"〇\",\"×\")))","v":""},{"$nulls":16},{"$f":"CONCATENATE(A18,AF26)","v":"B"},{"$f":"B26","v":"Ｇ-Ｓhimozeki"}]
[{"$nulls":3},{"$f":"IF(O21=\"\",\"\",O21)","v":""},"-",{"$f":"IF(M21=\"\",\"\",M21)","v":""},{"$f":"IF(O23=\"\",\"\",O23)","v":""},"-",{"$f":"IF(M23=\"\",\"\",M23)","v":""},{"$f":"IF(O25=\"\",\"\",O25)","v":""},"-",{"$f":"IF(M25=\"\",\"\",M25)","v":""},{"$nulls":4},"-"]
[{"$f":"CONCATENATE(A18,5)","v":"B5"},{"$f":"VLOOKUP(A28,チーム表!C:D,2,FALSE)","v":"めちゃげん"},null,null,{"$f":"IF(D29=\"\",\"\",IF(D29=F29,\"△\",IF(D29>F29,\"〇\",\"×\")))","v":""},null,null,{"$f":"IF(G29=\"\",\"\",IF(G29=I29,\"△\",IF(G29>I29,\"〇\",\"×\")))","v":""},null,null,{"$f":"IF(J29=\"\",\"\",IF(J29=L29,\"△\",IF(J29>L29,\"〇\",\"×\")))","v":""},null,null,{"$f":"IF(M29=\"\",\"\",IF(M29=O29,\"△\",IF(M29>O29,\"〇\",\"×\")))","v":""},null,{"$f":"IF(P29=\"\",\"\",IF(P29=R29,\"△\",IF(P29>R29,\"〇\",\"×\")))","v":""},{"$nulls":17},{"$f":"CONCATENATE(A18,AF28)","v":"B"},{"$f":"B28","v":"めちゃげん"}]
[{"$nulls":3},{"$f":"IF($R21=\"\",\"\",$R21)","v":""},"-",{"$f":"IF($P21=\"\",\"\",$P21)","v":""},{"$f":"IF($R23=\"\",\"\",$R23)","v":""},"-",{"$f":"IF($P23=\"\",\"\",$P23)","v":""},{"$f":"IF($R25=\"\",\"\",$R25)","v":""},"-",{"$f":"IF($P25=\"\",\"\",$P25)","v":""},{"$f":"IF($R27=\"\",\"\",$R27)","v":""},"-",{"$f":"IF($P27=\"\",\"\",$P27)","v":""}]
[]
[{"$nulls":4},{"$f":"CONCATENATE(A32,\"1\")","v":"C1"},null,null,{"$f":"CONCATENATE(A32,\"2\")","v":"C2"},null,null,{"$f":"CONCATENATE(A32,\"3\")","v":"C3"},null,null,{"$f":"CONCATENATE(A32,\"4\")","v":"C4"},null,null,{"$f":"CONCATENATE(A32,\"5\")","v":"C5"}]
["C","チーム名",null,{"$f":"B34","v":"珠洲クラブ"},null,null,{"$f":"B36","v":"向本折SPARS"},null,null,{"$f":"B38","v":"寺井クラブ"},null,null,{"$f":"B40","v":"呉羽ドッジボールクラブ"},null,null,{"$f":"B42","v":"三谷Ｄ.Ｂ.Ｃ"},{"$nulls":8},"勝","負","分","点","内野","順位決定点","相手内野","順位","kaku"]
[]
[{"$f":"CONCATENATE(A32,1)","v":"C1"},{"$f":"VLOOKUP(A34,チーム表!C:D,2,FALSE)","v":"珠洲クラブ"},{"$nulls":5},{"$f":"IF(G35=\"\",\"\",IF(G35=I35,\"△\",IF(G35>I35,\"〇\",\"×\")))","v":""},null,null,{"$f":"IF(J35=\"\",\"\",IF(J35=L35,\"△\",IF(J35>L35,\"〇\",\"×\")))","v":""},null,null,{"$f":"IF(M35=\"\",\"\",IF(M35=O35,\"△\",IF(M35>O35,\"〇\",\"×\")))","v":""},null,null,{"$f":"IF(P35=\"\",\"\",IF(P35=R35,\"△\",IF(P35>R35,\"〇\",\"×\")))","v":""},{"$nulls":16},{"$f":"CONCATENATE(A32,AF34)","v":"C"},{"$f":"B34","v":"珠洲クラブ"}]
[{"$nulls":7},"-",null,null,"-",null,null,"-",null,null,"-"]
[{"$f":"CONCATENATE(A32,2)","v":"C2"},{"$f":"VLOOKUP(A36,チーム表!C:D,2,FALSE)","v":"向本折SPARS"},null,null,{"$f":"IF(D37=\"\",\"\",IF(D37=F37,\"△\",IF(D37>F37,\"〇\",\"×\")))","v":""},{"$nulls":5},{"$f":"IF(J37=\"\",\"\",IF(J37=L37,\"△\",IF(J37>L37,\"〇\",\"×\")))","v":""},null,null,{"$f":"IF(M37=\"\",\"\",IF(M37=O37,\"△\",IF(M37>O37,\"〇\",\"×\")))","v":""},null,null,{"$f":"IF(P37=\"\",\"\",IF(P37=R37,\"△\",IF(P37>R37,\"〇\",\"×\")))","v":""},{"$nulls":16},{"$f":"CONCATENATE(A32,AF36)","v":"C"},{"$f":"B36","v":"向本折SPARS"}]
[{"$nulls":3},{"$f":"IF(I35=\"\",\"\",I35)","v":""},"-",{"$f":"IF(G35=\"\",\"\",G35)","v":""},{"$nulls":4},"-",null,null,"-",null,null,"-"]
[{"$f":"CONCATENATE(A32,3)","v":"C3"},{"$f":"VLOOKUP(A38,チーム表!C:D,2,FALSE)","v":"寺井クラブ"},null,null,{"$f":"IF(D39=\"\",\"\",IF(D39=F39,\"△\",IF(D39>F39,\"〇\",\"×\")))","v":""},null,null,{"$f":"IF(G39=\"\",\"\",IF(G39=I39,\"△\",IF(G39>I39,\"〇\",\"×\")))","v":""},{"$nulls":5},{"$f":"IF(M39=\"\",\"\",IF(M39=O39,\"△\",IF(M39>O39,\"〇\",\"×\")))","v":""},null,null,{"$f":"IF(P39=\"\",\"\",IF(P39=R39,\"△\",IF(P39>R39,\"〇\",\"×\")))","v":""},{"$nulls":16},{"$f":"CONCATENATE(A32,AF38)","v":"C"},{"$f":"B38","v":"寺井クラブ"}]
[{"$nulls":3},{"$f":"IF(L35=\"\",\"\",L35)","v":""},"-",{"$f":"IF(J35=\"\",\"\",J35)","v":""},{"$f":"IF(L37=\"\",\"\",L37)","v":""},"-",{"$f":"IF(J37=\"\",\"\",J37)","v":""},{"$nulls":4},"-",null,null,"-"]
[{"$f":"CONCATENATE(A32,4)","v":"C4"},{"$f":"VLOOKUP(A40,チーム表!C:D,2,FALSE)","v":"呉羽ドッジボールクラブ"},null,null,{"$f":"IF(D41=\"\",\"\",IF(D41=F41,\"△\",IF(D41>F41,\"〇\",\"×\")))","v":""},null,null,{"$f":"IF(G41=\"\",\"\",IF(G41=I41,\"△\",IF(G41>I41,\"〇\",\"×\")))","v":""},null,null,{"$f":"IF(J41=\"\",\"\",IF(J41=L41,\"△\",IF(J41>L41,\"〇\",\"×\")))","v":""},{"$nulls":5},{"$f":"IF(P41=\"\",\"\",IF(P41=R41,\"△\",IF(P41>R41,\"〇\",\"×\")))","v":""},{"$nulls":16},{"$f":"CONCATENATE(A32,AF40)","v":"C"},{"$f":"B40","v":"呉羽ドッジボールクラブ"}]
[{"$nulls":3},{"$f":"IF(O35=\"\",\"\",O35)","v":""},"-",{"$f":"IF(M35=\"\",\"\",M35)","v":""},{"$f":"IF(O37=\"\",\"\",O37)","v":""},"-",{"$f":"IF(M37=\"\",\"\",M37)","v":""},{"$f":"IF(O39=\"\",\"\",O39)","v":""},"-",{"$f":"IF(M39=\"\",\"\",M39)","v":""},{"$nulls":4},"-"]
[{"$f":"CONCATENATE(A32,5)","v":"C5"},{"$f":"VLOOKUP(A42,チーム表!C:D,2,FALSE)","v":"三谷Ｄ.Ｂ.Ｃ"},null,null,{"$f":"IF(D43=\"\",\"\",IF(D43=F43,\"△\",IF(D43>F43,\"〇\",\"×\")))","v":""},null,null,{"$f":"IF(G43=\"\",\"\",IF(G43=I43,\"△\",IF(G43>I43,\"〇\",\"×\")))","v":""},null,null,{"$f":"IF(J43=\"\",\"\",IF(J43=L43,\"△\",IF(J43>L43,\"〇\",\"×\")))","v":""},null,null,{"$f":"IF(M43=\"\",\"\",IF(M43=O43,\"△\",IF(M43>O43,\"〇\",\"×\")))","v":""},null,{"$f":"IF(P43=\"\",\"\",IF(P43=R43,\"△\",IF(P43>R43,\"〇\",\"×\")))","v":""},{"$nulls":17},{"$f":"CONCATENATE(A32,AF42)","v":"C"},{"$f":"B42","v":"三谷Ｄ.Ｂ.Ｃ"}]
[{"$nulls":3},{"$f":"IF($R35=\"\",\"\",$R35)","v":""},"-",{"$f":"IF($P35=\"\",\"\",$P35)","v":""},{"$f":"IF($R37=\"\",\"\",$R37)","v":""},"-",{"$f":"IF($P37=\"\",\"\",$P37)","v":""},{"$f":"IF($R39=\"\",\"\",$R39)","v":""},"-",{"$f":"IF($P39=\"\",\"\",$P39)","v":""},{"$f":"IF($R41=\"\",\"\",$R41)","v":""},"-",{"$f":"IF($P41=\"\",\"\",$P41)","v":""}]
[]
[{"$nulls":4},{"$f":"CONCATENATE(A46,\"1\")","v":"D1"},null,null,{"$f":"CONCATENATE(A46,\"2\")","v":"D2"},null,null,{"$f":"CONCATENATE(A46,\"3\")","v":"D3"},null,null,{"$f":"CONCATENATE(A46,\"4\")","v":"D4"},null,null,{"$f":"CONCATENATE(A46,\"5\")","v":"D5"}]
["D","チーム名",null,{"$f":"B48","v":"杉っ子ドッジファイターズ"},null,null,{"$f":"B50","v":"鞍月アタッカーズ"},null,null,{"$f":"B52","v":"附属ドッジファイターズ"},null,null,{"$f":"B54","v":"鵜川ミラクルフェニックス"},null,null,{"$f":"B56","v":"松任の大魔陣"},{"$nulls":8},"勝","負","分","点","内野","順位決定点","相手内野","順位","kaku"]
[]
[{"$f":"CONCATENATE(A46,1)","v":"D1"},{"$f":"VLOOKUP(A48,チーム表!C:D,2,FALSE)","v":"杉っ子ドッジファイターズ"},{"$nulls":5},{"$f":"IF(G49=\"\",\"\",IF(G49=I49,\"△\",IF(G49>I49,\"〇\",\"×\")))","v":""},null,null,{"$f":"IF(J49=\"\",\"\",IF(J49=L49,\"△\",IF(J49>L49,\"〇\",\"×\")))","v":""},null,null,{"$f":"IF(M49=\"\",\"\",IF(M49=O49,\"△\",IF(M49>O49,\"〇\",\"×\")))","v":""},null,null,{"$f":"IF(P49=\"\",\"\",IF(P49=R49,\"△\",IF(P49>R49,\"〇\",\"×\")))","v":""},{"$nulls":16},{"$f":"CONCATENATE(A46,AF48)","v":"D"},{"$f":"B48","v":"杉っ子ドッジファイターズ"}]
[{"$nulls":7},"-",null,null,"-",null,null,"-",null,null,"-"]
[{"$f":"CONCATENATE(A46,2)","v":"D2"},{"$f":"VLOOKUP(A50,チーム表!C:D,2,FALSE)","v":"鞍月アタッカーズ"},null,null,{"$f":"IF(D51=\"\",\"\",IF(D51=F51,\"△\",IF(D51>F51,\"〇\",\"×\")))","v":""},{"$nulls":5},{"$f":"IF(J51=\"\",\"\",IF(J51=L51,\"△\",IF(J51>L51,\"〇\",\"×\")))","v":""},null,null,{"$f":"IF(M51=\"\",\"\",IF(M51=O51,\"△\",IF(M51>O51,\"〇\",\"×\")))","v":""},null,null,{"$f":"IF(P51=\"\",\"\",IF(P51=R51,\"△\",IF(P51>R51,\"〇\",\"×\")))","v":""},{"$nulls":16},{"$f":"CONCATENATE(A46,AF50)","v":"D"},{"$f":"B50","v":"鞍月アタッカーズ"}]
[{"$nulls":3},{"$f":"IF(I49=\"\",\"\",I49)","v":""},"-",{"$f":"IF(G49=\"\",\"\",G49)","v":""},{"$nulls":4},"-",null,null,"-",null,null,"-"]
[{"$f":"CONCATENATE(A46,3)","v":"D3"},{"$f":"VLOOKUP(A52,チーム表!C:D,2,FALSE)","v":"附属ドッジファイターズ"},null,null,{"$f":"IF(D53=\"\",\"\",IF(D53=F53,\"△\",IF(D53>F53,\"〇\",\"×\")))","v":""},null,null,{"$f":"IF(G53=\"\",\"\",IF(G53=I53,\"△\",IF(G53>I53,\"〇\",\"×\")))","v":""},{"$nulls":5},{"$f":"IF(M53=\"\",\"\",IF(M53=O53,\"△\",IF(M53>O53,\"〇\",\"×\")))","v":""},null,null,{"$f":"IF(P53=\"\",\"\",IF(P53=R53,\"△\",IF(P53>R53,\"〇\",\"×\")))","v":""},{"$nulls":16},{"$f":"CONCATENATE(A46,AF52)","v":"D"},{"$f":"B52","v":"附属ドッジファイターズ"}]
[{"$nulls":3},{"$f":"IF(L49=\"\",\"\",L49)","v":""},"-",{"$f":"IF(J49=\"\",\"\",J49)","v":""},{"$f":"IF(L51=\"\",\"\",L51)","v":""},"-",{"$f":"IF(J51=\"\",\"\",J51)","v":""},{"$nulls":4},"-",null,null,"-"]
[{"$f":"CONCATENATE(A46,4)","v":"D4"},{"$f":"VLOOKUP(A54,チーム表!C:D,2,FALSE)","v":"鵜川ミラクルフェニックス"},null,null,{"$f":"IF(D55=\"\",\"\",IF(D55=F55,\"△\",IF(D55>F55,\"〇\",\"×\")))","v":""},null,null,{"$f":"IF(G55=\"\",\"\",IF(G55=I55,\"△\",IF(G55>I55,\"〇\",\"×\")))","v":""},null,null,{"$f":"IF(J55=\"\",\"\",IF(J55=L55,\"△\",IF(J55>L55,\"〇\",\"×\")))","v":""},{"$nulls":5},{"$f":"IF(P55=\"\",\"\",IF(P55=R55,\"△\",IF(P55>R55,\"〇\",\"×\")))","v":""},{"$nulls":16},{"$f":"CONCATENATE(A46,AF54)","v":"D"},{"$f":"B54","v":"鵜川ミラクルフェニックス"}]
[{"$nulls":3},{"$f":"IF(O49=\"\",\"\",O49)","v":""},"-",{"$f":"IF(M49=\"\",\"\",M49)","v":""},{"$f":"IF(O51=\"\",\"\",O51)","v":""},"-",{"$f":"IF(M51=\"\",\"\",M51)","v":""},{"$f":"IF(O53=\"\",\"\",O53)","v":""},"-",{"$f":"IF(M53=\"\",\"\",M53)","v":""},{"$nulls":4},"-"]
[{"$f":"CONCATENATE(A46,5)","v":"D5"},{"$f":"VLOOKUP(A56,チーム表!C:D,2,FALSE)","v":"松任の大魔陣"},null,null,{"$f":"IF(D57=\"\",\"\",IF(D57=F57,\"△\",IF(D57>F57,\"〇\",\"×\")))","v":""},null,null,{"$f":"IF(G57=\"\",\"\",IF(G57=I57,\"△\",IF(G57>I57,\"〇\",\"×\")))","v":""},null,null,{"$f":"IF(J57=\"\",\"\",IF(J57=L57,\"△\",IF(J57>L57,\"〇\",\"×\")))","v":""},null,null,{"$f":"IF(M57=\"\",\"\",IF(M57=O57,\"△\",IF(M57>O57,\"〇\",\"×\")))","v":""},null,{"$f":"IF(P57=\"\",\"\",IF(P57=R57,\"△\",IF(P57>R57,\"〇\",\"×\")))","v":""},{"$nulls":17},{"$f":"CONCATENATE(A46,AF56)","v":"D"},{"$f":"B56","v":"松任の大魔陣"}]
[{"$nulls":3},{"$f":"IF($R49=\"\",\"\",$R49)","v":""},"-",{"$f":"IF($P49=\"\",\"\",$P49)","v":""},{"$f":"IF($R51=\"\",\"\",$R51)","v":""},"-",{"$f":"IF($P51=\"\",\"\",$P51)","v":""},{"$f":"IF($R53=\"\",\"\",$R53)","v":""},"-",{"$f":"IF($P53=\"\",\"\",$P53)","v":""},{"$f":"IF($R55=\"\",\"\",$R55)","v":""},"-",{"$f":"IF($P55=\"\",\"\",$P55)","v":""}]
[]
[{"$nulls":4},{"$f":"CONCATENATE(A60,\"1\")","v":"E1"},null,null,{"$f":"CONCATENATE(A60,\"2\")","v":"E2"},null,null,{"$f":"CONCATENATE(A60,\"3\")","v":"E3"},null,null,{"$f":"CONCATENATE(A60,\"4\")","v":"E4"}]
["E","チーム名",null,{"$f":"B62","v":"千坂ドッジファイヤーズ"},null,null,{"$f":"B64","v":"福光サンダージュニア"},null,null,{"$f":"B66","v":"向本折クラブＡ"},null,null,{"$f":"B68","v":"田上闘球DREAMS"},{"$nulls":11},"勝","負","分","点","内野","順位決定点","相手内野","順位","kaku"]
[]
[{"$f":"CONCATENATE(A60,1)","v":"E1"},{"$f":"VLOOKUP(A62,チーム表!C:D,2,FALSE)","v":"千坂ドッジファイヤーズ"},{"$nulls":5},{"$f":"IF(G63=\"\",\"\",IF(G63=I63,\"△\",IF(G63>I63,\"〇\",\"×\")))","v":""},null,null,{"$f":"IF(J63=\"\",\"\",IF(J63=L63,\"△\",IF(J63>L63,\"〇\",\"×\")))","v":""},null,null,{"$f":"IF(M63=\"\",\"\",IF(M63=O63,\"△\",IF(M63>O63,\"〇\",\"×\")))","v":""},{"$nulls":19},{"$f":"CONCATENATE(A60,AF62)","v":"E"},{"$f":"B62","v":"千坂ドッジファイヤーズ"}]
[{"$nulls":7},"-",null,null,"-",null,null,"-"]
[{"$f":"CONCATENATE(A60,2)","v":"E2"},{"$f":"VLOOKUP(A64,チーム表!C:D,2,FALSE)","v":"福光サンダージュニア"},null,null,{"$f":"IF(D65=\"\",\"\",IF(D65=F65,\"△\",IF(D65>F65,\"〇\",\"×\")))","v":""},{"$nulls":5},{"$f":"IF(J65=\"\",\"\",IF(J65=L65,\"△\",IF(J65>L65,\"〇\",\"×\")))","v":""},null,null,{"$f":"IF(M65=\"\",\"\",IF(M65=O65,\"△\",IF(M65>O65,\"〇\",\"×\")))","v":""},{"$nulls":19},{"$f":"CONCATENATE(A60,AF64)","v":"E"},{"$f":"B64","v":"福光サンダージュニア"}]
[{"$nulls":3},{"$f":"IF(I63=\"\",\"\",I63)","v":""},"-",{"$f":"IF(G63=\"\",\"\",G63)","v":""},{"$nulls":4},"-",null,null,"-"]
[{"$f":"CONCATENATE(A60,3)","v":"E3"},{"$f":"VLOOKUP(A66,チーム表!C:D,2,FALSE)","v":"向本折クラブＡ"},null,null,{"$f":"IF(D67=\"\",\"\",IF(D67=F67,\"△\",IF(D67>F67,\"〇\",\"×\")))","v":""},null,null,{"$f":"IF(G67=\"\",\"\",IF(G67=I67,\"△\",IF(G67>I67,\"〇\",\"×\")))","v":""},{"$nulls":5},{"$f":"IF(M67=\"\",\"\",IF(M67=O67,\"△\",IF(M67>O67,\"〇\",\"×\")))","v":""},{"$nulls":19},{"$f":"CONCATENATE(A60,AF66)","v":"E"},{"$f":"B66","v":"向本折クラブＡ"}]
[{"$nulls":3},{"$f":"IF(L63=\"\",\"\",L63)","v":""},"-",{"$f":"IF(J63=\"\",\"\",J63)","v":""},{"$f":"IF(L65=\"\",\"\",L65)","v":""},"-",{"$f":"IF(J65=\"\",\"\",J65)","v":""},{"$nulls":4},"-"]
[{"$f":"CONCATENATE(A60,4)","v":"E4"},{"$f":"VLOOKUP(A68,チーム表!C:D,2,FALSE)","v":"田上闘球DREAMS"},null,null,{"$f":"IF(D69=\"\",\"\",IF(D69=F69,\"△\",IF(D69>F69,\"〇\",\"×\")))","v":""},null,null,{"$f":"IF(G69=\"\",\"\",IF(G69=I69,\"△\",IF(G69>I69,\"〇\",\"×\")))","v":""},null,null,{"$f":"IF(J69=\"\",\"\",IF(J69=L69,\"△\",IF(J69>L69,\"〇\",\"×\")))","v":""},{"$nulls":22},{"$f":"CONCATENATE(A60,AF68)","v":"E"},{"$f":"B68","v":"田上闘球DREAMS"}]
[{"$nulls":3},{"$f":"IF(O63=\"\",\"\",O63)","v":""},"-",{"$f":"IF(M63=\"\",\"\",M63)","v":""},{"$f":"IF(O65=\"\",\"\",O65)","v":""},"-",{"$f":"IF(M65=\"\",\"\",M65)","v":""},{"$f":"IF(O67=\"\",\"\",O67)","v":""},"-",{"$f":"IF(M67=\"\",\"\",M67)","v":""}]
[]
[{"$nulls":4},{"$f":"CONCATENATE(A72,\"1\")","v":"F1"},null,null,{"$f":"CONCATENATE(A72,\"2\")","v":"F2"},null,null,{"$f":"CONCATENATE(A72,\"3\")","v":"F3"},null,null,{"$f":"CONCATENATE(A72,\"4\")","v":"F4"}]
["F","チーム名",null,{"$f":"B74","v":"珠洲魂８ "},null,null,{"$f":"B76","v":"三馬パワフル"},null,null,{"$f":"B78","v":"敦賀西ホワイトキッズ　"},null,null,{"$f":"B80","v":"五福ダイヤモンドサンズ"},{"$nulls":11},"勝","負","分","点","内野","順位決定点","相手内野","順位","kaku"]
[]
[{"$f":"CONCATENATE(A72,1)","v":"F1"},{"$f":"VLOOKUP(A74,チーム表!C:D,2,FALSE)","v":"珠洲魂８ "},{"$nulls":5},{"$f":"IF(G75=\"\",\"\",IF(G75=I75,\"△\",IF(G75>I75,\"〇\",\"×\")))","v":""},null,null,{"$f":"IF(J75=\"\",\"\",IF(J75=L75,\"△\",IF(J75>L75,\"〇\",\"×\")))","v":""},null,null,{"$f":"IF(M75=\"\",\"\",IF(M75=O75,\"△\",IF(M75>O75,\"〇\",\"×\")))","v":""},{"$nulls":19},{"$f":"CONCATENATE(A72,AF74)","v":"F"},{"$f":"B74","v":"珠洲魂８ "}]
[{"$nulls":7},"-",null,null,"-",null,null,"-"]
[{"$f":"CONCATENATE(A72,2)","v":"F2"},{"$f":"VLOOKUP(A76,チーム表!C:D,2,FALSE)","v":"三馬パワフル"},null,null,{"$f":"IF(D77=\"\",\"\",IF(D77=F77,\"△\",IF(D77>F77,\"〇\",\"×\")))","v":""},{"$nulls":5},{"$f":"IF(J77=\"\",\"\",IF(J77=L77,\"△\",IF(J77>L77,\"〇\",\"×\")))","v":""},null,null,{"$f":"IF(M77=\"\",\"\",IF(M77=O77,\"△\",IF(M77>O77,\"〇\",\"×\")))","v":""},{"$nulls":19},{"$f":"CONCATENATE(A72,AF76)","v":"F"},{"$f":"B76","v":"三馬パワフル"}]
[{"$nulls":3},{"$f":"IF(I75=\"\",\"\",I75)","v":""},"-",{"$f":"IF(G75=\"\",\"\",G75)","v":""},{"$nulls":4},"-",null,null,"-"]
[{"$f":"CONCATENATE(A72,3)","v":"F3"},{"$f":"VLOOKUP(A78,チーム表!C:D,2,FALSE)","v":"敦賀西ホワイトキッズ　"},null,null,{"$f":"IF(D79=\"\",\"\",IF(D79=F79,\"△\",IF(D79>F79,\"〇\",\"×\")))","v":""},null,null,{"$f":"IF(G79=\"\",\"\",IF(G79=I79,\"△\",IF(G79>I79,\"〇\",\"×\")))","v":""},{"$nulls":5},{"$f":"IF(M79=\"\",\"\",IF(M79=O79,\"△\",IF(M79>O79,\"〇\",\"×\")))","v":""},{"$nulls":19},{"$f":"CONCATENATE(A72,AF78)","v":"F"},{"$f":"B78","v":"敦賀西ホワイトキッズ　"}]
[{"$nulls":3},{"$f":"IF(L75=\"\",\"\",L75)","v":""},"-",{"$f":"IF(J75=\"\",\"\",J75)","v":""},{"$f":"IF(L77=\"\",\"\",L77)","v":""},"-",{"$f":"IF(J77=\"\",\"\",J77)","v":""},{"$nulls":4},"-"]
[{"$f":"CONCATENATE(A72,4)","v":"F4"},{"$f":"VLOOKUP(A80,チーム表!C:D,2,FALSE)","v":"五福ダイヤモンドサンズ"},null,null,{"$f":"IF(D81=\"\",\"\",IF(D81=F81,\"△\",IF(D81>F81,\"〇\",\"×\")))","v":""},null,null,{"$f":"IF(G81=\"\",\"\",IF(G81=I81,\"△\",IF(G81>I81,\"〇\",\"×\")))","v":""},null,null,{"$f":"IF(J81=\"\",\"\",IF(J81=L81,\"△\",IF(J81>L81,\"〇\",\"×\")))","v":""},{"$nulls":22},{"$f":"CONCATENATE(A72,AF80)","v":"F"},{"$f":"B80","v":"五福ダイヤモンドサンズ"}]
[{"$nulls":3},{"$f":"IF(O75=\"\",\"\",O75)","v":""},"-",{"$f":"IF(M75=\"\",\"\",M75)","v":""},{"$f":"IF(O77=\"\",\"\",O77)","v":""},"-",{"$f":"IF(M77=\"\",\"\",M77)","v":""},{"$f":"IF(O79=\"\",\"\",O79)","v":""},"-",{"$f":"IF(M79=\"\",\"\",M79)","v":""}]
[]
[]
[null,"ジュニアの部"]
[{"$nulls":4},{"$f":"CONCATENATE(A86,\"1\")","v":"G1"},null,null,{"$f":"CONCATENATE(A86,\"2\")","v":"G2"},null,null,{"$f":"CONCATENATE(A86,\"3\")","v":"G3"},null,null,{"$f":"CONCATENATE(A86,\"4\")","v":"G4"},null,null,{"$f":"CONCATENATE(A86,\"5\")","v":"G5"}]
["G","チーム名",null,{"$f":"B88","v":"ＮＩＳＨＩ Jr スターズ"},null,null,{"$f":"B90","v":"山中SＴARS"},null,null,{"$f":"B92","v":"奥能登クラブジュニア"},null,null,{"$f":"B94","v":"呉羽ジュニア"},null,null,{"$f":"B96","v":"田上闘球ＦＵＴＵＲＥＳ"},{"$nulls":8},"勝","負","分","点","内野","順位決定点","相手内野","順位","kaku"]
[]
[{"$f":"CONCATENATE(A86,1)","v":"G1"},{"$f":"VLOOKUP(A88,チーム表!C:D,2,FALSE)","v":"ＮＩＳＨＩ Jr スターズ"},{"$nulls":5},{"$f":"IF(G89=\"\",\"\",IF(G89=I89,\"△\",IF(G89>I89,\"〇\",\"×\")))","v":""},null,null,{"$f":"IF(J89=\"\",\"\",IF(J89=L89,\"△\",IF(J89>L89,\"〇\",\"×\")))","v":""},null,null,{"$f":"IF(M89=\"\",\"\",IF(M89=O89,\"△\",IF(M89>O89,\"〇\",\"×\")))","v":""},null,null,{"$f":"IF(P89=\"\",\"\",IF(P89=R89,\"△\",IF(P89>R89,\"〇\",\"×\")))","v":""},{"$nulls":16},{"$f":"CONCATENATE(A86,AF88)","v":"G"},{"$f":"B88","v":"ＮＩＳＨＩ Jr スターズ"}]
[{"$nulls":7},"-",null,null,"-",null,null,"-",null,null,"-"]
[{"$f":"CONCATENATE(A86,2)","v":"G2"},{"$f":"VLOOKUP(A90,チーム表!C:D,2,FALSE)","v":"山中SＴARS"},null,null,{"$f":"IF(D91=\"\",\"\",IF(D91=F91,\"△\",IF(D91>F91,\"〇\",\"×\")))","v":""},{"$nulls":5},{"$f":"IF(J91=\"\",\"\",IF(J91=L91,\"△\",IF(J91>L91,\"〇\",\"×\")))","v":""},null,null,{"$f":"IF(M91=\"\",\"\",IF(M91=O91,\"△\",IF(M91>O91,\"〇\",\"×\")))","v":""},null,null,{"$f":"IF(P91=\"\",\"\",IF(P91=R91,\"△\",IF(P91>R91,\"〇\",\"×\")))","v":""},{"$nulls":16},{"$f":"CONCATENATE(A86,AF90)","v":"G"},{"$f":"B90","v":"山中SＴARS"}]
[{"$nulls":3},{"$f":"IF(I89=\"\",\"\",I89)","v":""},"-",{"$f":"IF(G89=\"\",\"\",G89)","v":""},{"$nulls":4},"-",null,null,"-",null,null,"-"]
[{"$f":"CONCATENATE(A86,3)","v":"G3"},{"$f":"VLOOKUP(A92,チーム表!C:D,2,FALSE)","v":"奥能登クラブジュニア"},null,null,{"$f":"IF(D93=\"\",\"\",IF(D93=F93,\"△\",IF(D93>F93,\"〇\",\"×\")))","v":""},null,null,{"$f":"IF(G93=\"\",\"\",IF(G93=I93,\"△\",IF(G93>I93,\"〇\",\"×\")))","v":""},{"$nulls":5},{"$f":"IF(M93=\"\",\"\",IF(M93=O93,\"△\",IF(M93>O93,\"〇\",\"×\")))","v":""},null,null,{"$f":"IF(P93=\"\",\"\",IF(P93=R93,\"△\",IF(P93>R93,\"〇\",\"×\")))","v":""},{"$nulls":16},{"$f":"CONCATENATE(A86,AF92)","v":"G"},{"$f":"B92","v":"奥能登クラブジュニア"}]
[{"$nulls":3},{"$f":"IF(L89=\"\",\"\",L89)","v":""},"-",{"$f":"IF(J89=\"\",\"\",J89)","v":""},{"$f":"IF(L91=\"\",\"\",L91)","v":""},"-",{"$f":"IF(J91=\"\",\"\",J91)","v":""},{"$nulls":4},"-",null,null,"-"]
[{"$f":"CONCATENATE(A86,4)","v":"G4"},{"$f":"VLOOKUP(A94,チーム表!C:D,2,FALSE)","v":"呉羽ジュニア"},null,null,{"$f":"IF(D95=\"\",\"\",IF(D95=F95,\"△\",IF(D95>F95,\"〇\",\"×\")))","v":""},null,null,{"$f":"IF(G95=\"\",\"\",IF(G95=I95,\"△\",IF(G95>I95,\"〇\",\"×\")))","v":""},null,null,{"$f":"IF(J95=\"\",\"\",IF(J95=L95,\"△\",IF(J95>L95,\"〇\",\"×\")))","v":""},{"$nulls":5},{"$f":"IF(P95=\"\",\"\",IF(P95=R95,\"△\",IF(P95>R95,\"〇\",\"×\")))","v":""},{"$nulls":16},{"$f":"CONCATENATE(A86,AF94)","v":"G"},{"$f":"B94","v":"呉羽ジュニア"}]
[{"$nulls":3},{"$f":"IF(O89=\"\",\"\",O89)","v":""},"-",{"$f":"IF(M89=\"\",\"\",M89)","v":""},{"$f":"IF(O91=\"\",\"\",O91)","v":""},"-",{"$f":"IF(M91=\"\",\"\",M91)","v":""},{"$f":"IF(O93=\"\",\"\",O93)","v":""},"-",{"$f":"IF(M93=\"\",\"\",M93)","v":""},{"$nulls":4},"-"]
[{"$f":"CONCATENATE(A86,5)","v":"G5"},{"$f":"VLOOKUP(A96,チーム表!C:D,2,FALSE)","v":"田上闘球ＦＵＴＵＲＥＳ"},null,null,{"$f":"IF(D97=\"\",\"\",IF(D97=F97,\"△\",IF(D97>F97,\"〇\",\"×\")))","v":""},null,null,{"$f":"IF(G97=\"\",\"\",IF(G97=I97,\"△\",IF(G97>I97,\"〇\",\"×\")))","v":""},null,null,{"$f":"IF(J97=\"\",\"\",IF(J97=L97,\"△\",IF(J97>L97,\"〇\",\"×\")))","v":""},null,null,{"$f":"IF(M97=\"\",\"\",IF(M97=O97,\"△\",IF(M97>O97,\"〇\",\"×\")))","v":""},null,{"$f":"IF(P97=\"\",\"\",IF(P97=R97,\"△\",IF(P97>R97,\"〇\",\"×\")))","v":""},{"$nulls":17},{"$f":"CONCATENATE(A86,AF96)","v":"G"},{"$f":"B96","v":"田上闘球ＦＵＴＵＲＥＳ"}]
[{"$nulls":3},{"$f":"IF($R89=\"\",\"\",$R89)","v":""},"-",{"$f":"IF($P89=\"\",\"\",$P89)","v":""},{"$f":"IF($R91=\"\",\"\",$R91)","v":""},"-",{"$f":"IF($P91=\"\",\"\",$P91)","v":""},{"$f":"IF($R93=\"\",\"\",$R93)","v":""},"-",{"$f":"IF($P93=\"\",\"\",$P93)","v":""},{"$f":"IF($R95=\"\",\"\",$R95)","v":""},"-",{"$f":"IF($P95=\"\",\"\",$P95)","v":""}]
[]
[{"$nulls":4},{"$f":"CONCATENATE(A100,\"1\")","v":"H1"},null,null,{"$f":"CONCATENATE(A100,\"2\")","v":"H2"},null,null,{"$f":"CONCATENATE(A100,\"3\")","v":"H3"},null,null,{"$f":"CONCATENATE(A100,\"4\")","v":"H4"}]
["H","チーム名",null,{"$f":"B102","v":"桜Ｖ３"},null,null,{"$f":"B104","v":"鞍月・三谷アタッカーズ"},null,null,{"$f":"B106","v":"寺井クラブJr."},null,null,{"$f":"B108","v":"鵜川フェニックスジュニア"},{"$nulls":11},"勝","負","分","点","内野","順位決定点","相手内野","順位","kaku"]
[]
[{"$f":"CONCATENATE(A100,1)","v":"H1"},{"$f":"VLOOKUP(A102,チーム表!C:D,2,FALSE)","v":"桜Ｖ３"},{"$nulls":5},{"$f":"IF(G103=\"\",\"\",IF(G103=I103,\"△\",IF(G103>I103,\"〇\",\"×\")))","v":""},null,null,{"$f":"IF(J103=\"\",\"\",IF(J103=L103,\"△\",IF(J103>L103,\"〇\",\"×\")))","v":""},null,null,{"$f":"IF(M103=\"\",\"\",IF(M103=O103,\"△\",IF(M103>O103,\"〇\",\"×\")))","v":""},{"$nulls":19},{"$f":"CONCATENATE(A100,AF102)","v":"H"},{"$f":"B102","v":"桜Ｖ３"}]
[{"$nulls":7},"-",null,null,"-",null,null,"-"]
[{"$f":"CONCATENATE(A100,2)","v":"H2"},{"$f":"VLOOKUP(A104,チーム表!C:D,2,FALSE)","v":"鞍月・三谷アタッカーズ"},null,null,{"$f":"IF(D105=\"\",\"\",IF(D105=F105,\"△\",IF(D105>F105,\"〇\",\"×\")))","v":""},{"$nulls":5},{"$f":"IF(J105=\"\",\"\",IF(J105=L105,\"△\",IF(J105>L105,\"〇\",\"×\")))","v":""},null,null,{"$f":"IF(M105=\"\",\"\",IF(M105=O105,\"△\",IF(M105>O105,\"〇\",\"×\")))","v":""},{"$nulls":19},{"$f":"CONCATENATE(A100,AF104)","v":"H"},{"$f":"B104","v":"鞍月・三谷アタッカーズ"}]
[{"$nulls":3},{"$f":"IF(I103=\"\",\"\",I103)","v":""},"-",{"$f":"IF(G103=\"\",\"\",G103)","v":""},{"$nulls":4},"-",null,null,"-"]
[{"$f":"CONCATENATE(A100,3)","v":"H3"},{"$f":"VLOOKUP(A106,チーム表!C:D,2,FALSE)","v":"寺井クラブJr."},null,null,{"$f":"IF(D107=\"\",\"\",IF(D107=F107,\"△\",IF(D107>F107,\"〇\",\"×\")))","v":""},null,null,{"$f":"IF(G107=\"\",\"\",IF(G107=I107,\"△\",IF(G107>I107,\"〇\",\"×\")))","v":""},{"$nulls":5},{"$f":"IF(M107=\"\",\"\",IF(M107=O107,\"△\",IF(M107>O107,\"〇\",\"×\")))","v":""},{"$nulls":19},{"$f":"CONCATENATE(A100,AF106)","v":"H"},{"$f":"B106","v":"寺井クラブJr."}]
[{"$nulls":3},{"$f":"IF(L103=\"\",\"\",L103)","v":""},"-",{"$f":"IF(J103=\"\",\"\",J103)","v":""},{"$f":"IF(L105=\"\",\"\",L105)","v":""},"-",{"$f":"IF(J105=\"\",\"\",J105)","v":""},{"$nulls":4},"-"]
[{"$f":"CONCATENATE(A100,4)","v":"H4"},{"$f":"VLOOKUP(A108,チーム表!C:D,2,FALSE)","v":"鵜川フェニックスジュニア"},null,null,{"$f":"IF(D109=\"\",\"\",IF(D109=F109,\"△\",IF(D109>F109,\"〇\",\"×\")))","v":""},null,null,{"$f":"IF(G109=\"\",\"\",IF(G109=I109,\"△\",IF(G109>I109,\"〇\",\"×\")))","v":""},null,null,{"$f":"IF(J109=\"\",\"\",IF(J109=L109,\"△\",IF(J109>L109,\"〇\",\"×\")))","v":""},{"$nulls":22},{"$f":"CONCATENATE(A100,AF108)","v":"H"},{"$f":"B108","v":"鵜川フェニックスジュニア"}]
[{"$nulls":3},{"$f":"IF(O103=\"\",\"\",O103)","v":""},"-",{"$f":"IF(M103=\"\",\"\",M103)","v":""},{"$f":"IF(O105=\"\",\"\",O105)","v":""},"-",{"$f":"IF(M105=\"\",\"\",M105)","v":""},{"$f":"IF(O107=\"\",\"\",O107)","v":""},"-",{"$f":"IF(M107=\"\",\"\",M107)","v":""}]
[]
[{"$nulls":4},{"$f":"CONCATENATE(A112,\"1\")","v":"I1"},null,null,{"$f":"CONCATENATE(A112,\"2\")","v":"I2"},null,null,{"$f":"CONCATENATE(A112,\"3\")","v":"I3"},null,null,{"$f":"CONCATENATE(A112,\"4\")","v":"I4"}]
["I","チーム名",null,{"$f":"B114","v":"千坂Ｆロータスルート"},null,null,{"$f":"B116","v":"福光サンダーホープス"},null,null,{"$f":"B118","v":"寺井九谷クラブ"},null,null,{"$f":"B120","v":"めちゃげん闘球小僧"},{"$nulls":11},"勝","負","分","点","内野","順位決定点","相手内野","順位","kaku"]
[]
[{"$f":"CONCATENATE(A112,1)","v":"I1"},{"$f":"VLOOKUP(A114,チーム表!C:D,2,FALSE)","v":"千坂Ｆロータスルート"},{"$nulls":5},{"$f":"IF(G115=\"\",\"\",IF(G115=I115,\"△\",IF(G115>I115,\"〇\",\"×\")))","v":""},null,null,{"$f":"IF(J115=\"\",\"\",IF(J115=L115,\"△\",IF(J115>L115,\"〇\",\"×\")))","v":""},null,null,{"$f":"IF(M115=\"\",\"\",IF(M115=O115,\"△\",IF(M115>O115,\"〇\",\"×\")))","v":""},{"$nulls":19},{"$f":"CONCATENATE(A112,AF114)","v":"I"},{"$f":"B114","v":"千坂Ｆロータスルート"}]
[{"$nulls":7},"-",null,null,"-",null,null,"-"]
[{"$f":"CONCATENATE(A112,2)","v":"I2"},{"$f":"VLOOKUP(A116,チーム表!C:D,2,FALSE)","v":"福光サンダーホープス"},null,null,{"$f":"IF(D117=\"\",\"\",IF(D117=F117,\"△\",IF(D117>F117,\"〇\",\"×\")))","v":""},{"$nulls":5},{"$f":"IF(J117=\"\",\"\",IF(J117=L117,\"△\",IF(J117>L117,\"〇\",\"×\")))","v":""},null,null,{"$f":"IF(M117=\"\",\"\",IF(M117=O117,\"△\",IF(M117>O117,\"〇\",\"×\")))","v":""},{"$nulls":19},{"$f":"CONCATENATE(A112,AF116)","v":"I"},{"$f":"B116","v":"福光サンダーホープス"}]
[{"$nulls":3},{"$f":"IF(I115=\"\",\"\",I115)","v":""},"-",{"$f":"IF(G115=\"\",\"\",G115)","v":""},{"$nulls":4},"-",null,null,"-"]
[{"$f":"CONCATENATE(A112,3)","v":"I3"},{"$f":"VLOOKUP(A118,チーム表!C:D,2,FALSE)","v":"寺井九谷クラブ"},null,null,{"$f":"IF(D119=\"\",\"\",IF(D119=F119,\"△\",IF(D119>F119,\"〇\",\"×\")))","v":""},null,null,{"$f":"IF(G119=\"\",\"\",IF(G119=I119,\"△\",IF(G119>I119,\"〇\",\"×\")))","v":""},{"$nulls":5},{"$f":"IF(M119=\"\",\"\",IF(M119=O119,\"△\",IF(M119>O119,\"〇\",\"×\")))","v":""},{"$nulls":19},{"$f":"CONCATENATE(A112,AF118)","v":"I"},{"$f":"B118","v":"寺井九谷クラブ"}]
[{"$nulls":3},{"$f":"IF(L115=\"\",\"\",L115)","v":""},"-",{"$f":"IF(J115=\"\",\"\",J115)","v":""},{"$f":"IF(L117=\"\",\"\",L117)","v":""},"-",{"$f":"IF(J117=\"\",\"\",J117)","v":""},{"$nulls":4},"-"]
[{"$f":"CONCATENATE(A112,4)","v":"I4"},{"$f":"VLOOKUP(A120,チーム表!C:D,2,FALSE)","v":"めちゃげん闘球小僧"},null,null,{"$f":"IF(D121=\"\",\"\",IF(D121=F121,\"△\",IF(D121>F121,\"〇\",\"×\")))","v":""},null,null,{"$f":"IF(G121=\"\",\"\",IF(G121=I121,\"△\",IF(G121>I121,\"〇\",\"×\")))","v":""},null,null,{"$f":"IF(J121=\"\",\"\",IF(J121=L121,\"△\",IF(J121>L121,\"〇\",\"×\")))","v":""},{"$nulls":22},{"$f":"CONCATENATE(A112,AF120)","v":"I"},{"$f":"B120","v":"めちゃげん闘球小僧"}]
[{"$nulls":3},{"$f":"IF(O115=\"\",\"\",O115)","v":""},"-",{"$f":"IF(M115=\"\",\"\",M115)","v":""},{"$f":"IF(O117=\"\",\"\",O117)","v":""},"-",{"$f":"IF(M117=\"\",\"\",M117)","v":""},{"$f":"IF(O119=\"\",\"\",O119)","v":""},"-",{"$f":"IF(M119=\"\",\"\",M119)","v":""}]
[]
[{"$nulls":4},{"$f":"CONCATENATE(A124,\"1\")","v":"J1"},null,null,{"$f":"CONCATENATE(A124,\"2\")","v":"J2"},null,null,{"$f":"CONCATENATE(A124,\"3\")","v":"J3"},null,null,{"$f":"CONCATENATE(A124,\"4\")","v":"J4"}]
["J","チーム名",null,{"$f":"B126","v":"ドッジの王子様"},null,null,{"$f":"B128","v":"鳳至ドッジボールクラブJr"},null,null,{"$f":"B130","v":"向本折クラブ　"},null,null,{"$f":"B132","v":"松任の大魔陣 Ｊｒ"},{"$nulls":11},"勝","負","分","点","内野","順位決定点","相手内野","順位","kaku"]
[]
[{"$f":"CONCATENATE(A124,1)","v":"J1"},{"$f":"VLOOKUP(A126,チーム表!C:D,2,FALSE)","v":"ドッジの王子様"},{"$nulls":5},{"$f":"IF(G127=\"\",\"\",IF(G127=I127,\"△\",IF(G127>I127,\"〇\",\"×\")))","v":""},null,null,{"$f":"IF(J127=\"\",\"\",IF(J127=L127,\"△\",IF(J127>L127,\"〇\",\"×\")))","v":""},null,null,{"$f":"IF(M127=\"\",\"\",IF(M127=O127,\"△\",IF(M127>O127,\"〇\",\"×\")))","v":""},{"$nulls":19},{"$f":"CONCATENATE(A124,AF126)","v":"J"},{"$f":"B126","v":"ドッジの王子様"}]
[{"$nulls":7},"-",null,null,"-",null,null,"-"]
[{"$f":"CONCATENATE(A124,2)","v":"J2"},{"$f":"VLOOKUP(A128,チーム表!C:D,2,FALSE)","v":"鳳至ドッジボールクラブJr"},null,null,{"$f":"IF(D129=\"\",\"\",IF(D129=F129,\"△\",IF(D129>F129,\"〇\",\"×\")))","v":""},{"$nulls":5},{"$f":"IF(J129=\"\",\"\",IF(J129=L129,\"△\",IF(J129>L129,\"〇\",\"×\")))","v":""},null,null,{"$f":"IF(M129=\"\",\"\",IF(M129=O129,\"△\",IF(M129>O129,\"〇\",\"×\")))","v":""},{"$nulls":19},{"$f":"CONCATENATE(A124,AF128)","v":"J"},{"$f":"B128","v":"鳳至ドッジボールクラブJr"}]
[{"$nulls":3},{"$f":"IF(I127=\"\",\"\",I127)","v":""},"-",{"$f":"IF(G127=\"\",\"\",G127)","v":""},{"$nulls":4},"-",null,null,"-"]
[{"$f":"CONCATENATE(A124,3)","v":"J3"},{"$f":"VLOOKUP(A130,チーム表!C:D,2,FALSE)","v":"向本折クラブ　"},null,null,{"$f":"IF(D131=\"\",\"\",IF(D131=F131,\"△\",IF(D131>F131,\"〇\",\"×\")))","v":""},null,null,{"$f":"IF(G131=\"\",\"\",IF(G131=I131,\"△\",IF(G131>I131,\"〇\",\"×\")))","v":""},{"$nulls":5},{"$f":"IF(M131=\"\",\"\",IF(M131=O131,\"△\",IF(M131>O131,\"〇\",\"×\")))","v":""},{"$nulls":19},{"$f":"CONCATENATE(A124,AF130)","v":"J"},{"$f":"B130","v":"向本折クラブ　"}]
[{"$nulls":3},{"$f":"IF(L127=\"\",\"\",L127)","v":""},"-",{"$f":"IF(J127=\"\",\"\",J127)","v":""},{"$f":"IF(L129=\"\",\"\",L129)","v":""},"-",{"$f":"IF(J129=\"\",\"\",J129)","v":""},{"$nulls":4},"-"]
[{"$f":"CONCATENATE(A124,4)","v":"J4"},{"$f":"VLOOKUP(A132,チーム表!C:D,2,FALSE)","v":"松任の大魔陣 Ｊｒ"},null,null,{"$f":"IF(D133=\"\",\"\",IF(D133=F133,\"△\",IF(D133>F133,\"〇\",\"×\")))","v":""},null,null,{"$f":"IF(G133=\"\",\"\",IF(G133=I133,\"△\",IF(G133>I133,\"〇\",\"×\")))","v":""},null,null,{"$f":"IF(J133=\"\",\"\",IF(J133=L133,\"△\",IF(J133>L133,\"〇\",\"×\")))","v":""},{"$nulls":22},{"$f":"CONCATENATE(A124,AF132)","v":"J"},{"$f":"B132","v":"松任の大魔陣 Ｊｒ"}]
[{"$nulls":3},{"$f":"IF(O127=\"\",\"\",O127)","v":""},"-",{"$f":"IF(M127=\"\",\"\",M127)","v":""},{"$f":"IF(O129=\"\",\"\",O129)","v":""},"-",{"$f":"IF(M129=\"\",\"\",M129)","v":""},{"$f":"IF(O131=\"\",\"\",O131)","v":""},"-",{"$f":"IF(M131=\"\",\"\",M131)","v":""}]

{"sheet":"トーナメント表","index":3,"n_rows":100,"n_cols":24,"rows_kept":100,"merged":[[5,0,6,0],[5,1,6,9],[6,19,7,20],[8,14,9,15],[11,0,12,0],[11,1,12,9],[13,17,14,18],[15,0,16,0],[15,1,16,9],[17,11,18,12],[19,0,20,0],[19,1,20,9],[21,14,22,15],[23,0,24,0],[23,1,24,9],[25,11,26,12],[27,0,28,0],[27,1,28,9],[29,20,30,21],[29,23,30,24],[31,0,32,0],[31,1,32,9],[33,11,34,12],[35,0,36,0],[35,1,36,9],[37,14,38,15],[39,0,40,0],[39,1,40,9],[41,11,42,12],[43,0,44,0],[43,1,44,9],[44,17,45,18],[47,0,48,0],[47,1,48,9],[50,14,51,15],[53,0,54,0],[53,1,54,9],[56,8,57,16],[58,19,59,20],[58,22,59,23],[60,8,61,16],[65,0,66,0],[65,1,66,9],[67,11,68,12],[68,19,69,20],[69,0,70,0],[69,1,70,9],[71,14,72,15],[73,0,74,0],[73,1,74,9],[75,11,76,12],[77,0,78,0],[77,1,78,9],[79,17,80,18],[79,20,80,21],[81,0,82,0],[81,1,82,9],[83,11,84,12],[85,0,86,0],[85,1,86,9],[87,14,88,15],[89,0,90,0],[89,1,90,9],[91,11,92,12],[93,0,94,0],[93,1,94,9],[97,5,98,13],[99,16,100,17],[99,19,100,20],[101,5,102,13]]}
[]
[null,null,"決勝トーナメント"]
[]
[null,"レギュラーの部",{"$nulls":4},"予選リーグ１・２位が進出",{"$nulls":12},"優 勝"]
[]
["A1",{"$nulls":18},"2 位"]
[{"$nulls":19},"3 位"]
[]
[{"$nulls":14},"A③"]
[]
[]
["F2"]
[]
[{"$nulls":17},"A⑥"]
[]
["B1"]
[]
[{"$nulls":11},"A①"]
[]
["E2"]
[]
[{"$nulls":14},"A⑤"]
[]
["C1"]
[]
[{"$nulls":11},"A②"]
[]
["D2"]
[]
[{"$nulls":20},"B⑦",null,null,"優 勝"]
[]
["C2"]
[]
[{"$nulls":11},"B①"]
[]
["D1"]
[]
[{"$nulls":14},"B④"]
[]
["B2"]
[]
[{"$nulls":11},"B②"]
[]
["E1"]
[{"$nulls":17},"B⑥"]
[]
[]
["A2"]
[]
[]
[{"$nulls":14},"B③"]
[]
[]
["F1"]
[]
[]
[]
[]
[{"$nulls":19},"A⑦",null,null,"３位"]
[]
[]
[]
[]
[null,"ジュニアの部",{"$nulls":4},"予選リーグ１・２位が進出"]
[]
["G1",{"$nulls":18},"優 勝"]
[]
[{"$nulls":11},"C①",{"$nulls":7},"2 位"]
[{"$nulls":19},"3 位"]
["J２"]
[]
[{"$nulls":14},"C④"]
[]
["H1"]
[]
[{"$nulls":11},"C②"]
[]
["I2"]
[]
[{"$nulls":17},"C⑦",null,null,"優 勝"]
[]
["H2"]
[]
[{"$nulls":11},"C③"]
[]
["I1"]
[]
[{"$nulls":14},"C⑤"]
[]
["G2"]
[]
[{"$nulls":11},"A④"]
[]
["J1"]
[]
[]
[]
[]
[]
[{"$nulls":16},"C⑥",null,null,"３位"]

{"sheet":"DATA1","index":4,"n_rows":365,"n_cols":25,"rows_kept":365,"merged":[[3,0,4,0],[3,1,4,9],[7,0,8,0],[7,1,8,9],[11,0,12,0],[11,1,12,9],[15,0,16,0],[15,1,16,9],[19,0,20,0],[19,1,20,9],[23,0,24,0],[23,1,24,9],[27,0,28,0],[27,1,28,9],[31,0,32,0],[31,1,32,9],[35,0,36,0],[35,1,36,9],[39,0,40,0],[39,1,40,9],[43,0,44,0],[43,1,44,9],[47,0,48,0],[47,1,48,9],[51,0,52,0],[51,1,52,9],[55,0,56,0],[55,1,56,9],[59,0,60,0],[59,1,60,9],[63,0,64,0],[63,1,64,9],[71,0,72,0],[71,1,72,9],[77,0,78,0],[77,1,78,9],[81,0,82,0],[81,1,82,9],[85,0,86,0],[85,1,86,9],[89,0,90,0],[89,1,90,9],[93,0,94,0],[93,1,94,9],[97,0,98,0],[97,1,98,9],[101,0,102,0],[101,1,102,9],[105,0,106,0],[105,1,106,9],[109,0,110,0],[109,1,110,9],[113,0,114,0],[113,1,114,9],[117,0,118,0],[117,1,118,9],[121,0,122,0],[121,1,122,9],[127,0,128,0],[127,1,128,9],[139,0,140,0],[139,1,140,9],[147,0,148,0],[147,1,148,9],[153,0,154,0],[153,1,154,9],[157,0,158,0],[157,1,158,9],[161,0,162,0],[161,1,162,9],[165,0,166,0],[165,1,166,9],[169,0,170,0],[169,1,170,9],[173,0,174,0],[173,1,174,9],[177,0,178,0],[177,1,178,9],[181,0,182,0],[181,1,182,9],[187,0,188,0],[187,1,188,9],[195,0,196,0],[195,1,196,9],[211,0,212,0],[211,1,212,9],[221,0,222,0],[221,1,222,9],[225,0,226,0],[225,1,226,9],[229,0,230,0],[229,1,230,9],[233,0,234,0],[233,1,234,9],[237,0,238,0],[237,1,238,9],[241,0,242,0],[241,1,242,9],[245,0,246,0],[245,1,246,9],[249,0,250,0],[249,1,250,9],[259,0,260,0],[259,1,260,9],[275,0,276,0],[275,1,276,9],[279,0,280,0],[279,1,280,9],[283,0,284,0],[283,1,284,9],[287,0,288,0],[287,1,288,9],[291,0,292,0],[291,1,292,9],[295,0,296,0],[295,1,296,9],[299,0,300,0],[299,1,300,9],[303,0,304,0],[303,1,304,9],[310,0,311,0],[310,1,311,9],[316,0,317,0],[316,1,317,9],[320,0,321,0],[320,1,321,9],[324,0,325,0],[324,1,325,9],[328,0,329,0],[328,1,329,9],[334,0,335,0],[334,1,335,9],[343,0,344,0],[343,1,344,9],[347,0,348,0],[347,1,348,9],[351,0,352,0],[351,1,352,9],[355,0,356,0],[355,1,356,9],[360,0,361,0],[360,1,361,9],[364,0,365,0],[364,1,365,9]]}
[]
[null,"16チーム"]
[]
[1]
[]
[]
[{"$nulls":20},"A1",{"$f":"VLOOKUP(U7,リーグ戦表!AH:AI,2,0)","v":{"$error":"#N/A"}}]
[2,{"$nulls":19},"A2",{"$f":"VLOOKUP(U8,リーグ戦表!AH:AI,2,0)","v":{"$error":"#N/A"}}]
[{"$nulls":20},"B1",{"$f":"VLOOKUP(U9,リーグ戦表!AH:AI,2,0)","v":{"$error":"#N/A"}}]
[{"$nulls":20},"B2",{"$f":"VLOOKUP(U10,リーグ戦表!AH:AI,2,0)","v":{"$error":"#N/A"}}]
[{"$nulls":20},"C1",{"$f":"VLOOKUP(U11,リーグ戦表!AH:AI,2,0)","v":{"$error":"#N/A"}}]
[3,{"$nulls":19},"C2",{"$f":"VLOOKUP(U12,リーグ戦表!AH:AI,2,0)","v":{"$error":"#N/A"}}]
[{"$nulls":20},"D1",{"$f":"VLOOKUP(U13,リーグ戦表!AH:AI,2,0)","v":{"$error":"#N/A"}}]
[{"$nulls":20},"D2",{"$f":"VLOOKUP(U14,リーグ戦表!AH:AI,2,0)","v":{"$error":"#N/A"}}]
[]
[4]
[]
[]
[]
[5]
[]
[]
[]
[6]
[]
[]
[]
[7]
[]
[]
[]
[8]
[{"$nulls":24},"優勝"]
[]
[]
[9]
[]
[]
[]
[10]
[]
[]
[]
[11]
[]
[]
[]
[12]
[]
[]
[]
[13]
[{"$nulls":20},"E1",{"$f":"VLOOKUP(U53,リーグ戦表!AH:AI,2,0)","v":{"$error":"#N/A"}}]
[{"$nulls":20},"E2",{"$f":"VLOOKUP(U54,リーグ戦表!AH:AI,2,0)","v":{"$error":"#N/A"}}]
[{"$nulls":20},"F1",{"$f":"VLOOKUP(U55,リーグ戦表!AH:AI,2,0)","v":{"$error":"#N/A"}}]
[14,{"$nulls":19},"F2",{"$f":"VLOOKUP(U56,リーグ戦表!AH:AI,2,0)","v":{"$error":"#N/A"}}]
[{"$nulls":20},"G1",{"$f":"VLOOKUP(U57,リーグ戦表!AH:AI,2,0)","v":{"$error":"#N/A"}}]
[{"$nulls":20},"G2",{"$f":"VLOOKUP(U58,リーグ戦表!AH:AI,2,0)","v":{"$error":"#N/A"}}]
[{"$nulls":20},"H1",{"$f":"VLOOKUP(U59,リーグ戦表!AH:AI,2,0)","v":{"$error":"#N/A"}}]
[15,{"$nulls":19},"H2",{"$f":"VLOOKUP(U60,リーグ戦表!AH:AI,2,0)","v":{"$error":"#N/A"}}]
[]
[]
[]
[16]
[]
[]
[]
[]
[]
[null,"14チーム"]
[]
[1]
[{"$nulls":20},"A1",{"$f":"VLOOKUP(U73,リーグ戦表!AH:AI,2,0)","v":{"$error":"#N/A"}}]
[{"$nulls":20},"A2",{"$f":"VLOOKUP(U74,リーグ戦表!AH:AI,2,0)","v":{"$error":"#N/A"}}]
[{"$nulls":20},"B1",{"$f":"VLOOKUP(U75,リーグ戦表!AH:AI,2,0)","v":{"$error":"#N/A"}}]
[{"$nulls":20},"B2",{"$f":"VLOOKUP(U76,リーグ戦表!AH:AI,2,0)","v":{"$error":"#N/A"}}]
[{"$nulls":20},"C1",{"$f":"VLOOKUP(U77,リーグ戦表!AH:AI,2,0)","v":{"$error":"#N/A"}}]
[2,{"$nulls":19},"C2",{"$f":"VLOOKUP(U78,リーグ戦表!AH:AI,2,0)","v":{"$error":"#N/A"}}]
[{"$nulls":20},"D1",{"$f":"VLOOKUP(U79,リーグ戦表!AH:AI,2,0)","v":{"$error":"#N/A"}}]
[{"$nulls":20},"D2",{"$f":"VLOOKUP(U80,リーグ戦表!AH:AI,2,0)","v":{"$error":"#N/A"}}]
[]
[3]
[]
[]
[]
[4]
[]
[]
[]
[5]
[]
[]
[]
[6]
[]
[]
[]
[7]
[{"$nulls":24},"優勝"]
[]
[]
[8]
[]
[]
[]
[9]
[]
[]
[]
[10]
[]
[]
[]
[11]
[]
[]
[]
[12,{"$nulls":19},"E1",{"$f":"VLOOKUP(U118,リーグ戦表!AH:AI,2,0)","v":{"$error":"#N/A"}}]
[{"$nulls":20},"E2",{"$f":"VLOOKUP(U119,リーグ戦表!AH:AI,2,0)","v":{"$error":"#N/A"}}]
[{"$nulls":20},"F1",{"$f":"VLOOKUP(U120,リーグ戦表!AH:AI,2,0)","v":{"$error":"#N/A"}}]
[{"$nulls":20},"F2",{"$f":"VLOOKUP(U121,リーグ戦表!AH:AI,2,0)","v":{"$error":"#N/A"}}]
[13,{"$nulls":19},"G1",{"$f":"VLOOKUP(U122,リーグ戦表!AH:AI,2,0)","v":{"$error":"#N/A"}}]
[{"$nulls":20},"G2",{"$f":"VLOOKUP(U123,リーグ戦表!AH:AI,2,0)","v":{"$error":"#N/A"}}]
[]
[]
[]
[]
[14]
{"$rows_empty":9}
[null,"12チーム"]
[]
[1]
[{"$nulls":20},"A1",{"$f":"VLOOKUP(U141,リーグ戦表!AH:AI,2,0)","v":{"$error":"#N/A"}}]
[{"$nulls":20},"A2",{"$f":"VLOOKUP(U142,リーグ戦表!AH:AI,2,0)","v":{"$error":"#N/A"}}]
[{"$nulls":20},"B1",{"$f":"VLOOKUP(U143,リーグ戦表!AH:AI,2,0)","v":{"$error":"#N/A"}}]
[{"$nulls":20},"B2",{"$f":"VLOOKUP(U144,リーグ戦表!AH:AI,2,0)","v":{"$error":"#N/A"}}]
[{"$nulls":20},"C1",{"$f":"VLOOKUP(U145,リーグ戦表!AH:AI,2,0)","v":{"$error":"#N/A"}}]
[{"$nulls":20},"C2",{"$f":"VLOOKUP(U146,リーグ戦表!AH:AI,2,0)","v":{"$error":"#N/A"}}]
[{"$nulls":20},"D1",{"$f":"VLOOKUP(U147,リーグ戦表!AH:AI,2,0)","v":{"$error":"#N/A"}}]
[2,{"$nulls":19},"D2",{"$f":"VLOOKUP(U148,リーグ戦表!AH:AI,2,0)","v":{"$error":"#N/A"}}]
[]
[]
[]
[]
[]
[3]
[]
[]
[]
[4]
[]
[]
[]
[5]
[]
[]
[]
[6]
[{"$nulls":24},"優勝"]
[]
[]
[7]
[]
[]
[]
[8]
[]
[]
[]
[9]
[]
[]
[]
[10]
[]
[]
[]
[{"$nulls":20},"E1",{"$f":"VLOOKUP(U186,リーグ戦表!AH:AI,2,0)","v":{"$error":"#N/A"}}]
[{"$nulls":20},"E2",{"$f":"VLOOKUP(U187,リーグ戦表!AH:AI,2,0)","v":{"$error":"#N/A"}}]
[11,{"$nulls":19},"F1",{"$f":"VLOOKUP(U188,リーグ戦表!AH:AI,2,0)","v":{"$error":"#N/A"}}]
[{"$nulls":20},"F2",{"$f":"VLOOKUP(U189,リーグ戦表!AH:AI,2,0)","v":{"$error":"#N/A"}}]
[]
[]
[]
[]
[]
[]
[12]
{"$rows_empty":9}
[null,"10チーム"]
[]
[]
[]
[]
[]
[1]
[{"$nulls":20},"A1",{"$f":"VLOOKUP(U213,リーグ戦表!AH:AI,2,0)","v":{"$error":"#N/A"}}]
[{"$nulls":20},"A2",{"$f":"VLOOKUP(U214,リーグ戦表!AH:AI,2,0)","v":{"$error":"#N/A"}}]
[{"$nulls":20},"B1",{"$f":"VLOOKUP(U215,リーグ戦表!AH:AI,2,0)","v":{"$error":"#N/A"}}]
[{"$nulls":20},"B2",{"$f":"VLOOKUP(U216,リーグ戦表!AH:AI,2,0)","v":{"$error":"#N/A"}}]
[]
[]
[]
[]
[]
[2]
[]
[]
[]
[3]
[]
[]
[]
[4]
[]
[]
[]
[5]
[{"$nulls":24},"優勝"]
[]
[]
[6]
[]
[]
[]
[7]
[]
[]
[]
[8]
[]
[]
[]
[9]
[]
[]
[]
[{"$nulls":20},"C1",{"$f":"VLOOKUP(U254,リーグ戦表!AH:AI,2,0)","v":{"$error":"#N/A"}}]
[{"$nulls":20},"C2",{"$f":"VLOOKUP(U255,リーグ戦表!AH:AI,2,0)","v":{"$error":"#N/A"}}]
[{"$nulls":20},"D1",{"$f":"VLOOKUP(U256,リーグ戦表!AH:AI,2,0)","v":{"$error":"#N/A"}}]
[{"$nulls":20},"D2",{"$f":"VLOOKUP(U257,リーグ戦表!AH:AI,2,0)","v":{"$error":"#N/A"}}]
[{"$nulls":20},"E1",{"$f":"VLOOKUP(U258,リーグ戦表!AH:AI,2,0)","v":{"$error":"#N/A"}}]
[{"$nulls":20},"E2",{"$f":"VLOOKUP(U259,リーグ戦表!AH:AI,2,0)","v":{"$error":"#N/A"}}]
[10]
{"$rows_empty":13}
[null,"8チーム"]
[]
[1]
[{"$nulls":20},"A1",{"$f":"VLOOKUP(U277,リーグ戦表!AH:AI,2,0)","v":{"$error":"#N/A"}}]
[{"$nulls":20},"A2",{"$f":"VLOOKUP(U278,リーグ戦表!AH:AI,2,0)","v":{"$error":"#N/A"}}]
[{"$nulls":20},"B1",{"$f":"VLOOKUP(U279,リーグ戦表!AH:AI,2,0)","v":{"$error":"#N/A"}}]
[2,{"$nulls":19},"B2",{"$f":"VLOOKUP(U280,リーグ戦表!AH:AI,2,0)","v":{"$error":"#N/A"}}]
[{"$nulls":20},"C1",{"$f":"VLOOKUP(U281,リーグ戦表!AH:AI,2,0)","v":{"$error":"#N/A"}}]
[{"$nulls":20},"C2",{"$f":"VLOOKUP(U282,リーグ戦表!AH:AI,2,0)","v":{"$error":"#N/A"}}]
[{"$nulls":20},"D1",{"$f":"VLOOKUP(U283,リーグ戦表!AH:AI,2,0)","v":{"$error":"#N/A"}}]
[3,{"$nulls":19},"D2",{"$f":"VLOOKUP(U284,リーグ戦表!AH:AI,2,0)","v":{"$error":"#N/A"}}]
[]
[]
[]
[4,{"$nulls":20},"優勝"]
[]
[]
[]
[5]
[]
[]
[]
[6]
[]
[]
[]
[7]
[]
[]
[]
[8]
[]
[]
[]
[]
[null,"6チーム"]
[]
[1]
[{"$nulls":20},"A1",{"$f":"VLOOKUP(U312,リーグ戦表!AH:AI,2,0)","v":{"$error":"#N/A"}}]
[{"$nulls":20},"A2",{"$f":"VLOOKUP(U313,リーグ戦表!AH:AI,2,0)","v":{"$error":"#N/A"}}]
[{"$nulls":20},"B1",{"$f":"VLOOKUP(U314,リーグ戦表!AH:AI,2,0)","v":{"$error":"#N/A"}}]
[{"$nulls":20},"B2",{"$f":"VLOOKUP(U315,リーグ戦表!AH:AI,2,0)","v":{"$error":"#N/A"}}]
[{"$nulls":20},"C1",{"$f":"VLOOKUP(U316,リーグ戦表!AH:AI,2,0)","v":{"$error":"#N/A"}}]
[2,{"$nulls":19},"C2",{"$f":"VLOOKUP(U317,リーグ戦表!AH:AI,2,0)","v":{"$error":"#N/A"}}]
[]
[]
[]
[3,{"$nulls":20},"優勝"]
[]
[]
[]
[4]
[]
[]
[]
[5]
[]
[]
[]
[]
[]
[6]
[]
[]
[]
[]
[]
[]
[null,"4チーム"]
[]
[1]
[]
[]
[]
[2,{"$nulls":17},"優勝"]
[]
[]
[]
[3]
[]
[]
[]
[4]
[]
[]
[null,"2チーム"]
[]
[1]
[{"$nulls":16},"優勝"]
[]
[]
[2]

{"sheet":"DATA","index":5,"n_rows":76,"n_cols":38,"rows_kept":76,"merged":[[4,0,5,0],[4,1,5,2],[4,3,5,5],[4,6,5,8],[4,9,5,11],[4,12,5,14],[4,15,5,17],[4,18,5,20],[4,21,5,23],[4,24,5,24],[4,25,5,25],[4,26,5,26],[4,27,5,27],[4,28,5,28],[4,29,5,29],[4,30,5,30],[4,31,5,31],[4,32,5,32],[6,0,7,0],[6,1,7,2],[6,3,7,5],[6,24,7,24],[6,25,7,25],[6,26,7,26],[6,27,7,27],[6,28,7,28],[6,29,7,29],[6,30,7,30],[6,31,7,31],[6,32,7,32],[8,0,9,0],[8,1,9,2],[8,6,9,8],[8,24,9,24],[8,25,9,25],[8,26,9,26],[8,27,9,27],[8,28,9,28],[8,29,9,29],[8,30,9,30],[8,31,9,31],[8,32,9,32],[10,0,11,0],[10,1,11,2],[10,9,11,11],[10,24,11,24],[10,25,11,25],[10,26,11,26],[10,27,11,27],[10,28,11,28],[10,29,11,29],[10,30,11,30],[10,31,11,31],[10,32,11,32],[12,0,13,0],[12,1,13,2],[12,12,13,14],[12,24,13,24],[12,25,13,25],[12,26,13,26],[12,27,13,27],[12,28,13,28],[12,29,13,29],[12,30,13,30],[12,31,13,31],[12,32,13,32],[14,0,15,0],[14,1,15,2],[14,15,15,17],[14,24,15,24],[14,25,15,25],[14,26,15,26],[14,27,15,27],[14,28,15,28],[14,29,15,29],[14,30,15,30],[14,31,15,31],[14,32,15,32],[16,0,17,0],[16,1,17,2],[16,18,17,20],[16,24,17,24],[16,25,17,25],[16,26,17,26],[16,27,17,27],[16,28,17,28],[16,29,17,29],[16,30,17,30],[16,31,17,31],[16,32,17,32],[18,0,19,0],[18,1,19,2],[18,21,19,23],[18,24,19,24],[18,25,19,25],[18,26,19,26],[18,27,19,27],[18,28,19,28],[18,29,19,29],[18,30,19,30],[18,31,19,31],[18,32,19,32],[23,0,24,0],[23,1,24,2],[23,3,24,5],[23,6,24,8],[23,9,24,11],[23,12,24,14],[23,15,24,17],[23,18,24,20],[23,21,24,23],[23,24,24,24],[23,25,24,25],[23,26,24,26],[23,27,24,27],[23,28,24,28],[23,29,24,29],[23,30,24,30],[23,31,24,31],[23,32,24,32],[25,0,26,0],[25,1,26,2],[25,3,26,5],[25,24,26,24],[25,25,26,25],[25,26,26,26],[25,27,26,27],[25,28,26,28],[25,29,26,29],[25,30,26,30],[25,31,26,31],[25,32,26,32],[27,0,28,0],[27,1,28,2],[27,6,28,8],[27,24,28,24],[27,25,28,25],[27,26,28,26],[27,27,28,27],[27,28,28,28],[27,29,28,29],[27,30,28,30],[27,31,28,31],[27,32,28,32],[29,0,30,0],[29,1,30,2],[29,9,30,11],[29,24,30,24],[29,25,30,25],[29,26,30,26],[29,27,30,27],[29,28,30,28],[29,29,30,29],[29,30,30,30],[29,31,30,31],[29,32,30,32],[31,0,32,0],[31,1,32,2],[31,12,32,14],[31,24,32,24],[31,25,32,25],[31,26,32,26],[31,27,32,27],[31,28,32,28],[31,29,32,29],[31,30,32,30],[31,31,32,31],[31,32,32,32],[33,0,34,0],[33,1,34,2],[33,15,34,17],[33,24,34,24],[33,25,34,25],[33,26,34,26],[33,27,34,27],[33,28,34,28],[33,29,34,29],[33,30,34,30],[33,31,34,31],[33,32,34,32],[35,0,36,0],[35,1,36,2],[35,18,36,20],[35,24,36,24],[35,25,36,25],[35,26,36,26],[35,27,36,27],[35,28,36,28],[35,29,36,29],[35,30,36,30],[35,31,36,31],[35,32,36,32],[40,0,41,0],[40,1,41,2],[40,3,41,5],[40,6,41,8],[40,9,41,11],[40,12,41,14],[40,15,41,17],[40,18,41,20],[40,21,41,23],[40,24,41,24],[40,25,41,25],[40,26,41,26],[40,27,41,27],[40,28,41,28],[40,29,41,29],[40,30,41,30],[40,31,41,31],[40,32,41,32],[42,0,43,0],[42,1,43,2],[42,3,43,5],[42,24,43,24],[42,25,43,25],[42,26,43,26],[42,27,43,27],[42,28,43,28],[42,29,43,29],[42,30,43,30],[42,31,43,31],[42,32,43,32],[44,0,45,0],[44,1,45,2],[44,6,45,8],[44,24,45,24],[44,25,45,25],[44,26,45,26],[44,27,45,27],[44,28,45,28],[44,29,45,29],[44,30,45,30],[44,31,45,31],[44,32,45,32],[46,0,47,0],[46,1,47,2],[46,9,47,11],[46,24,47,24],[46,25,47,25],[46,26,47,26],[46,27,47,27],[46,28,47,28],[46,29,47,29],[46,30,47,30],[46,31,47,31],[46,32,47,32],[48,0,49,0],[48,1,49,2],[48,12,49,14],[48,24,49,24],[48,25,49,25],[48,26,49,26],[48,27,49,27],[48,28,49,28],[48,29,49,29],[48,30,49,30],[48,31,49,31],[48,32,49,32],[50,0,51,0],[50,1,51,2],[50,15,51,17],[50,24,51,24],[50,25,51,25],[50,26,51,26],[50,27,51,27],[50,28,51,28],[50,29,51,29],[50,30,51,30],[50,31,51,31],[50,32,51,32],[55,0,56,0],[55,1,56,2],[55,3,56,5],[55,6,56,8],[55,9,56,11],[55,12,56,14],[55,15,56,17],[55,18,56,20],[55,21,56,23],[55,24,56,24],[55,25,56,25],[55,26,56,26],[55,27,56,27],[55,28,56,28],[55,29,56,29],[55,30,56,30],[55,31,56,31],[55,32,56,32],[57,0,58,0],[57,1,58,2],[57,3,58,5],[57,24,58,24],[57,25,58,25],[57,26,58,26],[57,27,58,27],[57,28,58,28],[57,29,58,29],[57,30,58,30],[57,31,58,31],[57,32,58,32],[59,0,60,0],[59,1,60,2],[59,6,60,8],[59,24,60,24],[59,25,60,25],[59,26,60,26],[59,27,60,27],[59,28,60,28],[59,29,60,29],[59,30,60,30],[59,31,60,31],[59,32,60,32],[61,0,62,0],[61,1,62,2],[61,9,62,11],[61,24,62,24],[61,25,62,25],[61,26,62,26],[61,27,62,27],[61,28,62,28],[61,29,62,29],[61,30,62,30],[61,31,62,31],[61,32,62,32],[63,0,64,0],[63,1,64,2],[63,12,64,14],[63,24,64,24],[63,25,64,25],[63,26,64,26],[63,27,64,27],[63,28,64,28],[63,29,64,29],[63,30,64,30],[63,31,64,31],[63,32,64,32],[68,0,69,0],[68,1,69,2],[68,3,69,5],[68,6,69,8],[68,9,69,11],[68,12,69,14],[68,15,69,17],[68,18,69,20],[68,21,69,23],[68,24,69,24],[68,25,69,25],[68,26,69,26],[68,27,69,27],[68,28,69,28],[68,29,69,29],[68,30,69,30],[68,31,69,31],[68,32,69,32],[70,0,71,0],[70,1,71,2],[70,3,71,5],[70,24,71,24],[70,25,71,25],[70,26,71,26],[70,27,71,27],[70,28,71,28],[70,29,71,29],[70,30,71,30],[70,31,71,31],[70,32,71,32],[72,0,73,0],[72,1,73,2],[72,6,73,8],[72,24,73,24],[72,25,73,25],[72,26,73,26],[72,27,73,27],[72,28,73,28],[72,29,73,29],[72,30,73,30],[72,31,73,31],[72,32,73,32],[74,0,75,0],[74,1,75,2],[74,9,75,11],[74,24,75,24],[74,25,75,25],[74,26,75,26],[74,27,75,27],[74,28,75,28],[74,29,75,29],[74,30,75,30],[74,31,75,31],[74,32,75,32]]}
[]
[]
[]
[{"$nulls":4},{"$f":"CONCATENATE(A5,\"1\")","v":"1"},null,null,{"$f":"CONCATENATE(A5,\"2\")","v":"2"},null,null,{"$f":"CONCATENATE(A5,\"3\")","v":"3"},null,null,{"$f":"CONCATENATE(A5,\"4\")","v":"4"},null,null,{"$f":"CONCATENATE(A5,\"5\")","v":"5"},null,null,{"$f":"CONCATENATE(A5,\"6\")","v":"6"},null,null,{"$f":"CONCATENATE(A5,\"7\")","v":"7"}]
[null,"チーム名",null,{"$f":"B7","v":{"$error":"#N/A"}},null,null,{"$f":"B9","v":{"$error":"#N/A"}},null,null,{"$f":"B11","v":{"$error":"#N/A"}},null,null,{"$f":"B13","v":{"$error":"#N/A"}},null,null,{"$f":"B15","v":{"$error":"#N/A"}},null,null,{"$f":"B17","v":{"$error":"#N/A"}},null,null,{"$f":"B19","v":{"$error":"#N/A"}},null,null,"勝","負","分","点","内野","順位決定点","相手内野","順位","kaku"]
[]
[{"$f":"CONCATENATE(A5,1)","v":"1"},{"$f":"VLOOKUP(A7,チーム表!C:D,2,FALSE)","v":{"$error":"#N/A"}},{"$nulls":4},{"$f":"CONCATENATE($A7,H4)","v":"12"},{"$f":"IF(G8=\"\",\"\",IF(G8=I8,\"△\",IF(G8>I8,\"〇\",\"×\")))","v":{"$error":"#REF!"}},{"$f":"CONCATENATE(H4,$A7)","v":"21"},{"$f":"CONCATENATE($A7,K4)","v":"13"},{"$f":"IF(J8=\"\",\"\",IF(J8=L8,\"△\",IF(J8>L8,\"〇\",\"×\")))","v":{"$error":"#REF!"}},{"$f":"CONCATENATE(K4,$A7)","v":"31"},{"$f":"CONCATENATE($A7,N4)","v":"14"},{"$f":"IF(M8=\"\",\"\",IF(M8=O8,\"△\",IF(M8>O8,\"〇\",\"×\")))","v":{"$error":"#REF!"}},{"$f":"CONCATENATE(N4,$A7)","v":"41"},{"$f":"CONCATENATE($A7,Q4)","v":"15"},{"$f":"IF(P8=\"\",\"\",IF(P8=R8,\"△\",IF(P8>R8,\"〇\",\"×\")))","v":{"$error":"#REF!"}},{"$f":"CONCATENATE(Q4,$A7)","v":"51"},{"$f":"CONCATENATE($A7,T4)","v":"16"},{"$f":"IF(S8=\"\",\"\",IF(S8=U8,\"△\",IF(S8>U8,\"〇\",\"×\")))","v":{"$error":"#REF!"}},{"$f":"CONCATENATE(T4,$A7)","v":"61"},{"$f":"CONCATENATE($A7,W4)","v":"17"},{"$f":"IF(V8=\"\",\"\",IF(V8=X8,\"△\",IF(V8>X8,\"〇\",\"×\")))","v":{"$error":"#REF!"}},{"$f":"CONCATENATE(W4,$A7)","v":"71"},{"$f":"COUNTIF($E7:$W7,\"〇\")","v":0},{"$f":"COUNTIF($E7:$W7,\"×\")","v":0},{"$f":"COUNTIF($E7:$W7,\"△\")","v":0},{"$f":"Y7*2+AA7","v":0},{"$f":"IF(G8=\"\",\"\",D8+G8+M8+P8+J8+S8+V8)","v":{"$error":"#REF!"}},{"$f":"IF(AC7=\"\",\"\",AB7*100+AC7)","v":{"$error":"#REF!"}},{"$f":"IF(AC7=\"\",\"\",F8+I8+L8+O8+R8+U8+X8)","v":{"$error":"#REF!"}},{"$f":"IF(AD7=\"\",\"\",RANK(AD7,AD7:AD20,0))","v":{"$error":"#REF!"}},null,{"$f":"CONCATENATE(A5,AF7)","v":{"$error":"#REF!"}},{"$f":"B7","v":{"$error":"#N/A"}},null,{"$f":"CONCATENATE(A$5,AF7)","v":{"$error":"#REF!"}},{"$f":"$B7","v":{"$error":"#N/A"}}]
[{"$nulls":6},{"$f":"VLOOKUP(G7,対戦表!#REF!,2,0)","v":{"$error":"#REF!"}},"-",{"$f":"VLOOKUP(I7,対戦表!#REF!,2,0)","v":{"$error":"#REF!"}},{"$f":"VLOOKUP(J7,対戦表!#REF!,2,0)","v":{"$error":"#REF!"}},"-",{"$f":"VLOOKUP(L7,対戦表!#REF!,2,0)","v":{"$error":"#REF!"}},{"$f":"VLOOKUP(M7,対戦表!#REF!,2,0)","v":{"$error":"#REF!"}},"-",{"$f":"VLOOKUP(O7,対戦表!#REF!,2,0)","v":{"$error":"#REF!"}},{"$f":"VLOOKUP(P7,対戦表!#REF!,2,0)","v":{"$error":"#REF!"}},"-",{"$f":"VLOOKUP(R7,対戦表!#REF!,2,0)","v":{"$error":"#REF!"}},{"$f":"VLOOKUP(S7,対戦表!#REF!,2,0)","v":{"$error":"#REF!"}},"-",{"$f":"VLOOKUP(U7,対戦表!#REF!,2,0)","v":{"$error":"#REF!"}},{"$f":"VLOOKUP(V7,対戦表!#REF!,2,0)","v":{"$error":"#REF!"}},"-",{"$f":"VLOOKUP(X7,対戦表!#REF!,2,0)","v":{"$error":"#REF!"}},{"$nulls":12},{"$f":"CONCATENATE(A$5,AF8)","v":""},{"$f":"$B8","v":0}]
[{"$f":"CONCATENATE(A5,2)","v":"2"},{"$f":"VLOOKUP(A9,チーム表!C:D,2,FALSE)","v":{"$error":"#N/A"}},null,null,{"$f":"IF(D10=\"\",\"\",IF(D10=F10,\"△\",IF(D10>F10,\"〇\",\"×\")))","v":{"$error":"#REF!"}},{"$nulls":4},{"$f":"CONCATENATE($A9,K4)","v":"23"},{"$f":"IF(J10=\"\",\"\",IF(J10=L10,\"△\",IF(J10>L10,\"〇\",\"×\")))","v":{"$error":"#REF!"}},{"$f":"CONCATENATE(K4,$A9)","v":"32"},{"$f":"CONCATENATE($A9,N4)","v":"24"},{"$f":"IF(M10=\"\",\"\",IF(M10=O10,\"△\",IF(M10>O10,\"〇\",\"×\")))","v":{"$error":"#REF!"}},{"$f":"CONCATENATE(N4,$A9)","v":"42"},{"$f":"CONCATENATE($A9,Q4)","v":"25"},{"$f":"IF(P10=\"\",\"\",IF(P10=R10,\"△\",IF(P10>R10,\"〇\",\"×\")))","v":{"$error":"#REF!"}},{"$f":"CONCATENATE(Q4,$A9)","v":"52"},{"$f":"CONCATENATE($A9,T4)","v":"26"},{"$f":"IF(S10=\"\",\"\",IF(S10=U10,\"△\",IF(S10>U10,\"〇\",\"×\")))","v":{"$error":"#REF!"}},{"$f":"CONCATENATE(T4,$A9)","v":"62"},{"$f":"CONCATENATE($A9,W4)","v":"27"},{"$f":"IF(V10=\"\",\"\",IF(V10=X10,\"△\",IF(V10>X10,\"〇\",\"×\")))","v":{"$error":"#REF!"}},{"$f":"CONCATENATE(W4,$A9)","v":"72"},{"$f":"COUNTIF($E9:$W9,\"〇\")","v":0},{"$f":"COUNTIF($E9:$W9,\"×\")","v":0},{"$f":"COUNTIF($E9:$W9,\"△\")","v":0},{"$f":"Y9*2+AA9","v":0},{"$f":"IF(D10=\"\",\"\",D10+G10+M10+P10+J10+S10+V10)","v":{"$error":"#REF!"}},{"$f":"IF(AC9=\"\",\"\",AB9*100+AC9)","v":{"$error":"#REF!"}},{"$f":"IF(AC9=\"\",\"\",F10+I10+L10+O10+R10+U10+X10)","v":{"$error":"#REF!"}},{"$f":"IF(AD9=\"\",\"\",RANK(AD9,AD7:AD20,0))","v":{"$error":"#REF!"}},null,{"$f":"CONCATENATE(A5,AF9)","v":{"$error":"#REF!"}},{"$f":"B9","v":{"$error":"#N/A"}},null,{"$error":"#REF!"},{"$error":"#N/A"}]
[{"$nulls":3},{"$f":"IF(I8=\"\",\"\",I8)","v":{"$error":"#REF!"}},"-",{"$f":"IF(G8=\"\",\"\",G8)","v":{"$error":"#REF!"}},{"$nulls":3},{"$f":"VLOOKUP(J9,対戦表!#REF!,2,0)","v":{"$error":"#REF!"}},"-",{"$f":"VLOOKUP(L9,対戦表!#REF!,2,0)","v":{"$error":"#REF!"}},{"$f":"VLOOKUP(M9,対戦表!#REF!,2,0)","v":{"$error":"#REF!"}},"-",{"$f":"VLOOKUP(O9,対戦表!#REF!,2,0)","v":{"$error":"#REF!"}},{"$f":"VLOOKUP(P9,対戦表!#REF!,2,0)","v":{"$error":"#REF!"}},"-",{"$f":"VLOOKUP(R9,対戦表!#REF!,2,0)","v":{"$error":"#REF!"}},{"$f":"VLOOKUP(S9,対戦表!#REF!,2,0)","v":{"$error":"#REF!"}},"-",{"$f":"VLOOKUP(U9,対戦表!#REF!,2,0)","v":{"$error":"#REF!"}},{"$f":"VLOOKUP(V9,対戦表!#REF!,2,0)","v":{"$error":"#REF!"}},"-",{"$f":"VLOOKUP(X9,対戦表!#REF!,2,0)","v":{"$error":"#REF!"}},{"$nulls":12},"",0]
[{"$f":"CONCATENATE(A5,3)","v":"3"},{"$f":"VLOOKUP(A11,チーム表!C:D,2,FALSE)","v":{"$error":"#N/A"}},null,null,{"$f":"IF(D12=\"\",\"\",IF(D12=F12,\"△\",IF(D12>F12,\"〇\",\"×\")))","v":{"$error":"#REF!"}},null,null,{"$f":"IF(G12=\"\",\"\",IF(G12=I12,\"△\",IF(G12>I12,\"〇\",\"×\")))","v":{"$error":"#REF!"}},{"$nulls":4},{"$f":"CONCATENATE($A11,N4)","v":"34"},{"$f":"IF(M12=\"\",\"\",IF(M12=O12,\"△\",IF(M12>O12,\"〇\",\"×\")))","v":{"$error":"#REF!"}},{"$f":"CONCATENATE(N4,$A11)","v":"43"},{"$f":"CONCATENATE($A11,Q4)","v":"35"},{"$f":"IF(P12=\"\",\"\",IF(P12=R12,\"△\",IF(P12>R12,\"〇\",\"×\")))","v":{"$error":"#REF!"}},{"$f":"CONCATENATE(Q4,$A11)","v":"53"},{"$f":"CONCATENATE($A11,T4)","v":"36"},{"$f":"IF(S12=\"\",\"\",IF(S12=U12,\"△\",IF(S12>U12,\"〇\",\"×\")))","v":{"$error":"#REF!"}},{"$f":"CONCATENATE(T4,$A11)","v":"63"},{"$f":"CONCATENATE($A11,W4)","v":"37"},{"$f":"IF(V12=\"\",\"\",IF(V12=X12,\"△\",IF(V12>X12,\"〇\",\"×\")))","v":{"$error":"#REF!"}},{"$f":"CONCATENATE(W4,$A11)","v":"73"},{"$f":"COUNTIF($E11:$W11,\"〇\")","v":0},{"$f":"COUNTIF($E11:$W11,\"×\")","v":0},{"$f":"COUNTIF($E11:$W11,\"△\")","v":0},{"$f":"Y11*2+AA11","v":0},{"$f":"IF(D12=\"\",\"\",D12+G12+M12+P12+J12+S12+V12)","v":{"$error":"#REF!"}},{"$f":"IF(AC11=\"\",\"\",AB11*100+AC11)","v":{"$error":"#REF!"}},{"$f":"IF(AC11=\"\",\"\",F12+I12+L12+O12+R12+U12+X12)","v":{"$error":"#REF!"}},{"$f":"IF(AD11=\"\",\"\",RANK(AD11,AD7:AD20,0))","v":{"$error":"#REF!"}},null,{"$f":"CONCATENATE(A5,AF11)","v":{"$error":"#REF!"}},{"$f":"B11","v":{"$error":"#N/A"}},null,{"$error":"#REF!"},{"$error":"#N/A"}]
[{"$nulls":3},{"$f":"IF(L8=\"\",\"\",L8)","v":{"$error":"#REF!"}},"-",{"$f":"IF(J8=\"\",\"\",J8)","v":{"$error":"#REF!"}},{"$f":"IF(L10=\"\",\"\",L10)","v":{"$error":"#REF!"}},"-",{"$f":"IF(J10=\"\",\"\",J10)","v":{"$error":"#REF!"}},{"$nulls":3},{"$f":"VLOOKUP(M11,対戦表!#REF!,2,0)","v":{"$error":"#REF!"}},"-",{"$f":"VLOOKUP(O11,対戦表!#REF!,2,0)","v":{"$error":"#REF!"}},{"$f":"VLOOKUP(P11,対戦表!#REF!,2,0)","v":{"$error":"#REF!"}},"-",{"$f":"VLOOKUP(R11,対戦表!#REF!,2,0)","v":{"$error":"#REF!"}},{"$f":"VLOOKUP(S11,対戦表!#REF!,2,0)","v":{"$error":"#REF!"}},"-",{"$f":"VLOOKUP(U11,対戦表!#REF!,2,0)","v":{"$error":"#REF!"}},{"$f":"VLOOKUP(V11,対戦表!#REF!,2,0)","v":{"$error":"#REF!"}},"-",{"$f":"VLOOKUP(X11,対戦表!#REF!,2,0)","v":{"$error":"#REF!"}},{"$nulls":12},"",0]
[{"$f":"CONCATENATE(A5,4)","v":"4"},{"$f":"VLOOKUP(A13,チーム表!C:D,2,FALSE)","v":{"$error":"#N/A"}},null,null,{"$f":"IF(D14=\"\",\"\",IF(D14=F14,\"△\",IF(D14>F14,\"〇\",\"×\")))","v":{"$error":"#REF!"}},null,null,{"$f":"IF(G14=\"\",\"\",IF(G14=I14,\"△\",IF(G14>I14,\"〇\",\"×\")))","v":{"$error":"#REF!"}},null,null,{"$f":"IF(J14=\"\",\"\",IF(J14=L14,\"△\",IF(J14>L14,\"〇\",\"×\")))","v":{"$error":"#REF!"}},{"$nulls":4},{"$f":"CONCATENATE($A13,Q4)","v":"45"},{"$f":"IF(P14=\"\",\"\",IF(P14=R14,\"△\",IF(P14>R14,\"〇\",\"×\")))","v":{"$error":"#REF!"}},{"$f":"CONCATENATE(Q4,$A13)","v":"54"},{"$f":"CONCATENATE($A13,T4)","v":"46"},{"$f":"IF(S14=\"\",\"\",IF(S14=U14,\"△\",IF(S14>U14,\"〇\",\"×\")))","v":{"$error":"#REF!"}},{"$f":"CONCATENATE(T4,$A13)","v":"64"},{"$f":"CONCATENATE($A13,W4)","v":"47"},{"$f":"IF(V14=\"\",\"\",IF(V14=X14,\"△\",IF(V14>X14,\"〇\",\"×\")))","v":{"$error":"#REF!"}},{"$f":"CONCATENATE(W4,$A13)","v":"74"},null,{"$f":"COUNTIF($E13:$W13,\"×\")","v":0},{"$f":"COUNTIF($E13:$W13,\"△\")","v":0},{"$f":"Y13*2+AA13","v":0},{"$f":"IF(D14=\"\",\"\",D14+G14+M14+P14+J14+S14+V14)","v":{"$error":"#REF!"}},{"$f":"IF(AC13=\"\",\"\",AB13*100+AC13)","v":{"$error":"#REF!"}},{"$f":"IF(AC13=\"\",\"\",F14+I14+L14+O14+R14+U14+X14)","v":{"$error":"#REF!"}},{"$f":"IF(AD13=\"\",\"\",RANK(AD13,AD7:AD20,0))","v":{"$error":"#REF!"}},null,{"$f":"CONCATENATE(A5,AF13)","v":{"$error":"#REF!"}},{"$f":"B13","v":{"$error":"#N/A"}},null,{"$error":"#REF!"},{"$error":"#N/A"}]
[{"$nulls":3},{"$f":"IF(O8=\"\",\"\",O8)","v":{"$error":"#REF!"}},"-",{"$f":"IF(M8=\"\",\"\",M8)","v":{"$error":"#REF!"}},{"$f":"IF(O10=\"\",\"\",O10)","v":{"$error":"#REF!"}},"-",{"$f":"IF(M10=\"\",\"\",M10)","v":{"$error":"#REF!"}},{"$f":"IF(O12=\"\",\"\",O12)","v":{"$error":"#REF!"}},"-",{"$f":"IF(M12=\"\",\"\",M12)","v":{"$error":"#REF!"}},{"$nulls":3},{"$f":"VLOOKUP(P13,対戦表!#REF!,2,0)","v":{"$error":"#REF!"}},"-",{"$f":"VLOOKUP(R13,対戦表!#REF!,2,0)","v":{"$error":"#REF!"}},{"$f":"VLOOKUP(S13,対戦表!#REF!,2,0)","v":{"$error":"#REF!"}},"-",{"$f":"VLOOKUP(U13,対戦表!#REF!,2,0)","v":{"$error":"#REF!"}},{"$f":"VLOOKUP(V13,対戦表!#REF!,2,0)","v":{"$error":"#REF!"}},"-",{"$f":"VLOOKUP(X13,対戦表!#REF!,2,0)","v":{"$error":"#REF!"}},{"$nulls":12},"",0]
[{"$f":"CONCATENATE(A5,5)","v":"5"},{"$f":"VLOOKUP(A15,チーム表!C:D,2,FALSE)","v":{"$error":"#N/A"}},null,null,{"$f":"IF(D16=\"\",\"\",IF(D16=F16,\"△\",IF(D16>F16,\"〇\",\"×\")))","v":{"$error":"#REF!"}},null,null,{"$f":"IF(G16=\"\",\"\",IF(G16=I16,\"△\",IF(G16>I16,\"〇\",\"×\")))","v":{"$error":"#REF!"}},null,null,{"$f":"IF(J16=\"\",\"\",IF(J16=L16,\"△\",IF(J16>L16,\"〇\",\"×\")))","v":{"$error":"#REF!"}},null,null,{"$f":"IF(M16=\"\",\"\",IF(M16=O16,\"△\",IF(M16>O16,\"〇\",\"×\")))","v":{"$error":"#REF!"}},null,{"$f":"IF(P16=\"\",\"\",IF(P16=R16,\"△\",IF(P16>R16,\"〇\",\"×\")))","v":""},null,null,{"$f":"CONCATENATE($A15,T4)","v":"56"},{"$f":"IF(S16=\"\",\"\",IF(S16=U16,\"△\",IF(S16>U16,\"〇\",\"×\")))","v":{"$error":"#REF!"}},{"$f":"CONCATENATE(T4,$A15)","v":"65"},{"$f":"CONCATENATE($A15,W4)","v":"57"},{"$f":"IF(V16=\"\",\"\",IF(V16=X16,\"△\",IF(V16>X16,\"〇\",\"×\")))","v":{"$error":"#REF!"}},{"$f":"CONCATENATE(W4,$A15)","v":"75"},{"$f":"COUNTIF($E15:$W15,\"〇\")","v":0},{"$f":"COUNTIF($E15:$W15,\"×\")","v":0},{"$f":"COUNTIF($E15:$W15,\"△\")","v":0},{"$f":"Y15*2+AA15","v":0},{"$f":"IF(D16=\"\",\"\",D16+G16+M16+P16+J16+S16+V16)","v":{"$error":"#REF!"}},{"$f":"IF(AC15=\"\",\"\",AB15*100+AC15)","v":{"$error":"#REF!"}},{"$f":"IF(AC15=\"\",\"\",F16+I16+L16+O16+R16+U16+X16)","v":{"$error":"#REF!"}},{"$f":"IF(AD15=\"\",\"\",RANK(AD15,AD7:AD20,0))","v":{"$error":"#REF!"}},null,{"$f":"CONCATENATE(A5,AF15)","v":{"$error":"#REF!"}},{"$f":"B15","v":{"$error":"#N/A"}},null,{"$error":"#REF!"},{"$error":"#N/A"}]
[{"$nulls":3},{"$f":"IF($R8=\"\",\"\",$R8)","v":{"$error":"#REF!"}},"-",{"$f":"IF($P8=\"\",\"\",$P8)","v":{"$error":"#REF!"}},{"$f":"IF($R10=\"\",\"\",$R10)","v":{"$error":"#REF!"}},"-",{"$f":"IF($P10=\"\",\"\",$P10)","v":{"$error":"#REF!"}},{"$f":"IF($R12=\"\",\"\",$R12)","v":{"$error":"#REF!"}},"-",{"$f":"IF($P12=\"\",\"\",$P12)","v":{"$error":"#REF!"}},{"$f":"IF($R14=\"\",\"\",$R14)","v":{"$error":"#REF!"}},"-",{"$f":"IF($P14=\"\",\"\",$P14)","v":{"$error":"#REF!"}},{"$nulls":3},{"$f":"VLOOKUP(S15,対戦表!#REF!,2,0)","v":{"$error":"#REF!"}},"-",{"$f":"VLOOKUP(U15,対戦表!#REF!,2,0)","v":{"$error":"#REF!"}},{"$f":"VLOOKUP(V15,対戦表!#REF!,2,0)","v":{"$error":"#REF!"}},"-",{"$f":"VLOOKUP(X15,対戦表!#REF!,2,0)","v":{"$error":"#REF!"}},{"$nulls":12},"",0]
[{"$f":"CONCATENATE(A5,6)","v":"6"},{"$f":"VLOOKUP(A17,チーム表!C:D,2,FALSE)","v":{"$error":"#N/A"}},null,null,{"$f":"IF(D18=\"\",\"\",IF(D18=F18,\"△\",IF(D18>F18,\"〇\",\"×\")))","v":{"$error":"#REF!"}},null,null,{"$f":"IF(G18=\"\",\"\",IF(G18=I18,\"△\",IF(G18>I18,\"〇\",\"×\")))","v":{"$error":"#REF!"}},null,null,{"$f":"IF(J18=\"\",\"\",IF(J18=L18,\"△\",IF(J18>L18,\"〇\",\"×\")))","v":{"$error":"#REF!"}},null,null,{"$f":"IF(M18=\"\",\"\",IF(M18=O18,\"△\",IF(M18>O18,\"〇\",\"×\")))","v":{"$error":"#REF!"}},null,null,{"$f":"IF(P18=\"\",\"\",IF(P18=R18,\"△\",IF(P18>R18,\"〇\",\"×\")))","v":{"$error":"#REF!"}},{"$nulls":4},{"$f":"CONCATENATE($A17,W4)","v":"67"},{"$f":"IF(V18=\"\",\"\",IF(V18=X18,\"△\",IF(V18>X18,\"〇\",\"×\")))","v":{"$error":"#REF!"}},{"$f":"CONCATENATE(W4,$A17)","v":"76"},{"$f":"COUNTIF($E17:$W17,\"〇\")","v":0},{"$f":"COUNTIF($E17:$W17,\"×\")","v":0},{"$f":"COUNTIF($E17:$W17,\"△\")","v":0},{"$f":"Y17*2+AA17","v":0},{"$f":"IF(D18=\"\",\"\",D18+G18+M18+P18+J18+S18+V18)","v":{"$error":"#REF!"}},{"$f":"IF(AC17=\"\",\"\",AB17*100+AC17)","v":{"$error":"#REF!"}},{"$f":"IF(AC17=\"\",\"\",F18+I18+L18+O18+R18+U18+X18)","v":{"$error":"#REF!"}},{"$f":"IF(AD17=\"\",\"\",RANK(AD17,AD7:AD20,0))","v":{"$error":"#REF!"}},null,{"$f":"CONCATENATE(A5,AF17)","v":{"$error":"#REF!"}},{"$f":"B17","v":{"$error":"#N/A"}},null,{"$error":"#REF!"},{"$error":"#N/A"}]
[{"$nulls":3},{"$f":"IF($U8=\"\",\"\",$U8)","v":{"$error":"#REF!"}},"-",{"$f":"IF($S8=\"\",\"\",$S8)","v":{"$error":"#REF!"}},{"$f":"IF($U10=\"\",\"\",$U10)","v":{"$error":"#REF!"}},"-",{"$f":"IF($S10=\"\",\"\",$S10)","v":{"$error":"#REF!"}},{"$f":"IF($U12=\"\",\"\",$U12)","v":{"$error":"#REF!"}},"-",{"$f":"IF($S12=\"\",\"\",$S12)","v":{"$error":"#REF!"}},{"$f":"IF($U14=\"\",\"\",$U14)","v":{"$error":"#REF!"}},"-",{"$f":"IF($S14=\"\",\"\",$S14)","v":{"$error":"#REF!"}},{"$f":"IF($U16=\"\",\"\",$U16)","v":{"$error":"#REF!"}},"-",{"$f":"IF($S16=\"\",\"\",$S16)","v":{"$error":"#REF!"}},{"$nulls":3},{"$f":"VLOOKUP(V17,対戦表!#REF!,2,0)","v":{"$error":"#REF!"}},"-",{"$f":"VLOOKUP(X17,対戦表!#REF!,2,0)","v":{"$error":"#REF!"}},{"$nulls":12},"",0]
[{"$f":"CONCATENATE(A5,7)","v":"7"},{"$f":"VLOOKUP(A19,チーム表!C:D,2,FALSE)","v":{"$error":"#N/A"}},null,null,{"$f":"IF(D20=\"\",\"\",IF(D20=F20,\"△\",IF(D20>F20,\"〇\",\"×\")))","v":{"$error":"#REF!"}},null,null,{"$f":"IF(G20=\"\",\"\",IF(G20=I20,\"△\",IF(G20>I20,\"〇\",\"×\")))","v":{"$error":"#REF!"}},null,null,{"$f":"IF(J20=\"\",\"\",IF(J20=L20,\"△\",IF(J20>L20,\"〇\",\"×\")))","v":{"$error":"#REF!"}},null,null,{"$f":"IF(M20=\"\",\"\",IF(M20=O20,\"△\",IF(M20>O20,\"〇\",\"×\")))","v":{"$error":"#REF!"}},null,null,{"$f":"IF(P20=\"\",\"\",IF(P20=R20,\"△\",IF(P20>R20,\"〇\",\"×\")))","v":{"$error":"#REF!"}},null,null,{"$f":"IF(S20=\"\",\"\",IF(S20=U20,\"△\",IF(S20>U20,\"〇\",\"×\")))","v":{"$error":"#REF!"}},{"$nulls":4},{"$f":"COUNTIF($E19:$W19,\"〇\")","v":0},{"$f":"COUNTIF($E19:$W19,\"×\")","v":0},{"$f":"COUNTIF($E19:$W19,\"△\")","v":0},{"$f":"Y19*2+AA19","v":0},{"$f":"IF(D20=\"\",\"\",D20+G20+M20+P20+J20+S20+V20)","v":{"$error":"#REF!"}},{"$f":"IF(AC19=\"\",\"\",AB19*100+AC19)","v":{"$error":"#REF!"}},{"$f":"IF(AC19=\"\",\"\",F20+I20+L20+O20+R20+U20+X20)","v":{"$error":"#REF!"}},{"$f":"IF(AD19=\"\",\"\",RANK(AD19,AD7:AD20,0))","v":{"$error":"#REF!"}},null,{"$f":"CONCATENATE(A5,AF19)","v":{"$error":"#REF!"}},{"$f":"B19","v":{"$error":"#N/A"}},null,{"$error":"#REF!"},{"$error":"#N/A"}]
[{"$nulls":3},{"$f":"IF($X8=\"\",\"\",$X8)","v":{"$error":"#REF!"}},"-",{"$f":"IF($V8=\"\",\"\",$V8)","v":{"$error":"#REF!"}},{"$f":"IF($X10=\"\",\"\",$X10)","v":{"$error":"#REF!"}},"-",{"$f":"IF($V10=\"\",\"\",$V10)","v":{"$error":"#REF!"}},{"$f":"IF($X12=\"\",\"\",$X12)","v":{"$error":"#REF!"}},"-",{"$f":"IF($V12=\"\",\"\",$V12)","v":{"$error":"#REF!"}},{"$f":"IF($X14=\"\",\"\",$X14)","v":{"$error":"#REF!"}},"-",{"$f":"IF($V14=\"\",\"\",$V14)","v":{"$error":"#REF!"}},{"$f":"IF($X16=\"\",\"\",$X16)","v":{"$error":"#REF!"}},"-",{"$f":"IF($V16=\"\",\"\",$V16)","v":{"$error":"#REF!"}},{"$f":"IF($X18=\"\",\"\",$X18)","v":{"$error":"#REF!"}},"-",{"$f":"IF($V18=\"\",\"\",$V18)","v":{"$error":"#REF!"}},{"$nulls":15},"",0]
[]
[]
[{"$nulls":4},{"$f":"CONCATENATE(A24,\"1\")","v":"1"},null,null,{"$f":"CONCATENATE(A24,\"2\")","v":"2"},null,null,{"$f":"CONCATENATE(A24,\"3\")","v":"3"},null,null,{"$f":"CONCATENATE(A24,\"4\")","v":"4"},null,null,{"$f":"CONCATENATE(A24,\"5\")","v":"5"},null,null,{"$f":"CONCATENATE(A24,\"6\")","v":"6"}]
[null,"チーム名",null,{"$f":"B26","v":{"$error":"#N/A"}},null,null,{"$f":"B28","v":{"$error":"#N/A"}},null,null,{"$f":"B30","v":{"$error":"#N/A"}},null,null,{"$f":"B32","v":{"$error":"#N/A"}},null,null,{"$f":"B34","v":{"$error":"#N/A"}},null,null,{"$f":"B36","v":{"$error":"#N/A"}},{"$nulls":5},"勝","負","分","点","内野","順位決定点","相手内野","順位","kaku"]
[]
[{"$f":"CONCATENATE(A24,1)","v":"1"},{"$f":"VLOOKUP(A26,チーム表!C:D,2,FALSE)","v":{"$error":"#N/A"}},{"$nulls":4},{"$f":"CONCATENATE($A26,H23)","v":"12"},{"$f":"IF(G27=\"\",\"\",IF(G27=I27,\"△\",IF(G27>I27,\"〇\",\"×\")))","v":{"$error":"#REF!"}},{"$f":"CONCATENATE(H23,$A26)","v":"21"},{"$f":"CONCATENATE($A26,K23)","v":"13"},{"$f":"IF(J27=\"\",\"\",IF(J27=L27,\"△\",IF(J27>L27,\"〇\",\"×\")))","v":{"$error":"#REF!"}},{"$f":"CONCATENATE(K23,$A26)","v":"31"},{"$f":"CONCATENATE($A26,N23)","v":"14"},{"$f":"IF(M27=\"\",\"\",IF(M27=O27,\"△\",IF(M27>O27,\"〇\",\"×\")))","v":{"$error":"#REF!"}},{"$f":"CONCATENATE(N23,$A26)","v":"41"},{"$f":"CONCATENATE($A26,Q23)","v":"15"},{"$f":"IF(P27=\"\",\"\",IF(P27=R27,\"△\",IF(P27>R27,\"〇\",\"×\")))","v":{"$error":"#REF!"}},{"$f":"CONCATENATE(Q23,$A26)","v":"51"},{"$f":"CONCATENATE($A26,T23)","v":"16"},{"$f":"IF(S27=\"\",\"\",IF(S27=U27,\"△\",IF(S27>U27,\"〇\",\"×\")))","v":{"$error":"#REF!"}},{"$f":"CONCATENATE(T23,$A26)","v":"61"},{"$nulls":3},{"$f":"COUNTIF($E26:$T26,\"〇\")","v":0},{"$f":"COUNTIF($E26:$T26,\"×\")","v":0},{"$f":"COUNTIF($E26:$T26,\"△\")","v":0},{"$f":"Y26*2+AA26","v":0},{"$f":"IF(G27=\"\",\"\",D27+G27+M27+P27+J27+S27)","v":{"$error":"#REF!"}},{"$f":"IF(AC26=\"\",\"\",AB26*100+AC26)","v":{"$error":"#REF!"}},{"$f":"IF(AC26=\"\",\"\",F27+I27+L27+O27+R27+U27)","v":{"$error":"#REF!"}},{"$f":"IF(AD26=\"\",\"\",RANK(AD26,AD26:AD37,0))","v":{"$error":"#REF!"}},null,{"$f":"CONCATENATE(A24,AF26)","v":{"$error":"#REF!"}},{"$f":"B26","v":{"$error":"#N/A"}},null,{"$f":"CONCATENATE(A$5,AF26)","v":{"$error":"#REF!"}},{"$f":"$B26","v":{"$error":"#N/A"}}]
[{"$nulls":6},{"$f":"VLOOKUP(G26,対戦表!#REF!,2,0)","v":{"$error":"#REF!"}},"-",{"$f":"VLOOKUP(I26,対戦表!#REF!,2,0)","v":{"$error":"#REF!"}},{"$f":"VLOOKUP(J26,対戦表!#REF!,2,0)","v":{"$error":"#REF!"}},"-",{"$f":"VLOOKUP(L26,対戦表!#REF!,2,0)","v":{"$error":"#REF!"}},{"$f":"VLOOKUP(M26,対戦表!#REF!,2,0)","v":{"$error":"#REF!"}},"-",{"$f":"VLOOKUP(O26,対戦表!#REF!,2,0)","v":{"$error":"#REF!"}},{"$f":"VLOOKUP(P26,対戦表!#REF!,2,0)","v":{"$error":"#REF!"}},"-",{"$f":"VLOOKUP(R26,対戦表!#REF!,2,0)","v":{"$error":"#REF!"}},{"$f":"VLOOKUP(S26,対戦表!#REF!,2,0)","v":{"$error":"#REF!"}},"-",{"$f":"VLOOKUP(U26,対戦表!#REF!,2,0)","v":{"$error":"#REF!"}},{"$nulls":15},{"$f":"CONCATENATE(A$5,AF27)","v":""},{"$f":"$B27","v":0}]
[{"$f":"CONCATENATE(A24,2)","v":"2"},{"$f":"VLOOKUP(A28,チーム表!C:D,2,FALSE)","v":{"$error":"#N/A"}},null,null,{"$f":"IF(D29=\"\",\"\",IF(D29=F29,\"△\",IF(D29>F29,\"〇\",\"×\")))","v":{"$error":"#REF!"}},{"$nulls":4},{"$f":"CONCATENATE($A28,K23)","v":"23"},{"$f":"IF(J29=\"\",\"\",IF(J29=L29,\"△\",IF(J29>L29,\"〇\",\"×\")))","v":{"$error":"#REF!"}},{"$f":"CONCATENATE(K23,$A28)","v":"32"},{"$f":"CONCATENATE($A28,N23)","v":"24"},{"$f":"IF(M29=\"\",\"\",IF(M29=O29,\"△\",IF(M29>O29,\"〇\",\"×\")))","v":{"$error":"#REF!"}},{"$f":"CONCATENATE(N23,$A28)","v":"42"},{"$f":"CONCATENATE($A28,Q23)","v":"25"},{"$f":"IF(P29=\"\",\"\",IF(P29=R29,\"△\",IF(P29>R29,\"〇\",\"×\")))","v":{"$error":"#REF!"}},{"$f":"CONCATENATE(Q23,$A28)","v":"52"},{"$f":"CONCATENATE($A28,T23)","v":"26"},{"$f":"IF(S29=\"\",\"\",IF(S29=U29,\"△\",IF(S29>U29,\"〇\",\"×\")))","v":{"$error":"#REF!"}},{"$f":"CONCATENATE(T23,$A28)","v":"62"},{"$nulls":3},{"$f":"COUNTIF($E28:$T28,\"〇\")","v":0},{"$f":"COUNTIF($E28:$T28,\"×\")","v":0},{"$f":"COUNTIF($E28:$T28,\"△\")","v":0},{"$f":"Y28*2+AA28","v":0},{"$f":"IF(D29=\"\",\"\",D29+G29+M29+P29+J29+S29)","v":{"$error":"#REF!"}},{"$f":"IF(AC28=\"\",\"\",AB28*100+AC28)","v":{"$error":"#REF!"}},{"$f":"IF(AC28=\"\",\"\",F29+I29+L29+O29+R29+U29)","v":{"$error":"#REF!"}},{"$f":"IF(AD28=\"\",\"\",RANK(AD28,AD26:AD37,0))","v":{"$error":"#REF!"}},null,{"$f":"CONCATENATE(A24,AF28)","v":{"$error":"#REF!"}},{"$f":"B28","v":{"$error":"#N/A"}},null,{"$error":"#REF!"},{"$error":"#N/A"}]
[{"$nulls":3},{"$f":"IF(I27=\"\",\"\",I27)","v":{"$error":"#REF!"}},"-",{"$f":"IF(G27=\"\",\"\",G27)","v":{"$error":"#REF!"}},{"$nulls":3},{"$f":"VLOOKUP(J28,対戦表!#REF!,2,0)","v":{"$error":"#REF!"}},"-",{"$f":"VLOOKUP(L28,対戦表!#REF!,2,0)","v":{"$error":"#REF!"}},{"$f":"VLOOKUP(M28,対戦表!#REF!,2,0)","v":{"$error":"#REF!"}},"-",{"$f":"VLOOKUP(O28,対戦表!#REF!,2,0)","v":{"$error":"#REF!"}},{"$f":"VLOOKUP(P28,対戦表!#REF!,2,0)","v":{"$error":"#REF!"}},"-",{"$f":"VLOOKUP(R28,対戦表!#REF!,2,0)","v":{"$error":"#REF!"}},{"$f":"VLOOKUP(S28,対戦表!#REF!,2,0)","v":{"$error":"#REF!"}},"-",{"$f":"VLOOKUP(U28,対戦表!#REF!,2,0)","v":{"$error":"#REF!"}},{"$nulls":15},"",0]
[{"$f":"CONCATENATE(A24,3)","v":"3"},{"$f":"VLOOKUP(A30,チーム表!C:D,2,FALSE)","v":{"$error":"#N/A"}},null,null,{"$f":"IF(D31=\"\",\"\",IF(D31=F31,\"△\",IF(D31>F31,\"〇\",\"×\")))","v":{"$error":"#REF!"}},null,null,{"$f":"IF(G31=\"\",\"\",IF(G31=I31,\"△\",IF(G31>I31,\"〇\",\"×\")))","v":{"$error":"#REF!"}},{"$nulls":4},{"$f":"CONCATENATE($A30,N23)","v":"34"},{"$f":"IF(M31=\"\",\"\",IF(M31=O31,\"△\",IF(M31>O31,\"〇\",\"×\")))","v":{"$error":"#REF!"}},{"$f":"CONCATENATE(N23,$A30)","v":"43"},{"$f":"CONCATENATE($A30,Q23)","v":"35"},{"$f":"IF(P31=\"\",\"\",IF(P31=R31,\"△\",IF(P31>R31,\"〇\",\"×\")))","v":{"$error":"#REF!"}},{"$f":"CONCATENATE(Q23,$A30)","v":"53"},{"$f":"CONCATENATE($A30,T23)","v":"36"},{"$f":"IF(S31=\"\",\"\",IF(S31=U31,\"△\",IF(S31>U31,\"〇\",\"×\")))","v":{"$error":"#REF!"}},{"$f":"CONCATENATE(T23,$A30)","v":"63"},{"$nulls":3},{"$f":"COUNTIF($E30:$T30,\"〇\")","v":0},{"$f":"COUNTIF($E30:$T30,\"×\")","v":0},{"$f":"COUNTIF($E30:$T30,\"△\")","v":0},{"$f":"Y30*2+AA30","v":0},{"$f":"IF(G31=\"\",\"\",D31+G31+M31+P31+J31+S31)","v":{"$error":"#REF!"}},{"$f":"IF(AC30=\"\",\"\",AB30*100+AC30)","v":{"$error":"#REF!"}},{"$f":"IF(AC30=\"\",\"\",F31+I31+L31+O31+R31+U31)","v":{"$error":"#REF!"}},{"$f":"IF(AD30=\"\",\"\",RANK(AD30,AD26:AD37,0))","v":{"$error":"#REF!"}},null,{"$f":"CONCATENATE(A24,AF30)","v":{"$error":"#REF!"}},{"$f":"B30","v":{"$error":"#N/A"}},null,{"$error":"#REF!"},{"$error":"#N/A"}]
[{"$nulls":3},{"$f":"IF(L27=\"\",\"\",L27)","v":{"$error":"#REF!"}},"-",{"$f":"IF(J27=\"\",\"\",J27)","v":{"$error":"#REF!"}},{"$f":"IF(L29=\"\",\"\",L29)","v":{"$error":"#REF!"}},"-",{"$f":"IF(J29=\"\",\"\",J29)","v":{"$error":"#REF!"}},{"$nulls":3},{"$f":"VLOOKUP(M30,対戦表!#REF!,2,0)","v":{"$error":"#REF!"}},"-",{"$f":"VLOOKUP(O30,対戦表!#REF!,2,0)","v":{"$error":"#REF!"}},{"$f":"VLOOKUP(P30,対戦表!#REF!,2,0)","v":{"$error":"#REF!"}},"-",{"$f":"VLOOKUP(R30,対戦表!#REF!,2,0)","v":{"$error":"#REF!"}},{"$f":"VLOOKUP(S30,対戦表!#REF!,2,0)","v":{"$error":"#REF!"}},"-",{"$f":"VLOOKUP(U30,対戦表!#REF!,2,0)","v":{"$error":"#REF!"}},{"$nulls":15},"",0]
[{"$f":"CONCATENATE(A24,4)","v":"4"},{"$f":"VLOOKUP(A32,チーム表!C:D,2,FALSE)","v":{"$error":"#N/A"}},null,null,{"$f":"IF(D33=\"\",\"\",IF(D33=F33,\"△\",IF(D33>F33,\"〇\",\"×\")))","v":{"$error":"#REF!"}},null,null,{"$f":"IF(G33=\"\",\"\",IF(G33=I33,\"△\",IF(G33>I33,\"〇\",\"×\")))","v":{"$error":"#REF!"}},null,null,{"$f":"IF(J33=\"\",\"\",IF(J33=L33,\"△\",IF(J33>L33,\"〇\",\"×\")))","v":{"$error":"#REF!"}},{"$nulls":4},{"$f":"CONCATENATE($A32,Q23)","v":"45"},{"$f":"IF(P33=\"\",\"\",IF(P33=R33,\"△\",IF(P33>R33,\"〇\",\"×\")))","v":{"$error":"#REF!"}},{"$f":"CONCATENATE(Q23,$A32)","v":"54"},{"$f":"CONCATENATE($A32,T23)","v":"46"},{"$f":"IF(S33=\"\",\"\",IF(S33=U33,\"△\",IF(S33>U33,\"〇\",\"×\")))","v":{"$error":"#REF!"}},{"$f":"CONCATENATE(T23,$A32)","v":"64"},{"$nulls":3},{"$f":"COUNTIF($E32:$T32,\"〇\")","v":0},{"$f":"COUNTIF($E32:$T32,\"×\")","v":0},{"$f":"COUNTIF($E32:$T32,\"△\")","v":0},{"$f":"Y32*2+AA32","v":0},{"$f":"IF(G33=\"\",\"\",D33+G33+M33+P33+J33+S33)","v":{"$error":"#REF!"}},{"$f":"IF(AC32=\"\",\"\",AB32*100+AC32)","v":{"$error":"#REF!"}},{"$f":"IF(AC32=\"\",\"\",F33+I33+L33+O33+R33+U33)","v":{"$error":"#REF!"}},{"$f":"IF(AD32=\"\",\"\",RANK(AD32,AD26:AD37,0))","v":{"$error":"#REF!"}},null,{"$f":"CONCATENATE(A24,AF32)","v":{"$error":"#REF!"}},{"$f":"B32","v":{"$error":"#N/A"}},null,{"$error":"#REF!"},{"$error":"#N/A"}]
[{"$nulls":3},{"$f":"IF(O27=\"\",\"\",O27)","v":{"$error":"#REF!"}},"-",{"$f":"IF(M27=\"\",\"\",M27)","v":{"$error":"#REF!"}},{"$f":"IF(O29=\"\",\"\",O29)","v":{"$error":"#REF!"}},"-",{"$f":"IF(M29=\"\",\"\",M29)","v":{"$error":"#REF!"}},{"$f":"IF(O31=\"\",\"\",O31)","v":{"$error":"#REF!"}},"-",{"$f":"IF(M31=\"\",\"\",M31)","v":{"$error":"#REF!"}},{"$nulls":3},{"$f":"VLOOKUP(P32,対戦表!#REF!,2,0)","v":{"$error":"#REF!"}},"-",{"$f":"VLOOKUP(R32,対戦表!#REF!,2,0)","v":{"$error":"#REF!"}},{"$f":"VLOOKUP(S32,対戦表!#REF!,2,0)","v":{"$error":"#REF!"}},"-",{"$f":"VLOOKUP(U32,対戦表!#REF!,2,0)","v":{"$error":"#REF!"}},{"$nulls":15},"",0]
[{"$f":"CONCATENATE(A24,5)","v":"5"},{"$f":"VLOOKUP(A34,チーム表!C:D,2,FALSE)","v":{"$error":"#N/A"}},null,null,{"$f":"IF(D35=\"\",\"\",IF(D35=F35,\"△\",IF(D35>F35,\"〇\",\"×\")))","v":{"$error":"#REF!"}},null,null,{"$f":"IF(G35=\"\",\"\",IF(G35=I35,\"△\",IF(G35>I35,\"〇\",\"×\")))","v":{"$error":"#REF!"}},null,null,{"$f":"IF(J35=\"\",\"\",IF(J35=L35,\"△\",IF(J35>L35,\"〇\",\"×\")))","v":{"$error":"#REF!"}},null,null,{"$f":"IF(M35=\"\",\"\",IF(M35=O35,\"△\",IF(M35>O35,\"〇\",\"×\")))","v":{"$error":"#REF!"}},null,{"$f":"IF(P35=\"\",\"\",IF(P35=R35,\"△\",IF(P35>R35,\"〇\",\"×\")))","v":""},null,null,{"$f":"CONCATENATE($A34,T23)","v":"56"},{"$f":"IF(S35=\"\",\"\",IF(S35=U35,\"△\",IF(S35>U35,\"〇\",\"×\")))","v":{"$error":"#REF!"}},{"$f":"CONCATENATE(T23,$A34)","v":"65"},{"$nulls":3},{"$f":"COUNTIF($E34:$T34,\"〇\")","v":0},{"$f":"COUNTIF($E34:$T34,\"×\")","v":0},{"$f":"COUNTIF($E34:$T34,\"△\")","v":0},{"$f":"Y34*2+AA34","v":0},{"$f":"IF(G35=\"\",\"\",D35+G35+M35+P35+J35+S35)","v":{"$error":"#REF!"}},{"$f":"IF(AC34=\"\",\"\",AB34*100+AC34)","v":{"$error":"#REF!"}},{"$f":"IF(AC34=\"\",\"\",F35+I35+L35+O35+R35+U35)","v":{"$error":"#REF!"}},{"$f":"IF(AD34=\"\",\"\",RANK(AD34,AD26:AD37,0))","v":{"$error":"#REF!"}},null,{"$f":"CONCATENATE(A24,AF34)","v":{"$error":"#REF!"}},{"$f":"B34","v":{"$error":"#N/A"}},null,{"$error":"#REF!"},{"$error":"#N/A"}]
[{"$nulls":3},{"$f":"IF($R27=\"\",\"\",$R27)","v":{"$error":"#REF!"}},"-",{"$f":"IF($P27=\"\",\"\",$P27)","v":{"$error":"#REF!"}},{"$f":"IF($R29=\"\",\"\",$R29)","v":{"$error":"#REF!"}},"-",{"$f":"IF($P29=\"\",\"\",$P29)","v":{"$error":"#REF!"}},{"$f":"IF($R31=\"\",\"\",$R31)","v":{"$error":"#REF!"}},"-",{"$f":"IF($P31=\"\",\"\",$P31)","v":{"$error":"#REF!"}},{"$f":"IF($R33=\"\",\"\",$R33)","v":{"$error":"#REF!"}},"-",{"$f":"IF($P33=\"\",\"\",$P33)","v":{"$error":"#REF!"}},{"$nulls":3},{"$f":"VLOOKUP(S34,対戦表!#REF!,2,0)","v":{"$error":"#REF!"}},"-",{"$f":"VLOOKUP(U34,対戦表!#REF!,2,0)","v":{"$error":"#REF!"}},{"$nulls":12},{"$f":"CONCATENATE($A$5,AF35)","v":""},null,null,"",0]
[{"$f":"CONCATENATE(A24,6)","v":"6"},{"$f":"VLOOKUP(A36,チーム表!C:D,2,FALSE)","v":{"$error":"#N/A"}},null,null,{"$f":"IF(D37=\"\",\"\",IF(D37=F37,\"△\",IF(D37>F37,\"〇\",\"×\")))","v":{"$error":"#REF!"}},null,null,{"$f":"IF(G37=\"\",\"\",IF(G37=I37,\"△\",IF(G37>I37,\"〇\",\"×\")))","v":{"$error":"#REF!"}},null,null,{"$f":"IF(J37=\"\",\"\",IF(J37=L37,\"△\",IF(J37>L37,\"〇\",\"×\")))","v":{"$error":"#REF!"}},null,null,{"$f":"IF(M37=\"\",\"\",IF(M37=O37,\"△\",IF(M37>O37,\"〇\",\"×\")))","v":{"$error":"#REF!"}},null,null,{"$f":"IF(P37=\"\",\"\",IF(P37=R37,\"△\",IF(P37>R37,\"〇\",\"×\")))","v":{"$error":"#REF!"}},{"$nulls":7},{"$f":"COUNTIF($E36:$T36,\"〇\")","v":0},{"$f":"COUNTIF($E36:$T36,\"×\")","v":0},{"$f":"COUNTIF($E36:$T36,\"△\")","v":0},{"$f":"Y36*2+AA36","v":0},{"$f":"IF(G37=\"\",\"\",D37+G37+M37+P37+J37+S37)","v":{"$error":"#REF!"}},{"$f":"IF(AC36=\"\",\"\",AB36*100+AC36)","v":{"$error":"#REF!"}},{"$f":"IF(AC36=\"\",\"\",F37+I37+L37+O37+R37+U37)","v":{"$error":"#REF!"}},{"$f":"IF(AD36=\"\",\"\",RANK(AD36,AD26:AD37,0))","v":{"$error":"#REF!"}},null,{"$f":"CONCATENATE(A24,AF36)","v":{"$error":"#REF!"}},{"$f":"B36","v":{"$error":"#N/A"}},null,{"$error":"#REF!"},{"$error":"#N/A"}]
[{"$nulls":3},{"$f":"IF($U27=\"\",\"\",$U27)","v":{"$error":"#REF!"}},"-",{"$f":"IF($S27=\"\",\"\",$S27)","v":{"$error":"#REF!"}},{"$f":"IF($U29=\"\",\"\",$U29)","v":{"$error":"#REF!"}},"-",{"$f":"IF($S29=\"\",\"\",$S29)","v":{"$error":"#REF!"}},{"$f":"IF($U31=\"\",\"\",$U31)","v":{"$error":"#REF!"}},"-",{"$f":"IF($S31=\"\",\"\",$S31)","v":{"$error":"#REF!"}},{"$f":"IF($U33=\"\",\"\",$U33)","v":{"$error":"#REF!"}},"-",{"$f":"IF($S33=\"\",\"\",$S33)","v":{"$error":"#REF!"}},{"$f":"IF($U35=\"\",\"\",$U35)","v":{"$error":"#REF!"}},"-",{"$f":"IF($S35=\"\",\"\",$S35)","v":{"$error":"#REF!"}},{"$nulls":18},"",0]
[]
[]
[{"$nulls":4},{"$f":"CONCATENATE(A41,\"1\")","v":"1"},null,null,{"$f":"CONCATENATE(A41,\"2\")","v":"2"},null,null,{"$f":"CONCATENATE(A41,\"3\")","v":"3"},null,null,{"$f":"CONCATENATE(A41,\"4\")","v":"4"},null,null,{"$f":"CONCATENATE(A41,\"5\")","v":"5"}]
[null,"チーム名",null,{"$f":"B43","v":{"$error":"#N/A"}},null,null,{"$f":"B45","v":{"$error":"#N/A"}},null,null,{"$f":"B47","v":{"$error":"#N/A"}},null,null,{"$f":"B49","v":{"$error":"#N/A"}},null,null,{"$f":"B51","v":{"$error":"#N/A"}},{"$nulls":8},"勝","負","分","点","内野","順位決定点","相手内野","順位","kaku"]
[]
[{"$f":"CONCATENATE(A41,1)","v":"1"},{"$f":"VLOOKUP(A43,チーム表!C:D,2,FALSE)","v":{"$error":"#N/A"}},{"$nulls":4},{"$f":"CONCATENATE($A43,H40)","v":"12"},{"$f":"IF(G44=\"\",\"\",IF(G44=I44,\"△\",IF(G44>I44,\"〇\",\"×\")))","v":{"$error":"#REF!"}},{"$f":"CONCATENATE(H40,$A43)","v":"21"},{"$f":"CONCATENATE($A43,K40)","v":"13"},{"$f":"IF(J44=\"\",\"\",IF(J44=L44,\"△\",IF(J44>L44,\"〇\",\"×\")))","v":{"$error":"#REF!"}},{"$f":"CONCATENATE(K40,$A43)","v":"31"},{"$f":"CONCATENATE($A43,N40)","v":"14"},{"$f":"IF(M44=\"\",\"\",IF(M44=O44,\"△\",IF(M44>O44,\"〇\",\"×\")))","v":{"$error":"#REF!"}},{"$f":"CONCATENATE(N40,$A43)","v":"41"},{"$f":"CONCATENATE($A43,Q40)","v":"15"},{"$f":"IF(P44=\"\",\"\",IF(P44=R44,\"△\",IF(P44>R44,\"〇\",\"×\")))","v":{"$error":"#REF!"}},{"$f":"CONCATENATE(Q40,$A43)","v":"51"},{"$nulls":6},{"$f":"COUNTIF($E43:$Q43,\"〇\")","v":0},{"$f":"COUNTIF($E43:$Q43,\"×\")","v":0},{"$f":"COUNTIF($E43:$Q43,\"△\")","v":0},{"$f":"Y43*2+AA43","v":0},{"$f":"IF(G44=\"\",\"\",D44+G44+M44+P44+J44)","v":{"$error":"#REF!"}},{"$f":"IF(AC43=\"\",\"\",AB43*100+AC43)","v":{"$error":"#REF!"}},{"$f":"IF(AC43=\"\",\"\",F44+I44+L44+O44+R44)","v":{"$error":"#REF!"}},{"$f":"IF(AD43=\"\",\"\",RANK(AD43,AD43:AD52,0))","v":{"$error":"#REF!"}},null,{"$f":"CONCATENATE(A41,AF43)","v":{"$error":"#REF!"}},{"$f":"B43","v":{"$error":"#N/A"}},null,{"$f":"CONCATENATE(A$5,AF43)","v":{"$error":"#REF!"}},{"$f":"$B43","v":{"$error":"#N/A"}}]
[{"$nulls":6},{"$f":"VLOOKUP(G43,対戦表!#REF!,2,0)","v":{"$error":"#REF!"}},"-",{"$f":"VLOOKUP(I43,対戦表!#REF!,2,0)","v":{"$error":"#REF!"}},{"$f":"VLOOKUP(J43,対戦表!#REF!,2,0)","v":{"$error":"#REF!"}},"-",{"$f":"VLOOKUP(L43,対戦表!#REF!,2,0)","v":{"$error":"#REF!"}},{"$f":"VLOOKUP(M43,対戦表!#REF!,2,0)","v":{"$error":"#REF!"}},"-",{"$f":"VLOOKUP(O43,対戦表!#REF!,2,0)","v":{"$error":"#REF!"}},{"$f":"VLOOKUP(P43,対戦表!#REF!,2,0)","v":{"$error":"#REF!"}},"-",{"$f":"VLOOKUP(R43,対戦表!#REF!,2,0)","v":{"$error":"#REF!"}},{"$nulls":18},{"$f":"CONCATENATE(A$5,AF44)","v":""},{"$f":"$B44","v":0}]
[{"$f":"CONCATENATE(A41,2)","v":"2"},{"$f":"VLOOKUP(A45,チーム表!C:D,2,FALSE)","v":{"$error":"#N/A"}},null,null,{"$f":"IF(D46=\"\",\"\",IF(D46=F46,\"△\",IF(D46>F46,\"〇\",\"×\")))","v":{"$error":"#REF!"}},{"$nulls":4},{"$f":"CONCATENATE($A45,K40)","v":"23"},{"$f":"IF(J46=\"\",\"\",IF(J46=L46,\"△\",IF(J46>L46,\"〇\",\"×\")))","v":{"$error":"#REF!"}},{"$f":"CONCATENATE(K40,$A45)","v":"32"},{"$f":"CONCATENATE($A45,N40)","v":"24"},{"$f":"IF(M46=\"\",\"\",IF(M46=O46,\"△\",IF(M46>O46,\"〇\",\"×\")))","v":{"$error":"#REF!"}},{"$f":"CONCATENATE(N40,$A45)","v":"42"},{"$f":"CONCATENATE($A45,Q40)","v":"25"},{"$f":"IF(P46=\"\",\"\",IF(P46=R46,\"△\",IF(P46>R46,\"〇\",\"×\")))","v":{"$error":"#REF!"}},{"$f":"CONCATENATE(Q40,$A45)","v":"52"},{"$nulls":6},{"$f":"COUNTIF($E45:$Q45,\"〇\")","v":0},{"$f":"COUNTIF($E45:$Q45,\"×\")","v":0},{"$f":"COUNTIF($E45:$Q45,\"△\")","v":0},{"$f":"Y45*2+AA45","v":0},{"$f":"IF(D46=\"\",\"\",D46+G46+M46+P46+J46)","v":{"$error":"#REF!"}},{"$f":"IF(AC45=\"\",\"\",AB45*100+AC45)","v":{"$error":"#REF!"}},{"$f":"IF(AC45=\"\",\"\",F46+I46+L46+O46+R46)","v":{"$error":"#REF!"}},{"$f":"IF(AD45=\"\",\"\",RANK(AD45,AD43:AD52,0))","v":{"$error":"#REF!"}},null,{"$f":"CONCATENATE(A41,AF45)","v":{"$error":"#REF!"}},{"$f":"B45","v":{"$error":"#N/A"}},null,{"$error":"#REF!"},{"$error":"#N/A"}]
[{"$nulls":3},{"$f":"IF(I44=\"\",\"\",I44)","v":{"$error":"#REF!"}},"-",{"$f":"IF(G44=\"\",\"\",G44)","v":{"$error":"#REF!"}},{"$nulls":3},{"$f":"VLOOKUP(J45,対戦表!#REF!,2,0)","v":{"$error":"#REF!"}},"-",{"$f":"VLOOKUP(L45,対戦表!#REF!,2,0)","v":{"$error":"#REF!"}},{"$f":"VLOOKUP(M45,対戦表!#REF!,2,0)","v":{"$error":"#REF!"}},"-",{"$f":"VLOOKUP(O45,対戦表!#REF!,2,0)","v":{"$error":"#REF!"}},{"$f":"VLOOKUP(P45,対戦表!#REF!,2,0)","v":{"$error":"#REF!"}},"-",{"$f":"VLOOKUP(R45,対戦表!#REF!,2,0)","v":{"$error":"#REF!"}},{"$nulls":18},"",0]
[{"$f":"CONCATENATE(A41,3)","v":"3"},{"$f":"VLOOKUP(A47,チーム表!C:D,2,FALSE)","v":{"$error":"#N/A"}},null,null,{"$f":"IF(D48=\"\",\"\",IF(D48=F48,\"△\",IF(D48>F48,\"〇\",\"×\")))","v":{"$error":"#REF!"}},null,null,{"$f":"IF(G48=\"\",\"\",IF(G48=I48,\"△\",IF(G48>I48,\"〇\",\"×\")))","v":{"$error":"#REF!"}},{"$nulls":4},{"$f":"CONCATENATE($A47,N40)","v":"34"},{"$f":"IF(M48=\"\",\"\",IF(M48=O48,\"△\",IF(M48>O48,\"〇\",\"×\")))","v":{"$error":"#REF!"}},{"$f":"CONCATENATE(N40,$A47)","v":"43"},{"$f":"CONCATENATE($A47,Q40)","v":"35"},{"$f":"IF(P48=\"\",\"\",IF(P48=R48,\"△\",IF(P48>R48,\"〇\",\"×\")))","v":{"$error":"#REF!"}},{"$f":"CONCATENATE(Q40,$A47)","v":"53"},{"$nulls":6},{"$f":"COUNTIF($E47:$Q47,\"〇\")","v":0},{"$f":"COUNTIF($E47:$Q47,\"×\")","v":0},{"$f":"COUNTIF($E47:$Q47,\"△\")","v":0},{"$f":"Y47*2+AA47","v":0},{"$f":"IF(G48=\"\",\"\",D48+G48+M48+P48+J48)","v":{"$error":"#REF!"}},{"$f":"IF(AC47=\"\",\"\",AB47*100+AC47)","v":{"$error":"#REF!"}},{"$f":"IF(AC47=\"\",\"\",F48+I48+L48+O48+R48)","v":{"$error":"#REF!"}},{"$f":"IF(AD47=\"\",\"\",RANK(AD47,AD43:AD52,0))","v":{"$error":"#REF!"}},null,{"$f":"CONCATENATE(A41,AF47)","v":{"$error":"#REF!"}},{"$f":"B47","v":{"$error":"#N/A"}},null,{"$error":"#REF!"},{"$error":"#N/A"}]
[{"$nulls":3},{"$f":"IF(L44=\"\",\"\",L44)","v":{"$error":"#REF!"}},"-",{"$f":"IF(J44=\"\",\"\",J44)","v":{"$error":"#REF!"}},{"$f":"IF(L46=\"\",\"\",L46)","v":{"$error":"#REF!"}},"-",{"$f":"IF(J46=\"\",\"\",J46)","v":{"$error":"#REF!"}},{"$nulls":3},{"$f":"VLOOKUP(M47,対戦表!#REF!,2,0)","v":{"$error":"#REF!"}},"-",{"$f":"VLOOKUP(O47,対戦表!#REF!,2,0)","v":{"$error":"#REF!"}},{"$f":"VLOOKUP(P47,対戦表!#REF!,2,0)","v":{"$error":"#REF!"}},"-",{"$f":"VLOOKUP(R47,対戦表!#REF!,2,0)","v":{"$error":"#REF!"}},{"$nulls":18},"",0]
[{"$f":"CONCATENATE(A41,4)","v":"4"},{"$f":"VLOOKUP(A49,チーム表!C:D,2,FALSE)","v":{"$error":"#N/A"}},null,null,{"$f":"IF(D50=\"\",\"\",IF(D50=F50,\"△\",IF(D50>F50,\"〇\",\"×\")))","v":{"$error":"#REF!"}},null,null,{"$f":"IF(G50=\"\",\"\",IF(G50=I50,\"△\",IF(G50>I50,\"〇\",\"×\")))","v":{"$error":"#REF!"}},null,null,{"$f":"IF(J50=\"\",\"\",IF(J50=L50,\"△\",IF(J50>L50,\"〇\",\"×\")))","v":{"$error":"#REF!"}},{"$nulls":4},{"$f":"CONCATENATE($A49,Q40)","v":"45"},{"$f":"IF(P50=\"\",\"\",IF(P50=R50,\"△\",IF(P50>R50,\"〇\",\"×\")))","v":{"$error":"#REF!"}},{"$f":"CONCATENATE(Q40,$A49)","v":"54"},{"$nulls":6},{"$f":"COUNTIF($E49:$Q49,\"〇\")","v":0},{"$f":"COUNTIF($E49:$Q49,\"×\")","v":0},{"$f":"COUNTIF($E49:$Q49,\"△\")","v":0},{"$f":"Y49*2+AA49","v":0},{"$f":"IF(G50=\"\",\"\",D50+G50+M50+P50+J50)","v":{"$error":"#REF!"}},{"$f":"IF(AC49=\"\",\"\",AB49*100+AC49)","v":{"$error":"#REF!"}},{"$f":"IF(AC49=\"\",\"\",F50+I50+L50+O50+R50)","v":{"$error":"#REF!"}},{"$f":"IF(AD49=\"\",\"\",RANK(AD49,AD43:AD52,0))","v":{"$error":"#REF!"}},null,{"$f":"CONCATENATE(A41,AF49)","v":{"$error":"#REF!"}},{"$f":"B49","v":{"$error":"#N/A"}},null,{"$error":"#REF!"},{"$error":"#N/A"}]
[{"$nulls":3},{"$f":"IF(O44=\"\",\"\",O44)","v":{"$error":"#REF!"}},"-",{"$f":"IF(M44=\"\",\"\",M44)","v":{"$error":"#REF!"}},{"$f":"IF(O46=\"\",\"\",O46)","v":{"$error":"#REF!"}},"-",{"$f":"IF(M46=\"\",\"\",M46)","v":{"$error":"#REF!"}},{"$f":"IF(O48=\"\",\"\",O48)","v":{"$error":"#REF!"}},"-",{"$f":"IF(M48=\"\",\"\",M48)","v":{"$error":"#REF!"}},{"$nulls":3},{"$f":"VLOOKUP(P49,対戦表!#REF!,2,0)","v":{"$error":"#REF!"}},"-",{"$f":"VLOOKUP(R49,対戦表!#REF!,2,0)","v":{"$error":"#REF!"}},{"$nulls":18},"",0]
[{"$f":"CONCATENATE(A41,5)","v":"5"},{"$f":"VLOOKUP(A51,チーム表!C:D,2,FALSE)","v":{"$error":"#N/A"}},null,null,{"$f":"IF(D52=\"\",\"\",IF(D52=F52,\"△\",IF(D52>F52,\"〇\",\"×\")))","v":{"$error":"#REF!"}},null,null,{"$f":"IF(G52=\"\",\"\",IF(G52=I52,\"△\",IF(G52>I52,\"〇\",\"×\")))","v":{"$error":"#REF!"}},null,null,{"$f":"IF(J52=\"\",\"\",IF(J52=L52,\"△\",IF(J52>L52,\"〇\",\"×\")))","v":{"$error":"#REF!"}},null,null,{"$f":"IF(M52=\"\",\"\",IF(M52=O52,\"△\",IF(M52>O52,\"〇\",\"×\")))","v":{"$error":"#REF!"}},null,{"$f":"IF(P52=\"\",\"\",IF(P52=R52,\"△\",IF(P52>R52,\"〇\",\"×\")))","v":""},{"$nulls":8},{"$f":"COUNTIF($E51:$Q51,\"〇\")","v":0},{"$f":"COUNTIF($E51:$Q51,\"×\")","v":0},{"$f":"COUNTIF($E51:$Q51,\"△\")","v":0},{"$f":"Y51*2+AA51","v":0},{"$f":"IF(G52=\"\",\"\",D52+G52+M52+P52+J52)","v":{"$error":"#REF!"}},{"$f":"IF(AC51=\"\",\"\",AB51*100+AC51)","v":{"$error":"#REF!"}},{"$f":"IF(AC51=\"\",\"\",F52+I52+L52+O52+R52)","v":{"$error":"#REF!"}},{"$f":"IF(AD51=\"\",\"\",RANK(AD51,AD43:AD52,0))","v":{"$error":"#REF!"}},null,{"$f":"CONCATENATE(A41,AF51)","v":{"$error":"#REF!"}},{"$f":"B51","v":{"$error":"#N/A"}},null,{"$error":"#REF!"},{"$error":"#N/A"}]
[{"$nulls":3},{"$f":"IF($R44=\"\",\"\",$R44)","v":{"$error":"#REF!"}},"-",{"$f":"IF($P44=\"\",\"\",$P44)","v":{"$error":"#REF!"}},{"$f":"IF($R46=\"\",\"\",$R46)","v":{"$error":"#REF!"}},"-",{"$f":"IF($P46=\"\",\"\",$P46)","v":{"$error":"#REF!"}},{"$f":"IF($R48=\"\",\"\",$R48)","v":{"$error":"#REF!"}},"-",{"$f":"IF($P48=\"\",\"\",$P48)","v":{"$error":"#REF!"}},{"$f":"IF($R50=\"\",\"\",$R50)","v":{"$error":"#REF!"}},"-",{"$f":"IF($P50=\"\",\"\",$P50)","v":{"$error":"#REF!"}},{"$nulls":21},"",0]
[]
[]
[{"$nulls":4},{"$f":"CONCATENATE(A56,\"1\")","v":"1"},null,null,{"$f":"CONCATENATE(A56,\"2\")","v":"2"},null,null,{"$f":"CONCATENATE(A56,\"3\")","v":"3"},null,null,{"$f":"CONCATENATE(A56,\"4\")","v":"4"}]
[null,"チーム名",null,{"$f":"B58","v":{"$error":"#N/A"}},null,null,{"$f":"B60","v":{"$error":"#N/A"}},null,null,{"$f":"B62","v":{"$error":"#N/A"}},null,null,{"$f":"B64","v":{"$error":"#N/A"}},{"$nulls":11},"勝","負","分","点","内野","順位決定点","相手内野","順位","kaku"]
[]
[{"$f":"CONCATENATE(A56,1)","v":"1"},{"$f":"VLOOKUP(A58,チーム表!C:D,2,FALSE)","v":{"$error":"#N/A"}},{"$nulls":4},{"$f":"CONCATENATE($A58,H55)","v":"12"},{"$f":"IF(G59=\"\",\"\",IF(G59=I59,\"△\",IF(G59>I59,\"〇\",\"×\")))","v":{"$error":"#REF!"}},{"$f":"CONCATENATE(H55,$A58)","v":"21"},{"$f":"CONCATENATE($A58,K55)","v":"13"},{"$f":"IF(J59=\"\",\"\",IF(J59=L59,\"△\",IF(J59>L59,\"〇\",\"×\")))","v":{"$error":"#REF!"}},{"$f":"CONCATENATE(K55,$A58)","v":"31"},{"$f":"CONCATENATE($A58,N55)","v":"14"},{"$f":"IF(M59=\"\",\"\",IF(M59=O59,\"△\",IF(M59>O59,\"〇\",\"×\")))","v":{"$error":"#REF!"}},{"$f":"CONCATENATE(N55,$A58)","v":"41"},{"$nulls":9},{"$f":"COUNTIF($E58:$N58,\"〇\")","v":0},{"$f":"COUNTIF($E58:$N58,\"×\")","v":0},{"$f":"COUNTIF($E58:$N58,\"△\")","v":0},{"$f":"Y58*2+AA58","v":0},{"$f":"IF(G59=\"\",\"\",D59+G59+M59+J59)","v":{"$error":"#REF!"}},{"$f":"IF(AC58=\"\",\"\",AB58*100+AC58)","v":{"$error":"#REF!"}},{"$f":"IF(AC58=\"\",\"\",F59+I59+L59+O59)","v":{"$error":"#REF!"}},{"$f":"IF(AD58=\"\",\"\",RANK(AD58,AD58:AD65,0))","v":{"$error":"#REF!"}},null,{"$f":"CONCATENATE(A56,AF58)","v":{"$error":"#REF!"}},{"$f":"B58","v":{"$error":"#N/A"}},null,{"$f":"CONCATENATE(A$5,AF58)","v":{"$error":"#REF!"}},{"$f":"$B58","v":{"$error":"#N/A"}}]
[{"$nulls":6},{"$f":"VLOOKUP(G58,対戦表!#REF!,2,0)","v":{"$error":"#REF!"}},"-",{"$f":"VLOOKUP(I58,対戦表!#REF!,2,0)","v":{"$error":"#REF!"}},{"$f":"VLOOKUP(J58,対戦表!#REF!,2,0)","v":{"$error":"#REF!"}},"-",{"$f":"VLOOKUP(L58,対戦表!#REF!,2,0)","v":{"$error":"#REF!"}},{"$f":"VLOOKUP(M58,対戦表!#REF!,2,0)","v":{"$error":"#REF!"}},"-",{"$f":"VLOOKUP(O58,対戦表!#REF!,2,0)","v":{"$error":"#REF!"}},{"$nulls":21},{"$f":"CONCATENATE(A$5,AF59)","v":""},{"$f":"$B59","v":0}]
[{"$f":"CONCATENATE(A56,2)","v":"2"},{"$f":"VLOOKUP(A60,チーム表!C:D,2,FALSE)","v":{"$error":"#N/A"}},null,null,{"$f":"IF(D61=\"\",\"\",IF(D61=F61,\"△\",IF(D61>F61,\"〇\",\"×\")))","v":{"$error":"#REF!"}},{"$nulls":4},{"$f":"CONCATENATE($A60,K55)","v":"23"},{"$f":"IF(J61=\"\",\"\",IF(J61=L61,\"△\",IF(J61>L61,\"〇\",\"×\")))","v":{"$error":"#REF!"}},{"$f":"CONCATENATE(K55,$A60)","v":"32"},{"$f":"CONCATENATE($A60,N55)","v":"24"},{"$f":"IF(M61=\"\",\"\",IF(M61=O61,\"△\",IF(M61>O61,\"〇\",\"×\")))","v":{"$error":"#REF!"}},{"$f":"CONCATENATE(N55,$A60)","v":"42"},{"$nulls":9},{"$f":"COUNTIF($E60:$N60,\"〇\")","v":0},{"$f":"COUNTIF($E60:$N60,\"×\")","v":0},{"$f":"COUNTIF($E60:$N60,\"△\")","v":0},{"$f":"Y60*2+AA60","v":0},{"$f":"IF(D61=\"\",\"\",D61+G61+M61+J61)","v":{"$error":"#REF!"}},{"$f":"IF(AC60=\"\",\"\",AB60*100+AC60)","v":{"$error":"#REF!"}},{"$f":"IF(AC60=\"\",\"\",F61+I61+L61+O61)","v":{"$error":"#REF!"}},{"$f":"IF(AD60=\"\",\"\",RANK(AD60,AD58:AD65,0))","v":{"$error":"#REF!"}},null,{"$f":"CONCATENATE(A56,AF60)","v":{"$error":"#REF!"}},{"$f":"B60","v":{"$error":"#N/A"}},null,{"$error":"#REF!"},{"$error":"#N/A"}]
[{"$nulls":3},{"$f":"IF(I59=\"\",\"\",I59)","v":{"$error":"#REF!"}},"-",{"$f":"IF(G59=\"\",\"\",G59)","v":{"$error":"#REF!"}},{"$nulls":3},{"$f":"VLOOKUP(J60,対戦表!#REF!,2,0)","v":{"$error":"#REF!"}},"-",{"$f":"VLOOKUP(L60,対戦表!#REF!,2,0)","v":{"$error":"#REF!"}},{"$f":"VLOOKUP(M60,対戦表!#REF!,2,0)","v":{"$error":"#REF!"}},"-",{"$f":"VLOOKUP(O60,対戦表!#REF!,2,0)","v":{"$error":"#REF!"}},{"$nulls":21},"",0]
[{"$f":"CONCATENATE(A56,3)","v":"3"},{"$f":"VLOOKUP(A62,チーム表!C:D,2,FALSE)","v":{"$error":"#N/A"}},null,null,{"$f":"IF(D63=\"\",\"\",IF(D63=F63,\"△\",IF(D63>F63,\"〇\",\"×\")))","v":{"$error":"#REF!"}},null,null,{"$f":"IF(G63=\"\",\"\",IF(G63=I63,\"△\",IF(G63>I63,\"〇\",\"×\")))","v":{"$error":"#REF!"}},{"$nulls":4},{"$f":"CONCATENATE($A62,N55)","v":"34"},{"$f":"IF(M63=\"\",\"\",IF(M63=O63,\"△\",IF(M63>O63,\"〇\",\"×\")))","v":{"$error":"#REF!"}},{"$f":"CONCATENATE(N55,$A62)","v":"43"},{"$nulls":9},{"$f":"COUNTIF($E62:$N62,\"〇\")","v":0},{"$f":"COUNTIF($E62:$N62,\"×\")","v":0},{"$f":"COUNTIF($E62:$N62,\"△\")","v":0},{"$f":"Y62*2+AA62","v":0},{"$f":"IF(G63=\"\",\"\",D63+G63+M63+J63)","v":{"$error":"#REF!"}},{"$f":"IF(AC62=\"\",\"\",AB62*100+AC62)","v":{"$error":"#REF!"}},{"$f":"IF(AC62=\"\",\"\",F63+I63+L63+O63)","v":{"$error":"#REF!"}},{"$f":"IF(AD62=\"\",\"\",RANK(AD62,AD58:AD65,0))","v":{"$error":"#REF!"}},null,{"$f":"CONCATENATE(A56,AF62)","v":{"$error":"#REF!"}},{"$f":"B62","v":{"$error":"#N/A"}},null,{"$error":"#REF!"},{"$error":"#N/A"}]
[{"$nulls":3},{"$f":"IF(L59=\"\",\"\",L59)","v":{"$error":"#REF!"}},"-",{"$f":"IF(J59=\"\",\"\",J59)","v":{"$error":"#REF!"}},{"$f":"IF(L61=\"\",\"\",L61)","v":{"$error":"#REF!"}},"-",{"$f":"IF(J61=\"\",\"\",J61)","v":{"$error":"#REF!"}},{"$nulls":3},{"$f":"VLOOKUP(M62,対戦表!#REF!,2,0)","v":{"$error":"#REF!"}},"-",{"$f":"VLOOKUP(O62,対戦表!#REF!,2,0)","v":{"$error":"#REF!"}},{"$nulls":21},"",0]
[{"$f":"CONCATENATE(A56,4)","v":"4"},{"$f":"VLOOKUP(A64,チーム表!C:D,2,FALSE)","v":{"$error":"#N/A"}},null,null,{"$f":"IF(D65=\"\",\"\",IF(D65=F65,\"△\",IF(D65>F65,\"〇\",\"×\")))","v":{"$error":"#REF!"}},null,null,{"$f":"IF(G65=\"\",\"\",IF(G65=I65,\"△\",IF(G65>I65,\"〇\",\"×\")))","v":{"$error":"#REF!"}},null,null,{"$f":"IF(J65=\"\",\"\",IF(J65=L65,\"△\",IF(J65>L65,\"〇\",\"×\")))","v":{"$error":"#REF!"}},{"$nulls":13},{"$f":"COUNTIF($E64:$N64,\"〇\")","v":0},{"$f":"COUNTIF($E64:$N64,\"×\")","v":0},{"$f":"COUNTIF($E64:$N64,\"△\")","v":0},{"$f":"Y64*2+AA64","v":0},{"$f":"IF(G65=\"\",\"\",D65+G65+M65+J65)","v":{"$error":"#REF!"}},{"$f":"IF(AC64=\"\",\"\",AB64*100+AC64)","v":{"$error":"#REF!"}},{"$f":"IF(AC64=\"\",\"\",F65+I65+L65+O65)","v":{"$error":"#REF!"}},{"$f":"IF(AD64=\"\",\"\",RANK(AD64,AD58:AD65,0))","v":{"$error":"#REF!"}},null,{"$f":"CONCATENATE(A56,AF64)","v":{"$error":"#REF!"}},{"$f":"B64","v":{"$error":"#N/A"}},null,{"$error":"#REF!"},{"$error":"#N/A"}]
[{"$nulls":3},{"$f":"IF(O59=\"\",\"\",O59)","v":{"$error":"#REF!"}},"-",{"$f":"IF(M59=\"\",\"\",M59)","v":{"$error":"#REF!"}},{"$f":"IF(O61=\"\",\"\",O61)","v":{"$error":"#REF!"}},"-",{"$f":"IF(M61=\"\",\"\",M61)","v":{"$error":"#REF!"}},{"$f":"IF(O63=\"\",\"\",O63)","v":{"$error":"#REF!"}},"-",{"$f":"IF(M63=\"\",\"\",M63)","v":{"$error":"#REF!"}},{"$nulls":24},"",0]
[]
[]
[{"$nulls":4},{"$f":"CONCATENATE(A69,\"1\")","v":"1"},null,null,{"$f":"CONCATENATE(A69,\"2\")","v":"2"},null,null,{"$f":"CONCATENATE(A69,\"3\")","v":"3"}]
[null,"チーム名",null,{"$f":"B71","v":{"$error":"#N/A"}},null,null,{"$f":"B73","v":{"$error":"#N/A"}},null,null,{"$f":"B75","v":{"$error":"#N/A"}},{"$nulls":14},"勝","負","分","点","内野","順位決定点","相手内野","順位","kaku"]
[]
[{"$f":"CONCATENATE(A69,1)","v":"1"},{"$f":"VLOOKUP(A71,チーム表!C:D,2,FALSE)","v":{"$error":"#N/A"}},{"$nulls":4},{"$f":"CONCATENATE($A71,H68)","v":"12"},{"$f":"IF(G72=\"\",\"\",IF(G72=I72,\"△\",IF(G72>I72,\"〇\",\"×\")))","v":{"$error":"#REF!"}},{"$f":"CONCATENATE(H68,$A71)","v":"21"},{"$f":"CONCATENATE($A71,K68)","v":"13"},{"$f":"IF(J72=\"\",\"\",IF(J72=L72,\"△\",IF(J72>L72,\"〇\",\"×\")))","v":{"$error":"#REF!"}},{"$f":"CONCATENATE(K68,$A71)","v":"31"},{"$nulls":12},{"$f":"COUNTIF($E71:$K71,\"〇\")","v":0},{"$f":"COUNTIF($E71:$K71,\"×\")","v":0},{"$f":"COUNTIF($E71:$W71,\"△\")","v":0},{"$f":"Y71*2+AA71","v":0},{"$f":"IF(G72=\"\",\"\",D72+G72+J72)","v":{"$error":"#REF!"}},{"$f":"IF(AC71=\"\",\"\",AB71*100+AC71)","v":{"$error":"#REF!"}},{"$f":"IF(AC71=\"\",\"\",F72+I72+L72)","v":{"$error":"#REF!"}},{"$f":"IF(AD71=\"\",\"\",RANK(AD71,AD71:AD76,0))","v":{"$error":"#REF!"}},null,{"$f":"CONCATENATE(A69,AF71)","v":{"$error":"#REF!"}},{"$f":"B71","v":{"$error":"#N/A"}},null,{"$f":"CONCATENATE(A$5,AF71)","v":{"$error":"#REF!"}},{"$f":"$B71","v":{"$error":"#N/A"}}]
[{"$nulls":6},{"$f":"VLOOKUP(G71,対戦表!#REF!,2,0)","v":{"$error":"#REF!"}},"-",{"$f":"VLOOKUP(I71,対戦表!#REF!,2,0)","v":{"$error":"#REF!"}},{"$f":"VLOOKUP(J71,対戦表!#REF!,2,0)","v":{"$error":"#REF!"}},"-",{"$f":"VLOOKUP(L71,対戦表!#REF!,2,0)","v":{"$error":"#REF!"}},{"$nulls":24},"",0]
[{"$f":"CONCATENATE(A69,2)","v":"2"},{"$f":"VLOOKUP(A73,チーム表!C:D,2,FALSE)","v":{"$error":"#N/A"}},null,null,{"$f":"IF(D74=\"\",\"\",IF(D74=F74,\"△\",IF(D74>F74,\"〇\",\"×\")))","v":{"$error":"#REF!"}},{"$nulls":4},{"$f":"CONCATENATE($A73,K68)","v":"23"},{"$f":"IF(J74=\"\",\"\",IF(J74=L74,\"△\",IF(J74>L74,\"〇\",\"×\")))","v":{"$error":"#REF!"}},{"$f":"CONCATENATE(K68,$A73)","v":"32"},{"$nulls":12},{"$f":"COUNTIF($E73:$K73,\"〇\")","v":0},{"$f":"COUNTIF($E73:$K73,\"×\")","v":0},{"$f":"COUNTIF($E73:$W73,\"△\")","v":0},{"$f":"Y73*2+AA73","v":0},{"$f":"IF(D74=\"\",\"\",D74+G74+J74)","v":{"$error":"#REF!"}},{"$f":"IF(AC73=\"\",\"\",AB73*100+AC73)","v":{"$error":"#REF!"}},{"$f":"IF(AC73=\"\",\"\",F74+I74+L74)","v":{"$error":"#REF!"}},{"$f":"IF(AD73=\"\",\"\",RANK(AD73,AD71:AD76,0))","v":{"$error":"#REF!"}},null,{"$f":"CONCATENATE(A69,AF73)","v":{"$error":"#REF!"}},{"$f":"B73","v":{"$error":"#N/A"}},null,{"$error":"#REF!"},{"$error":"#N/A"}]
[{"$nulls":3},{"$f":"IF(I72=\"\",\"\",I72)","v":{"$error":"#REF!"}},"-",{"$f":"IF(G72=\"\",\"\",G72)","v":{"$error":"#REF!"}},{"$nulls":3},{"$f":"VLOOKUP(J73,対戦表!#REF!,2,0)","v":{"$error":"#REF!"}},"-",{"$f":"VLOOKUP(L73,対戦表!#REF!,2,0)","v":{"$error":"#REF!"}},{"$nulls":24},"",0]
[{"$f":"CONCATENATE(A69,3)","v":"3"},{"$f":"VLOOKUP(A75,チーム表!C:D,2,FALSE)","v":{"$error":"#N/A"}},null,null,{"$f":"IF(D76=\"\",\"\",IF(D76=F76,\"△\",IF(D76>F76,\"〇\",\"×\")))","v":{"$error":"#REF!"}},null,null,{"$f":"IF(G76=\"\",\"\",IF(G76=I76,\"△\",IF(G76>I76,\"〇\",\"×\")))","v":{"$error":"#REF!"}},{"$nulls":16},{"$f":"COUNTIF($E75:$K75,\"〇\")","v":0},{"$f":"COUNTIF($E75:$K75,\"×\")","v":0},{"$f":"COUNTIF($E75:$W75,\"△\")","v":0},{"$f":"Y75*2+AA75","v":0},{"$f":"IF(G76=\"\",\"\",D76+G76+J76)","v":{"$error":"#REF!"}},{"$f":"IF(AC75=\"\",\"\",AB75*100+AC75)","v":{"$error":"#REF!"}},{"$f":"IF(AC75=\"\",\"\",F76+I76+L76)","v":{"$error":"#REF!"}},{"$f":"IF(AD75=\"\",\"\",RANK(AD75,AD71:AD76,0))","v":{"$error":"#REF!"}},null,{"$f":"CONCATENATE(A69,AF75)","v":{"$error":"#REF!"}},{"$f":"B75","v":{"$error":"#N/A"}},null,{"$error":"#REF!"},{"$error":"#N/A"}]
[{"$nulls":3},{"$f":"IF(L72=\"\",\"\",L72)","v":{"$error":"#REF!"}},"-",{"$f":"IF(J72=\"\",\"\",J72)","v":{"$error":"#REF!"}},{"$f":"IF(L74=\"\",\"\",L74)","v":{"$error":"#REF!"}},"-",{"$f":"IF(J74=\"\",\"\",J74)","v":{"$error":"#REF!"}},{"$nulls":27},"",0]

{"sheet":"対戦表1","index":6,"n_rows":85,"n_cols":34,"rows_kept":85,"merged":[[45,5,45,10],[45,15,45,20],[45,25,45,30],[46,5,46,10],[46,15,46,20],[46,25,46,30],[47,5,47,10],[47,15,47,20],[47,25,47,30],[48,5,48,10],[48,15,48,20],[48,25,48,30],[49,5,49,10],[49,15,49,20],[49,25,49,30],[50,5,50,10],[50,15,50,20],[50,25,50,30],[51,5,51,10],[51,15,51,20],[51,25,51,30],[52,5,52,10],[52,15,52,20],[53,5,53,10],[53,15,53,20],[54,5,54,10],[54,15,54,20],[54,25,54,30]]}
[{"$nulls":5},{"$f":"チーム表!$B$1","v":"第１３回　卒業記念ドッジボール大会"}]
[]
["　試合スケジュール"]
[]
[null,"時間",null,null,"点","Ａコート",{"$nulls":3},"点","Ａコート"]
[1,null,{"$f":"組合表!AG4","v":"A1"},{"$f":"CONCATENATE(C6,H6)","v":"A1A2"},null,{"$f":"VLOOKUP(C6,チーム表!C:D,2,FALSE)","v":"ＮＩＳＨＩファイヤースターズ"},"×",{"$f":"組合表!AH4","v":"A2"},{"$f":"CONCATENATE(H6,C6)","v":"A2A1"},null,{"$f":"VLOOKUP(H6,チーム表!C:D,2,FALSE)","v":"パイレーツα"},{"$nulls":21},{"$f":"D6","v":"A1A2"},{"$f":"IF(E6=\"\",\"\",E6)","v":""}]
[2,null,{"$f":"組合表!AG5","v":"D1"},{"$f":"CONCATENATE(C7,H7)","v":"D1D2"},null,{"$f":"VLOOKUP(C7,チーム表!C:D,2,FALSE)","v":"杉っ子ドッジファイターズ"},"×",{"$f":"組合表!AH5","v":"D2"},{"$f":"CONCATENATE(H7,C7)","v":"D2D1"},null,{"$f":"VLOOKUP(H7,チーム表!C:D,2,FALSE)","v":"鞍月アタッカーズ"},{"$nulls":21},"D1D2",{"$f":"IF(E7=\"\",\"\",E7)","v":""}]
[3,null,{"$f":"組合表!AG6","v":"F1"},"F1F2",null,{"$f":"VLOOKUP(C8,チーム表!C:D,2,FALSE)","v":"珠洲魂８ "},"×",{"$f":"組合表!AH6","v":"F2"},"F2F1",null,{"$f":"VLOOKUP(H8,チーム表!C:D,2,FALSE)","v":"三馬パワフル"},{"$nulls":21},"F1F2",""]
[4,null,{"$f":"組合表!AG7","v":"J1"},"J1J2",null,{"$f":"VLOOKUP(C9,チーム表!C:D,2,FALSE)","v":"ドッジの王子様"},"×",{"$f":"組合表!AH7","v":"J2"},"J2J1",null,{"$f":"VLOOKUP(H9,チーム表!C:D,2,FALSE)","v":"鳳至ドッジボールクラブJr"},{"$nulls":21},"J1J2",""]
[5,null,{"$f":"組合表!AG8","v":"C3"},"C3C4",null,{"$f":"VLOOKUP(C10,チーム表!C:D,2,FALSE)","v":"寺井クラブ"},"×",{"$f":"組合表!AH8","v":"C4"},"C4C3",null,{"$f":"VLOOKUP(H10,チーム表!C:D,2,FALSE)","v":"呉羽ドッジボールクラブ"},{"$nulls":21},"C3C4",""]
[6,null,{"$f":"組合表!AG9","v":"E3"},"E3E4",null,{"$f":"VLOOKUP(C11,チーム表!C:D,2,FALSE)","v":"向本折クラブＡ"},"×",{"$f":"組合表!AH9","v":"E4"},"E4E3",null,{"$f":"VLOOKUP(H11,チーム表!C:D,2,FALSE)","v":"田上闘球DREAMS"},{"$nulls":21},"E3E4",""]
[7,null,{"$f":"組合表!AG10","v":"I3"},"I3I4",null,{"$f":"VLOOKUP(C12,チーム表!C:D,2,FALSE)","v":"寺井九谷クラブ"},"×",{"$f":"組合表!AH10","v":"I4"},"I4I3",null,{"$f":"VLOOKUP(H12,チーム表!C:D,2,FALSE)","v":"めちゃげん闘球小僧"},{"$nulls":21},"I3I4",""]
[8,null,{"$f":"組合表!AG11","v":"B1"},"B1B5",null,{"$f":"VLOOKUP(C13,チーム表!C:D,2,FALSE)","v":"桜Ｖ６"},"×",{"$f":"組合表!AH11","v":"B5"},"B5B1",null,{"$f":"VLOOKUP(H13,チーム表!C:D,2,FALSE)","v":"めちゃげん"},{"$nulls":21},"B1B5",""]
[9,null,{"$f":"組合表!AG12","v":"G1"},"G1G5",null,{"$f":"VLOOKUP(C14,チーム表!C:D,2,FALSE)","v":"ＮＩＳＨＩ Jr スターズ"},"×",{"$f":"組合表!AH12","v":"G5"},"G5G1",null,{"$f":"VLOOKUP(H14,チーム表!C:D,2,FALSE)","v":"田上闘球ＦＵＴＵＲＥＳ"},{"$nulls":21},"G1G5",""]
[10,null,{"$f":"組合表!AG13","v":"H2"},"H2H3",null,{"$f":"VLOOKUP(C15,チーム表!C:D,2,FALSE)","v":"鞍月・三谷アタッカーズ"},"×",{"$f":"組合表!AH13","v":"H3"},"H3H2",null,{"$f":"VLOOKUP(H15,チーム表!C:D,2,FALSE)","v":"寺井クラブJr."},{"$nulls":21},"H2H3",""]
[11,null,{"$f":"組合表!AG14","v":"A2"},"A2A3",null,{"$f":"VLOOKUP(C16,チーム表!C:D,2,FALSE)","v":"パイレーツα"},"×",{"$f":"組合表!AH14","v":"A3"},"A3A2",null,{"$f":"VLOOKUP(H16,チーム表!C:D,2,FALSE)","v":"鳳至ドッジボールクラブ"},{"$nulls":21},"A2A3",""]
[12,null,{"$f":"組合表!AG15","v":"D2"},"D2D3",null,{"$f":"VLOOKUP(C17,チーム表!C:D,2,FALSE)","v":"鞍月アタッカーズ"},"×",{"$f":"組合表!AH15","v":"D3"},"D3D2",null,{"$f":"VLOOKUP(H17,チーム表!C:D,2,FALSE)","v":"附属ドッジファイターズ"},{"$nulls":21},"D2D3",""]
[13,null,{"$f":"組合表!AG16","v":"F1"},"F1F4",null,{"$f":"VLOOKUP(C18,チーム表!C:D,2,FALSE)","v":"珠洲魂８ "},"×",{"$f":"組合表!AH16","v":"F4"},"F4F1",null,{"$f":"VLOOKUP(H18,チーム表!C:D,2,FALSE)","v":"五福ダイヤモンドサンズ"},{"$nulls":21},"F1F4",""]
[14,null,{"$f":"組合表!AG17","v":"J1"},"J1J4",null,{"$f":"VLOOKUP(C19,チーム表!C:D,2,FALSE)","v":"ドッジの王子様"},"×",{"$f":"組合表!AH17","v":"J4"},"J4J1",null,{"$f":"VLOOKUP(H19,チーム表!C:D,2,FALSE)","v":"松任の大魔陣 Ｊｒ"},{"$nulls":21},"J1J4",""]
[15,null,{"$f":"組合表!AG18","v":"C4"},"C4C5",null,{"$f":"VLOOKUP(C20,チーム表!C:D,2,FALSE)","v":"呉羽ドッジボールクラブ"},"×",{"$f":"組合表!AH18","v":"C5"},"C5C4",null,{"$f":"VLOOKUP(H20,チーム表!C:D,2,FALSE)","v":"三谷Ｄ.Ｂ.Ｃ"},{"$nulls":21},"C4C5",""]
[16,null,{"$f":"組合表!AG19","v":"E1"},"E1E3",null,{"$f":"VLOOKUP(C21,チーム表!C:D,2,FALSE)","v":"千坂ドッジファイヤーズ"},"×",{"$f":"組合表!AH19","v":"E3"},"E3E1",null,{"$f":"VLOOKUP(H21,チーム表!C:D,2,FALSE)","v":"向本折クラブＡ"},{"$nulls":21},"E1E3",""]
[17,null,{"$f":"組合表!AG20","v":"I1"},"I1I3",null,{"$f":"VLOOKUP(C22,チーム表!C:D,2,FALSE)","v":"千坂Ｆロータスルート"},"×",{"$f":"組合表!AH20","v":"I3"},"I3I1",null,{"$f":"VLOOKUP(H22,チーム表!C:D,2,FALSE)","v":"寺井九谷クラブ"},{"$nulls":21},"I1I3",""]
[18,null,{"$f":"組合表!AG21","v":"B1"},"B1B4",null,{"$f":"VLOOKUP(C23,チーム表!C:D,2,FALSE)","v":"桜Ｖ６"},"×",{"$f":"組合表!AH21","v":"B4"},"B4B1",null,{"$f":"VLOOKUP(H23,チーム表!C:D,2,FALSE)","v":"Ｇ-Ｓhimozeki"},{"$nulls":21},"B1B4",""]
[19,null,{"$f":"組合表!AG22","v":"G1"},"G1G4",null,{"$f":"VLOOKUP(C24,チーム表!C:D,2,FALSE)","v":"ＮＩＳＨＩ Jr スターズ"},"×",{"$f":"組合表!AH22","v":"G4"},"G4G1",null,{"$f":"VLOOKUP(H24,チーム表!C:D,2,FALSE)","v":"呉羽ジュニア"},{"$nulls":21},"G1G4",""]
[20,null,{"$f":"組合表!AG23","v":"H2"},"H2H4",null,{"$f":"VLOOKUP(C25,チーム表!C:D,2,FALSE)","v":"鞍月・三谷アタッカーズ"},"×",{"$f":"組合表!AH23","v":"H4"},"H4H2",null,{"$f":"VLOOKUP(H25,チーム表!C:D,2,FALSE)","v":"鵜川フェニックスジュニア"},{"$nulls":21},"H2H4",""]
[21,null,{"$f":"組合表!AG24","v":"A2"},"A2A5",null,{"$f":"VLOOKUP(C26,チーム表!C:D,2,FALSE)","v":"パイレーツα"},"×",{"$f":"組合表!AH24","v":"A5"},"A5A2",null,{"$f":"VLOOKUP(H26,チーム表!C:D,2,FALSE)","v":"米丸ドッジボールクラブ"},{"$nulls":21},"A2A5",""]
[22,null,{"$f":"組合表!AG25","v":"D2"},"D2D5",null,{"$f":"VLOOKUP(C27,チーム表!C:D,2,FALSE)","v":"鞍月アタッカーズ"},"×",{"$f":"組合表!AH25","v":"D5"},"D5D2",null,{"$f":"VLOOKUP(H27,チーム表!C:D,2,FALSE)","v":"松任の大魔陣"},{"$nulls":21},"D2D5",""]
[23,null,{"$f":"組合表!AG26","v":"B1"},"B1B3",null,{"$f":"VLOOKUP(C28,チーム表!C:D,2,FALSE)","v":"桜Ｖ６"},"×",{"$f":"組合表!AH26","v":"B3"},"B3B1",null,{"$f":"VLOOKUP(H28,チーム表!C:D,2,FALSE)","v":"小木クラブ"},{"$nulls":21},"B1B3",""]
[24,null,{"$f":"組合表!AG27","v":"G1"},"G1G3",null,{"$f":"VLOOKUP(C29,チーム表!C:D,2,FALSE)","v":"ＮＩＳＨＩ Jr スターズ"},"×",{"$f":"組合表!AH27","v":"G3"},"G3G1",null,{"$f":"VLOOKUP(H29,チーム表!C:D,2,FALSE)","v":"奥能登クラブジュニア"},{"$nulls":21},"G1G3",""]
[25,null,{"$f":"組合表!AG28","v":"C2"},"C2C4",null,{"$f":"VLOOKUP(C30,チーム表!C:D,2,FALSE)","v":"向本折SPARS"},"×",{"$f":"組合表!AH28","v":"C4"},"C4C2",null,{"$f":"VLOOKUP(H30,チーム表!C:D,2,FALSE)","v":"呉羽ドッジボールクラブ"},{"$nulls":21},"C2C4",""]
[26,null,{"$f":"組合表!AG29","v":"A3"},"A3A5",null,{"$f":"VLOOKUP(C31,チーム表!C:D,2,FALSE)","v":"鳳至ドッジボールクラブ"},"×",{"$f":"組合表!AH29","v":"A5"},"A5A3",null,{"$f":"VLOOKUP(H31,チーム表!C:D,2,FALSE)","v":"米丸ドッジボールクラブ"},{"$nulls":21},"A3A5",""]
[27,null,{"$f":"組合表!AG30","v":"D3"},"D3D5",null,{"$f":"VLOOKUP(C32,チーム表!C:D,2,FALSE)","v":"附属ドッジファイターズ"},"×",{"$f":"組合表!AH30","v":"D5"},"D5D3",null,{"$f":"VLOOKUP(H32,チーム表!C:D,2,FALSE)","v":"松任の大魔陣"},{"$nulls":21},"D3D5",""]
[28,null,{"$f":"組合表!AG31","v":""},"",null,{"$f":"VLOOKUP(C33,チーム表!C:D,2,FALSE)","v":{"$error":"#N/A"}},"×",{"$f":"組合表!AH31","v":""},"",null,{"$f":"VLOOKUP(H33,チーム表!C:D,2,FALSE)","v":{"$error":"#N/A"}},{"$nulls":21},"",""]
[29,null,{"$f":"組合表!AG32","v":""},"",null,{"$f":"VLOOKUP(C34,チーム表!C:D,2,FALSE)","v":{"$error":"#N/A"}},"×",{"$f":"組合表!AH32","v":""},"",null,{"$f":"VLOOKUP(H34,チーム表!C:D,2,FALSE)","v":{"$error":"#N/A"}},{"$nulls":21},"",""]
[30,null,{"$f":"組合表!AG33","v":""},"",null,{"$f":"VLOOKUP(C35,チーム表!C:D,2,FALSE)","v":{"$error":"#N/A"}},"×",{"$f":"組合表!AH33","v":""},"",null,{"$f":"VLOOKUP(H35,チーム表!C:D,2,FALSE)","v":{"$error":"#N/A"}},{"$nulls":21},"",""]
[31,null,{"$f":"組合表!AG34","v":""},"",null,{"$f":"VLOOKUP(C36,チーム表!C:D,2,FALSE)","v":{"$error":"#N/A"}},"×",{"$f":"組合表!AH34","v":""},"",null,{"$f":"VLOOKUP(H36,チーム表!C:D,2,FALSE)","v":{"$error":"#N/A"}},{"$nulls":21},"",""]
[32,null,{"$f":"組合表!AG35","v":""},"",null,{"$f":"VLOOKUP(C37,チーム表!C:D,2,FALSE)","v":{"$error":"#N/A"}},"×",{"$f":"組合表!AH35","v":""},"",null,{"$f":"VLOOKUP(H37,チーム表!C:D,2,FALSE)","v":{"$error":"#N/A"}},{"$nulls":21},"",""]
[33,null,{"$f":"組合表!AG36","v":""},"",null,{"$f":"VLOOKUP(C38,チーム表!C:D,2,FALSE)","v":{"$error":"#N/A"}},"×",{"$f":"組合表!AH36","v":""},"",null,{"$f":"VLOOKUP(H38,チーム表!C:D,2,FALSE)","v":{"$error":"#N/A"}},{"$nulls":21},"",""]
[34,null,{"$f":"組合表!AG37","v":""},"",null,{"$f":"VLOOKUP(C39,チーム表!C:D,2,FALSE)","v":{"$error":"#N/A"}},"×",{"$f":"組合表!AH37","v":""},"",null,{"$f":"VLOOKUP(H39,チーム表!C:D,2,FALSE)","v":{"$error":"#N/A"}},{"$nulls":21},"",""]
[35,null,{"$f":"組合表!AG38","v":""},{"$f":"CONCATENATE(C40,H40)","v":""},null,{"$f":"VLOOKUP(C40,チーム表!C:D,2,FALSE)","v":{"$error":"#N/A"}},"×",{"$f":"組合表!AH38","v":""},{"$f":"CONCATENATE(H40,C40)","v":""},null,{"$f":"VLOOKUP(H40,チーム表!C:D,2,FALSE)","v":{"$error":"#N/A"}},{"$nulls":21},"",""]
[36,null,{"$f":"組合表!AG39","v":""},{"$f":"CONCATENATE(C41,H41)","v":""},null,{"$f":"VLOOKUP(C41,チーム表!C:D,2,FALSE)","v":{"$error":"#N/A"}},"×",{"$f":"組合表!AH39","v":""},{"$f":"CONCATENATE(H41,C41)","v":""},null,{"$f":"VLOOKUP(H41,チーム表!C:D,2,FALSE)","v":{"$error":"#N/A"}},{"$nulls":21},"",""]
[37,null,{"$f":"組合表!AG40","v":""},{"$f":"CONCATENATE(C42,H42)","v":""},null,{"$f":"VLOOKUP(C42,チーム表!C:D,2,FALSE)","v":{"$error":"#N/A"}},"×",{"$f":"組合表!AH40","v":""},{"$f":"CONCATENATE(H42,C42)","v":""},null,{"$f":"VLOOKUP(H42,チーム表!C:D,2,FALSE)","v":{"$error":"#N/A"}},{"$nulls":21},"",""]
[38,null,{"$f":"組合表!AG41","v":""},"",null,{"$f":"VLOOKUP(C43,チーム表!C:D,2,FALSE)","v":{"$error":"#N/A"}},"×",{"$f":"組合表!AH41","v":""},"",null,{"$f":"VLOOKUP(H43,チーム表!C:D,2,FALSE)","v":{"$error":"#N/A"}},{"$nulls":21},"",""]
[39,null,{"$f":"組合表!AG42","v":""},"",null,{"$f":"VLOOKUP(C44,チーム表!C:D,2,FALSE)","v":{"$error":"#N/A"}},"×",{"$f":"組合表!AH42","v":""},"",null,{"$f":"VLOOKUP(H44,チーム表!C:D,2,FALSE)","v":{"$error":"#N/A"}},{"$nulls":21},"",""]
[40,null,{"$f":"組合表!AG43","v":""},"",null,{"$f":"VLOOKUP(C45,チーム表!C:D,2,FALSE)","v":{"$error":"#N/A"}},"×",{"$f":"組合表!AH43","v":""},"",null,{"$f":"VLOOKUP(H45,チーム表!C:D,2,FALSE)","v":{"$error":"#N/A"}},{"$nulls":21},"",""]
[41,null,1,{"$nulls":29},{"$f":"I6","v":"A2A1"},{"$f":"IF(J6=\"\",\"\",J6)","v":""}]
[42,null,2,{"$nulls":29},"D2D1",{"$f":"IF(J7=\"\",\"\",J7)","v":""}]
[43,null,3,{"$nulls":29},"F2F1",""]
[44,null,4,{"$nulls":29},"J2J1",""]
[45,null,5,{"$nulls":29},"C4C3",""]
[46,null,6,{"$nulls":29},"E4E3",""]
[47,null,7,{"$nulls":29},"I4I3",""]
[48,null,8,{"$nulls":29},"B5B1",""]
[49,null,9,{"$nulls":29},"G5G1",""]
[50,null,10,{"$nulls":29},"H3H2",""]
[{"$nulls":32},"A3A2",""]
[{"$nulls":32},"D3D2",""]
[{"$nulls":32},"F4F1",""]
[{"$nulls":32},"J4J1",""]
[{"$nulls":32},"C5C4",""]
[{"$nulls":32},"E3E1",""]
[{"$nulls":32},"I3I1",""]
[{"$nulls":32},"B4B1",""]
[{"$nulls":32},"G4G1",""]
[{"$nulls":32},"H4H2",""]
[{"$nulls":32},"A5A2",""]
[{"$nulls":32},"D5D2",""]
[{"$nulls":32},"B3B1",""]
[{"$nulls":32},"G3G1",""]
[{"$nulls":32},"C4C2",""]
[{"$nulls":32},"A5A3",""]
[{"$nulls":32},"D5D3",""]
[{"$nulls":32},"",""]
[{"$nulls":32},"",""]
[{"$nulls":32},"",""]
[{"$nulls":32},"",""]
[{"$nulls":32},"",""]
[{"$nulls":32},"",""]
[{"$nulls":32},"",""]
[{"$nulls":32},"",""]
[{"$nulls":32},"",""]
[{"$nulls":32},"",""]
[{"$nulls":32},"",""]
[{"$nulls":32},"",""]
[{"$nulls":32},"",""]

{"sheet":"対戦表2","index":7,"n_rows":165,"n_cols":34,"rows_kept":165,"merged":[[45,5,45,10],[45,15,45,20],[45,25,45,30],[46,5,46,10],[46,15,46,20],[46,25,46,30],[47,5,47,10],[47,15,47,20],[47,25,47,30],[48,5,48,10],[48,15,48,20],[48,25,48,30],[49,5,49,10],[49,15,49,20],[49,25,49,30],[50,5,50,10],[50,15,50,20],[50,25,50,30],[51,5,51,10],[51,15,51,20],[51,25,51,30],[52,5,52,10],[52,15,52,20],[53,5,53,10],[53,15,53,20],[54,5,54,10],[54,15,54,20],[54,25,54,30]]}
[{"$nulls":10},{"$f":"チーム表!$B$1","v":"第１３回　卒業記念ドッジボール大会"}]
[]
["　試合スケジュール"]
[]
[null,"時間",null,null,"点","Ａコート",{"$nulls":3},"点","Ａコート",{"$nulls":3},"点","Ｂコート",{"$nulls":3},"点","Ｂコート"]
[1,null,{"$f":"組合表!AG4","v":"A1"},{"$f":"CONCATENATE(C6,H6)","v":"A1A2"},null,{"$f":"VLOOKUP(C6,チーム表!C:D,2,FALSE)","v":"ＮＩＳＨＩファイヤースターズ"},"×",{"$f":"組合表!AH4","v":"A2"},{"$f":"CONCATENATE(H6,C6)","v":"A2A1"},null,{"$f":"VLOOKUP(H6,チーム表!C:D,2,FALSE)","v":"パイレーツα"},null,{"$f":"組合表!AI4","v":"B1"},{"$f":"CONCATENATE(M6,R6)","v":"B1B2"},null,{"$f":"VLOOKUP(M6,チーム表!C:D,2,FALSE)","v":"桜Ｖ６"},"×",{"$f":"組合表!AJ4","v":"B2"},{"$f":"CONCATENATE(R6,M6)","v":"B2B1"},null,{"$f":"VLOOKUP(R6,チーム表!C:D,2,FALSE)","v":"山中SPARS"},{"$nulls":11},{"$f":"D6","v":"A1A2"},{"$f":"IF(E6=\"\",\"\",E6)","v":""}]
[2,null,{"$f":"組合表!AG5","v":"D1"},{"$f":"CONCATENATE(C7,H7)","v":"D1D2"},null,{"$f":"VLOOKUP(C7,チーム表!C:D,2,FALSE)","v":"杉っ子ドッジファイターズ"},"×",{"$f":"組合表!AH5","v":"D2"},{"$f":"CONCATENATE(H7,C7)","v":"D2D1"},null,{"$f":"VLOOKUP(H7,チーム表!C:D,2,FALSE)","v":"鞍月アタッカーズ"},null,{"$f":"組合表!AI5","v":"G1"},{"$f":"CONCATENATE(M7,R7)","v":"G1G2"},null,{"$f":"VLOOKUP(M7,チーム表!C:D,2,FALSE)","v":"ＮＩＳＨＩ Jr スターズ"},"×",{"$f":"組合表!AJ5","v":"G2"},{"$f":"CONCATENATE(R7,M7)","v":"G2G1"},null,{"$f":"VLOOKUP(R7,チーム表!C:D,2,FALSE)","v":"山中SＴARS"},{"$nulls":11},"D1D2",{"$f":"IF(E7=\"\",\"\",E7)","v":""}]
[3,null,{"$f":"組合表!AG6","v":"F1"},"F1F2",null,{"$f":"VLOOKUP(C8,チーム表!C:D,2,FALSE)","v":"珠洲魂８ "},"×",{"$f":"組合表!AH6","v":"F2"},"F2F1",null,{"$f":"VLOOKUP(H8,チーム表!C:D,2,FALSE)","v":"三馬パワフル"},null,{"$f":"組合表!AI6","v":"H1"},"H1H2",null,{"$f":"VLOOKUP(M8,チーム表!C:D,2,FALSE)","v":"桜Ｖ３"},"×",{"$f":"組合表!AJ6","v":"H2"},"H2H1",null,{"$f":"VLOOKUP(R8,チーム表!C:D,2,FALSE)","v":"鞍月・三谷アタッカーズ"},{"$nulls":11},"F1F2",""]
[4,null,{"$f":"組合表!AG7","v":"J1"},"J1J2",null,{"$f":"VLOOKUP(C9,チーム表!C:D,2,FALSE)","v":"ドッジの王子様"},"×",{"$f":"組合表!AH7","v":"J2"},"J2J1",null,{"$f":"VLOOKUP(H9,チーム表!C:D,2,FALSE)","v":"鳳至ドッジボールクラブJr"},null,{"$f":"組合表!AI7","v":"A3"},"A3A4",null,{"$f":"VLOOKUP(M9,チーム表!C:D,2,FALSE)","v":"鳳至ドッジボールクラブ"},"×",{"$f":"組合表!AJ7","v":"A4"},"A4A3",null,{"$f":"VLOOKUP(R9,チーム表!C:D,2,FALSE)","v":"ミラクル元キッズ"},{"$nulls":11},"J1J2",""]
[5,null,{"$f":"組合表!AG8","v":"C3"},"C3C4",null,{"$f":"VLOOKUP(C10,チーム表!C:D,2,FALSE)","v":"寺井クラブ"},"×",{"$f":"組合表!AH8","v":"C4"},"C4C3",null,{"$f":"VLOOKUP(H10,チーム表!C:D,2,FALSE)","v":"呉羽ドッジボールクラブ"},null,{"$f":"組合表!AI8","v":"D3"},"D3D4",null,{"$f":"VLOOKUP(M10,チーム表!C:D,2,FALSE)","v":"附属ドッジファイターズ"},"×",{"$f":"組合表!AJ8","v":"D4"},"D4D3",null,{"$f":"VLOOKUP(R10,チーム表!C:D,2,FALSE)","v":"鵜川ミラクルフェニックス"},{"$nulls":11},"C3C4",""]
[6,null,{"$f":"組合表!AG9","v":"E3"},"E3E4",null,{"$f":"VLOOKUP(C11,チーム表!C:D,2,FALSE)","v":"向本折クラブＡ"},"×",{"$f":"組合表!AH9","v":"E4"},"E4E3",null,{"$f":"VLOOKUP(H11,チーム表!C:D,2,FALSE)","v":"田上闘球DREAMS"},null,{"$f":"組合表!AI9","v":"F3"},"F3F4",null,{"$f":"VLOOKUP(M11,チーム表!C:D,2,FALSE)","v":"敦賀西ホワイトキッズ　"},"×",{"$f":"組合表!AJ9","v":"F4"},"F4F3",null,{"$f":"VLOOKUP(R11,チーム表!C:D,2,FALSE)","v":"五福ダイヤモンドサンズ"},{"$nulls":11},"E3E4",""]
[7,null,{"$f":"組合表!AG10","v":"I3"},"I3I4",null,{"$f":"VLOOKUP(C12,チーム表!C:D,2,FALSE)","v":"寺井九谷クラブ"},"×",{"$f":"組合表!AH10","v":"I4"},"I4I3",null,{"$f":"VLOOKUP(H12,チーム表!C:D,2,FALSE)","v":"めちゃげん闘球小僧"},null,{"$f":"組合表!AI10","v":"J3"},"J3J4",null,{"$f":"VLOOKUP(M12,チーム表!C:D,2,FALSE)","v":"向本折クラブ　"},"×",{"$f":"組合表!AJ10","v":"J4"},"J4J3",null,{"$f":"VLOOKUP(R12,チーム表!C:D,2,FALSE)","v":"松任の大魔陣 Ｊｒ"},{"$nulls":11},"I3I4",""]
[8,null,{"$f":"組合表!AG11","v":"B1"},"B1B5",null,{"$f":"VLOOKUP(C13,チーム表!C:D,2,FALSE)","v":"桜Ｖ６"},"×",{"$f":"組合表!AH11","v":"B5"},"B5B1",null,{"$f":"VLOOKUP(H13,チーム表!C:D,2,FALSE)","v":"めちゃげん"},null,{"$f":"組合表!AI11","v":"C1"},"C1C5",null,{"$f":"VLOOKUP(M13,チーム表!C:D,2,FALSE)","v":"珠洲クラブ"},"×",{"$f":"組合表!AJ11","v":"C5"},"C5C1",null,{"$f":"VLOOKUP(R13,チーム表!C:D,2,FALSE)","v":"三谷Ｄ.Ｂ.Ｃ"},{"$nulls":11},"B1B5",""]
[9,null,{"$f":"組合表!AG12","v":"G1"},"G1G5",null,{"$f":"VLOOKUP(C14,チーム表!C:D,2,FALSE)","v":"ＮＩＳＨＩ Jr スターズ"},"×",{"$f":"組合表!AH12","v":"G5"},"G5G1",null,{"$f":"VLOOKUP(H14,チーム表!C:D,2,FALSE)","v":"田上闘球ＦＵＴＵＲＥＳ"},null,{"$f":"組合表!AI12","v":"E2"},"E2E3",null,{"$f":"VLOOKUP(M14,チーム表!C:D,2,FALSE)","v":"福光サンダージュニア"},"×",{"$f":"組合表!AJ12","v":"E3"},"E3E2",null,{"$f":"VLOOKUP(R14,チーム表!C:D,2,FALSE)","v":"向本折クラブＡ"},{"$nulls":11},"G1G5",""]
[10,null,{"$f":"組合表!AG13","v":"H2"},"H2H3",null,{"$f":"VLOOKUP(C15,チーム表!C:D,2,FALSE)","v":"鞍月・三谷アタッカーズ"},"×",{"$f":"組合表!AH13","v":"H3"},"H3H2",null,{"$f":"VLOOKUP(H15,チーム表!C:D,2,FALSE)","v":"寺井クラブJr."},null,{"$f":"組合表!AI13","v":"I2"},"I2I3",null,{"$f":"VLOOKUP(M15,チーム表!C:D,2,FALSE)","v":"福光サンダーホープス"},"×",{"$f":"組合表!AJ13","v":"I3"},"I3I2",null,{"$f":"VLOOKUP(R15,チーム表!C:D,2,FALSE)","v":"寺井九谷クラブ"},{"$nulls":11},"H2H3",""]
[11,null,{"$f":"組合表!AG14","v":"A2"},"A2A3",null,{"$f":"VLOOKUP(C16,チーム表!C:D,2,FALSE)","v":"パイレーツα"},"×",{"$f":"組合表!AH14","v":"A3"},"A3A2",null,{"$f":"VLOOKUP(H16,チーム表!C:D,2,FALSE)","v":"鳳至ドッジボールクラブ"},null,{"$f":"組合表!AI14","v":"B2"},"B2B3",null,{"$f":"VLOOKUP(M16,チーム表!C:D,2,FALSE)","v":"山中SPARS"},"×",{"$f":"組合表!AJ14","v":"B3"},"B3B2",null,{"$f":"VLOOKUP(R16,チーム表!C:D,2,FALSE)","v":"小木クラブ"},{"$nulls":11},"A2A3",""]
[12,null,{"$f":"組合表!AG15","v":"D2"},"D2D3",null,{"$f":"VLOOKUP(C17,チーム表!C:D,2,FALSE)","v":"鞍月アタッカーズ"},"×",{"$f":"組合表!AH15","v":"D3"},"D3D2",null,{"$f":"VLOOKUP(H17,チーム表!C:D,2,FALSE)","v":"附属ドッジファイターズ"},null,{"$f":"組合表!AI15","v":"G2"},"G2G3",null,{"$f":"VLOOKUP(M17,チーム表!C:D,2,FALSE)","v":"山中SＴARS"},"×",{"$f":"組合表!AJ15","v":"G3"},"G3G2",null,{"$f":"VLOOKUP(R17,チーム表!C:D,2,FALSE)","v":"奥能登クラブジュニア"},{"$nulls":11},"D2D3",""]
[13,null,{"$f":"組合表!AG16","v":"F1"},"F1F4",null,{"$f":"VLOOKUP(C18,チーム表!C:D,2,FALSE)","v":"珠洲魂８ "},"×",{"$f":"組合表!AH16","v":"F4"},"F4F1",null,{"$f":"VLOOKUP(H18,チーム表!C:D,2,FALSE)","v":"五福ダイヤモンドサンズ"},null,{"$f":"組合表!AI16","v":"H1"},"H1H4",null,{"$f":"VLOOKUP(M18,チーム表!C:D,2,FALSE)","v":"桜Ｖ３"},"×",{"$f":"組合表!AJ16","v":"H4"},"H4H1",null,{"$f":"VLOOKUP(R18,チーム表!C:D,2,FALSE)","v":"鵜川フェニックスジュニア"},{"$nulls":11},"F1F4",""]
[14,null,{"$f":"組合表!AG17","v":"J1"},"J1J4",null,{"$f":"VLOOKUP(C19,チーム表!C:D,2,FALSE)","v":"ドッジの王子様"},"×",{"$f":"組合表!AH17","v":"J4"},"J4J1",null,{"$f":"VLOOKUP(H19,チーム表!C:D,2,FALSE)","v":"松任の大魔陣 Ｊｒ"},null,{"$f":"組合表!AI17","v":"A4"},"A4A5",null,{"$f":"VLOOKUP(M19,チーム表!C:D,2,FALSE)","v":"ミラクル元キッズ"},"×",{"$f":"組合表!AJ17","v":"A5"},"A5A4",null,{"$f":"VLOOKUP(R19,チーム表!C:D,2,FALSE)","v":"米丸ドッジボールクラブ"},{"$nulls":11},"J1J4",""]
[15,null,{"$f":"組合表!AG18","v":"C4"},"C4C5",null,{"$f":"VLOOKUP(C20,チーム表!C:D,2,FALSE)","v":"呉羽ドッジボールクラブ"},"×",{"$f":"組合表!AH18","v":"C5"},"C5C4",null,{"$f":"VLOOKUP(H20,チーム表!C:D,2,FALSE)","v":"三谷Ｄ.Ｂ.Ｃ"},null,{"$f":"組合表!AI18","v":"D4"},"D4D5",null,{"$f":"VLOOKUP(M20,チーム表!C:D,2,FALSE)","v":"鵜川ミラクルフェニックス"},"×",{"$f":"組合表!AJ18","v":"D5"},"D5D4",null,{"$f":"VLOOKUP(R20,チーム表!C:D,2,FALSE)","v":"松任の大魔陣"},{"$nulls":11},"C4C5",""]
[16,null,{"$f":"組合表!AG19","v":"E1"},"E1E3",null,{"$f":"VLOOKUP(C21,チーム表!C:D,2,FALSE)","v":"千坂ドッジファイヤーズ"},"×",{"$f":"組合表!AH19","v":"E3"},"E3E1",null,{"$f":"VLOOKUP(H21,チーム表!C:D,2,FALSE)","v":"向本折クラブＡ"},null,{"$f":"組合表!AI19","v":"F1"},"F1F3",null,{"$f":"VLOOKUP(M21,チーム表!C:D,2,FALSE)","v":"珠洲魂８ "},"×",{"$f":"組合表!AJ19","v":"F3"},"F3F1",null,{"$f":"VLOOKUP(R21,チーム表!C:D,2,FALSE)","v":"敦賀西ホワイトキッズ　"},{"$nulls":11},"E1E3",""]
[17,null,{"$f":"組合表!AG20","v":"I1"},"I1I3",null,{"$f":"VLOOKUP(C22,チーム表!C:D,2,FALSE)","v":"千坂Ｆロータスルート"},"×",{"$f":"組合表!AH20","v":"I3"},"I3I1",null,{"$f":"VLOOKUP(H22,チーム表!C:D,2,FALSE)","v":"寺井九谷クラブ"},null,{"$f":"組合表!AI20","v":"J1"},"J1J3",null,{"$f":"VLOOKUP(M22,チーム表!C:D,2,FALSE)","v":"ドッジの王子様"},"×",{"$f":"組合表!AJ20","v":"J3"},"J3J1",null,{"$f":"VLOOKUP(R22,チーム表!C:D,2,FALSE)","v":"向本折クラブ　"},{"$nulls":11},"I1I3",""]
[18,null,{"$f":"組合表!AG21","v":"B1"},"B1B4",null,{"$f":"VLOOKUP(C23,チーム表!C:D,2,FALSE)","v":"桜Ｖ６"},"×",{"$f":"組合表!AH21","v":"B4"},"B4B1",null,{"$f":"VLOOKUP(H23,チーム表!C:D,2,FALSE)","v":"Ｇ-Ｓhimozeki"},null,{"$f":"組合表!AI21","v":"C1"},"C1C4",null,{"$f":"VLOOKUP(M23,チーム表!C:D,2,FALSE)","v":"珠洲クラブ"},"×",{"$f":"組合表!AJ21","v":"C4"},"C4C1",null,{"$f":"VLOOKUP(R23,チーム表!C:D,2,FALSE)","v":"呉羽ドッジボールクラブ"},{"$nulls":11},"B1B4",""]
[19,null,{"$f":"組合表!AG22","v":"G1"},"G1G4",null,{"$f":"VLOOKUP(C24,チーム表!C:D,2,FALSE)","v":"ＮＩＳＨＩ Jr スターズ"},"×",{"$f":"組合表!AH22","v":"G4"},"G4G1",null,{"$f":"VLOOKUP(H24,チーム表!C:D,2,FALSE)","v":"呉羽ジュニア"},null,{"$f":"組合表!AI22","v":"E2"},"E2E4",null,{"$f":"VLOOKUP(M24,チーム表!C:D,2,FALSE)","v":"福光サンダージュニア"},"×",{"$f":"組合表!AJ22","v":"E4"},"E4E2",null,{"$f":"VLOOKUP(R24,チーム表!C:D,2,FALSE)","v":"田上闘球DREAMS"},{"$nulls":11},"G1G4",""]
[20,null,{"$f":"組合表!AG23","v":"H2"},"H2H4",null,{"$f":"VLOOKUP(C25,チーム表!C:D,2,FALSE)","v":"鞍月・三谷アタッカーズ"},"×",{"$f":"組合表!AH23","v":"H4"},"H4H2",null,{"$f":"VLOOKUP(H25,チーム表!C:D,2,FALSE)","v":"鵜川フェニックスジュニア"},null,{"$f":"組合表!AI23","v":"I2"},"I2I4",null,{"$f":"VLOOKUP(M25,チーム表!C:D,2,FALSE)","v":"福光サンダーホープス"},"×",{"$f":"組合表!AJ23","v":"I4"},"I4I2",null,{"$f":"VLOOKUP(R25,チーム表!C:D,2,FALSE)","v":"めちゃげん闘球小僧"},{"$nulls":11},"H2H4",""]
[21,null,{"$f":"組合表!AG24","v":"A2"},"A2A5",null,{"$f":"VLOOKUP(C26,チーム表!C:D,2,FALSE)","v":"パイレーツα"},"×",{"$f":"組合表!AH24","v":"A5"},"A5A2",null,{"$f":"VLOOKUP(H26,チーム表!C:D,2,FALSE)","v":"米丸ドッジボールクラブ"},null,{"$f":"組合表!AI24","v":"B2"},"B2B5",null,{"$f":"VLOOKUP(M26,チーム表!C:D,2,FALSE)","v":"山中SPARS"},"×",{"$f":"組合表!AJ24","v":"B5"},"B5B2",null,{"$f":"VLOOKUP(R26,チーム表!C:D,2,FALSE)","v":"めちゃげん"},{"$nulls":11},"A2A5",""]
[22,null,{"$f":"組合表!AG25","v":"D2"},"D2D5",null,{"$f":"VLOOKUP(C27,チーム表!C:D,2,FALSE)","v":"鞍月アタッカーズ"},"×",{"$f":"組合表!AH25","v":"D5"},"D5D2",null,{"$f":"VLOOKUP(H27,チーム表!C:D,2,FALSE)","v":"松任の大魔陣"},null,{"$f":"組合表!AI25","v":"G2"},"G2G5",null,{"$f":"VLOOKUP(M27,チーム表!C:D,2,FALSE)","v":"山中SＴARS"},"×",{"$f":"組合表!AJ25","v":"G5"},"G5G2",null,{"$f":"VLOOKUP(R27,チーム表!C:D,2,FALSE)","v":"田上闘球ＦＵＴＵＲＥＳ"},{"$nulls":11},"D2D5",""]
[23,null,{"$f":"組合表!AG26","v":"B1"},"B1B3",null,{"$f":"VLOOKUP(C28,チーム表!C:D,2,FALSE)","v":"桜Ｖ６"},"×",{"$f":"組合表!AH26","v":"B3"},"B3B1",null,{"$f":"VLOOKUP(H28,チーム表!C:D,2,FALSE)","v":"小木クラブ"},null,{"$f":"組合表!AI26","v":"C1"},"C1C3",null,{"$f":"VLOOKUP(M28,チーム表!C:D,2,FALSE)","v":"珠洲クラブ"},"×",{"$f":"組合表!AJ26","v":"C3"},"C3C1",null,{"$f":"VLOOKUP(R28,チーム表!C:D,2,FALSE)","v":"寺井クラブ"},{"$nulls":11},"B1B3",""]
[24,null,{"$f":"組合表!AG27","v":"G1"},"G1G3",null,{"$f":"VLOOKUP(C29,チーム表!C:D,2,FALSE)","v":"ＮＩＳＨＩ Jr スターズ"},"×",{"$f":"組合表!AH27","v":"G3"},"G3G1",null,{"$f":"VLOOKUP(H29,チーム表!C:D,2,FALSE)","v":"奥能登クラブジュニア"},null,{"$f":"組合表!AI27","v":"A2"},"A2A4",null,{"$f":"VLOOKUP(M29,チーム表!C:D,2,FALSE)","v":"パイレーツα"},"×",{"$f":"組合表!AJ27","v":"A4"},"A4A2",null,{"$f":"VLOOKUP(R29,チーム表!C:D,2,FALSE)","v":"ミラクル元キッズ"},{"$nulls":11},"G1G3",""]
[25,null,{"$f":"組合表!AG28","v":"C2"},"C2C4",null,{"$f":"VLOOKUP(C30,チーム表!C:D,2,FALSE)","v":"向本折SPARS"},"×",{"$f":"組合表!AH28","v":"C4"},"C4C2",null,{"$f":"VLOOKUP(H30,チーム表!C:D,2,FALSE)","v":"呉羽ドッジボールクラブ"},null,{"$f":"組合表!AI28","v":"D2"},"D2D4",null,{"$f":"VLOOKUP(M30,チーム表!C:D,2,FALSE)","v":"鞍月アタッカーズ"},"×",{"$f":"組合表!AJ28","v":"D4"},"D4D2",null,{"$f":"VLOOKUP(R30,チーム表!C:D,2,FALSE)","v":"鵜川ミラクルフェニックス"},{"$nulls":11},"C2C4",""]
[26,null,{"$f":"組合表!AG29","v":"A3"},"A3A5",null,{"$f":"VLOOKUP(C31,チーム表!C:D,2,FALSE)","v":"鳳至ドッジボールクラブ"},"×",{"$f":"組合表!AH29","v":"A5"},"A5A3",null,{"$f":"VLOOKUP(H31,チーム表!C:D,2,FALSE)","v":"米丸ドッジボールクラブ"},null,{"$f":"組合表!AI29","v":"B3"},"B3B5",null,{"$f":"VLOOKUP(M31,チーム表!C:D,2,FALSE)","v":"小木クラブ"},"×",{"$f":"組合表!AJ29","v":"B5"},"B5B3",null,{"$f":"VLOOKUP(R31,チーム表!C:D,2,FALSE)","v":"めちゃげん"},{"$nulls":11},"A3A5",""]
[27,null,{"$f":"組合表!AG30","v":"D3"},"D3D5",null,{"$f":"VLOOKUP(C32,チーム表!C:D,2,FALSE)","v":"附属ドッジファイターズ"},"×",{"$f":"組合表!AH30","v":"D5"},"D5D3",null,{"$f":"VLOOKUP(H32,チーム表!C:D,2,FALSE)","v":"松任の大魔陣"},null,{"$f":"組合表!AI30","v":"G3"},"G3G5",null,{"$f":"VLOOKUP(M32,チーム表!C:D,2,FALSE)","v":"奥能登クラブジュニア"},"×",{"$f":"組合表!AJ30","v":"G5"},"G5G3",null,{"$f":"VLOOKUP(R32,チーム表!C:D,2,FALSE)","v":"田上闘球ＦＵＴＵＲＥＳ"},{"$nulls":11},"D3D5",""]
[28,null,{"$f":"組合表!AG31","v":""},"",null,{"$f":"VLOOKUP(C33,チーム表!C:D,2,FALSE)","v":{"$error":"#N/A"}},"×",{"$f":"組合表!AH31","v":""},"",null,{"$f":"VLOOKUP(H33,チーム表!C:D,2,FALSE)","v":{"$error":"#N/A"}},null,{"$f":"組合表!AI31","v":""},"",null,{"$f":"VLOOKUP(M33,チーム表!C:D,2,FALSE)","v":{"$error":"#N/A"}},"×",{"$f":"組合表!AJ31","v":""},"",null,{"$f":"VLOOKUP(R33,チーム表!C:D,2,FALSE)","v":{"$error":"#N/A"}},{"$nulls":11},"",""]
[29,null,{"$f":"組合表!AG32","v":""},"",null,{"$f":"VLOOKUP(C34,チーム表!C:D,2,FALSE)","v":{"$error":"#N/A"}},"×",{"$f":"組合表!AH32","v":""},"",null,{"$f":"VLOOKUP(H34,チーム表!C:D,2,FALSE)","v":{"$error":"#N/A"}},null,{"$f":"組合表!AI32","v":""},"",null,{"$f":"VLOOKUP(M34,チーム表!C:D,2,FALSE)","v":{"$error":"#N/A"}},"×",{"$f":"組合表!AJ32","v":""},"",null,{"$f":"VLOOKUP(R34,チーム表!C:D,2,FALSE)","v":{"$error":"#N/A"}},{"$nulls":11},"",""]
[30,null,{"$f":"組合表!AG33","v":""},"",null,{"$f":"VLOOKUP(C35,チーム表!C:D,2,FALSE)","v":{"$error":"#N/A"}},"×",{"$f":"組合表!AH33","v":""},"",null,{"$f":"VLOOKUP(H35,チーム表!C:D,2,FALSE)","v":{"$error":"#N/A"}},null,{"$f":"組合表!AI33","v":""},"",null,{"$f":"VLOOKUP(M35,チーム表!C:D,2,FALSE)","v":{"$error":"#N/A"}},"×",{"$f":"組合表!AJ33","v":""},"",null,{"$f":"VLOOKUP(R35,チーム表!C:D,2,FALSE)","v":{"$error":"#N/A"}},{"$nulls":11},"",""]
[31,null,{"$f":"組合表!AG34","v":""},"",null,{"$f":"VLOOKUP(C36,チーム表!C:D,2,FALSE)","v":{"$error":"#N/A"}},"×",{"$f":"組合表!AH34","v":""},"",null,{"$f":"VLOOKUP(H36,チーム表!C:D,2,FALSE)","v":{"$error":"#N/A"}},null,{"$f":"組合表!AI34","v":""},"",null,{"$f":"VLOOKUP(M36,チーム表!C:D,2,FALSE)","v":{"$error":"#N/A"}},"×",{"$f":"組合表!AJ34","v":""},"",null,{"$f":"VLOOKUP(R36,チーム表!C:D,2,FALSE)","v":{"$error":"#N/A"}},{"$nulls":11},"",""]
[32,null,{"$f":"組合表!AG35","v":""},"",null,{"$f":"VLOOKUP(C37,チーム表!C:D,2,FALSE)","v":{"$error":"#N/A"}},"×",{"$f":"組合表!AH35","v":""},"",null,{"$f":"VLOOKUP(H37,チーム表!C:D,2,FALSE)","v":{"$error":"#N/A"}},null,{"$f":"組合表!AI35","v":""},"",null,{"$f":"VLOOKUP(M37,チーム表!C:D,2,FALSE)","v":{"$error":"#N/A"}},"×",{"$f":"組合表!AJ35","v":""},"",null,{"$f":"VLOOKUP(R37,チーム表!C:D,2,FALSE)","v":{"$error":"#N/A"}},{"$nulls":11},"",""]
[33,null,{"$f":"組合表!AG36","v":""},"",null,{"$f":"VLOOKUP(C38,チーム表!C:D,2,FALSE)","v":{"$error":"#N/A"}},"×",{"$f":"組合表!AH36","v":""},"",null,{"$f":"VLOOKUP(H38,チーム表!C:D,2,FALSE)","v":{"$error":"#N/A"}},null,{"$f":"組合表!AI36","v":""},"",null,{"$f":"VLOOKUP(M38,チーム表!C:D,2,FALSE)","v":{"$error":"#N/A"}},"×",{"$f":"組合表!AJ36","v":""},"",null,{"$f":"VLOOKUP(R38,チーム表!C:D,2,FALSE)","v":{"$error":"#N/A"}},{"$nulls":11},"",""]
[34,null,{"$f":"組合表!AG37","v":""},{"$f":"CONCATENATE(C39,H39)","v":""},null,{"$f":"VLOOKUP(C39,チーム表!C:D,2,FALSE)","v":{"$error":"#N/A"}},"×",{"$f":"組合表!AH37","v":""},{"$f":"CONCATENATE(H39,C39)","v":""},null,{"$f":"VLOOKUP(H39,チーム表!C:D,2,FALSE)","v":{"$error":"#N/A"}},null,{"$f":"組合表!AI37","v":""},{"$f":"CONCATENATE(M39,R39)","v":""},null,{"$f":"VLOOKUP(M39,チーム表!C:D,2,FALSE)","v":{"$error":"#N/A"}},"×",{"$f":"組合表!AJ37","v":""},{"$f":"CONCATENATE(R39,M39)","v":""},null,{"$f":"VLOOKUP(R39,チーム表!C:D,2,FALSE)","v":{"$error":"#N/A"}},{"$nulls":11},"",""]
[35,null,{"$f":"組合表!AG38","v":""},{"$f":"CONCATENATE(C40,H40)","v":""},null,{"$f":"VLOOKUP(C40,チーム表!C:D,2,FALSE)","v":{"$error":"#N/A"}},"×",{"$f":"組合表!AH38","v":""},{"$f":"CONCATENATE(H40,C40)","v":""},null,{"$f":"VLOOKUP(H40,チーム表!C:D,2,FALSE)","v":{"$error":"#N/A"}},null,{"$f":"組合表!AI38","v":""},{"$f":"CONCATENATE(M40,R40)","v":""},null,{"$f":"VLOOKUP(M40,チーム表!C:D,2,FALSE)","v":{"$error":"#N/A"}},"×",{"$f":"組合表!AJ38","v":""},{"$f":"CONCATENATE(R40,M40)","v":""},null,{"$f":"VLOOKUP(R40,チーム表!C:D,2,FALSE)","v":{"$error":"#N/A"}},{"$nulls":11},"",""]
[36,null,{"$f":"組合表!AG39","v":""},{"$f":"CONCATENATE(C41,H41)","v":""},null,{"$f":"VLOOKUP(C41,チーム表!C:D,2,FALSE)","v":{"$error":"#N/A"}},"×",{"$f":"組合表!AH39","v":""},{"$f":"CONCATENATE(H41,C41)","v":""},null,{"$f":"VLOOKUP(H41,チーム表!C:D,2,FALSE)","v":{"$error":"#N/A"}},null,{"$f":"組合表!AI39","v":""},{"$f":"CONCATENATE(M41,R41)","v":""},null,{"$f":"VLOOKUP(M41,チーム表!C:D,2,FALSE)","v":{"$error":"#N/A"}},"×",{"$f":"組合表!AJ39","v":""},{"$f":"CONCATENATE(R41,M41)","v":""},null,{"$f":"VLOOKUP(R41,チーム表!C:D,2,FALSE)","v":{"$error":"#N/A"}},{"$nulls":11},"",""]
[37,null,{"$f":"組合表!AG40","v":""},"",null,{"$f":"VLOOKUP(C42,チーム表!C:D,2,FALSE)","v":{"$error":"#N/A"}},"×",{"$f":"組合表!AH40","v":""},"",null,{"$f":"VLOOKUP(H42,チーム表!C:D,2,FALSE)","v":{"$error":"#N/A"}},null,{"$f":"組合表!AI40","v":""},"",null,{"$f":"VLOOKUP(M42,チーム表!C:D,2,FALSE)","v":{"$error":"#N/A"}},"×",{"$f":"組合表!AJ40","v":""},"",null,{"$f":"VLOOKUP(R42,チーム表!C:D,2,FALSE)","v":{"$error":"#N/A"}},{"$nulls":11},"",""]
[38,null,{"$f":"組合表!AG41","v":""},"",null,{"$f":"VLOOKUP(C43,チーム表!C:D,2,FALSE)","v":{"$error":"#N/A"}},"×",{"$f":"組合表!AH41","v":""},"",null,{"$f":"VLOOKUP(H43,チーム表!C:D,2,FALSE)","v":{"$error":"#N/A"}},null,{"$f":"組合表!AI41","v":""},"",null,{"$f":"VLOOKUP(M43,チーム表!C:D,2,FALSE)","v":{"$error":"#N/A"}},"×",{"$f":"組合表!AJ41","v":""},"",null,{"$f":"VLOOKUP(R43,チーム表!C:D,2,FALSE)","v":{"$error":"#N/A"}},{"$nulls":11},"",""]
[39,null,{"$f":"組合表!AG42","v":""},"",null,{"$f":"VLOOKUP(C44,チーム表!C:D,2,FALSE)","v":{"$error":"#N/A"}},"×",{"$f":"組合表!AH42","v":""},"",null,{"$f":"VLOOKUP(H44,チーム表!C:D,2,FALSE)","v":{"$error":"#N/A"}},null,{"$f":"組合表!AI42","v":""},"",null,{"$f":"VLOOKUP(M44,チーム表!C:D,2,FALSE)","v":{"$error":"#N/A"}},"×",{"$f":"組合表!AJ42","v":""},"",null,{"$f":"VLOOKUP(R44,チーム表!C:D,2,FALSE)","v":{"$error":"#N/A"}},{"$nulls":11},"",""]
[40,null,{"$f":"組合表!AG43","v":""},"",null,{"$f":"VLOOKUP(C45,チーム表!C:D,2,FALSE)","v":{"$error":"#N/A"}},"×",{"$f":"組合表!AH43","v":""},"",null,{"$f":"VLOOKUP(H45,チーム表!C:D,2,FALSE)","v":{"$error":"#N/A"}},null,{"$f":"組合表!AI43","v":""},"",null,{"$f":"VLOOKUP(M45,チーム表!C:D,2,FALSE)","v":{"$error":"#N/A"}},"×",{"$f":"組合表!AJ43","v":""},"",null,{"$f":"VLOOKUP(R45,チーム表!C:D,2,FALSE)","v":{"$error":"#N/A"}},{"$nulls":11},"",""]
[41,null,1,{"$nulls":29},{"$f":"I6","v":"A2A1"},{"$f":"IF(J6=\"\",\"\",J6)","v":""}]
[42,null,2,{"$nulls":29},"D2D1",{"$f":"IF(J7=\"\",\"\",J7)","v":""}]
[43,null,3,{"$nulls":29},"F2F1",""]
[44,null,4,{"$nulls":29},"J2J1",""]
[45,null,5,{"$nulls":29},"C4C3",""]
[46,null,6,{"$nulls":29},"E4E3",""]
[47,null,7,{"$nulls":29},"I4I3",""]
[48,null,8,{"$nulls":29},"B5B1",""]
[49,null,9,{"$nulls":29},"G5G1",""]
[50,null,10,{"$nulls":29},"H3H2",""]
[{"$nulls":32},"A3A2",""]
[{"$nulls":32},"D3D2",""]
[{"$nulls":32},"F4F1",""]
[{"$nulls":32},"J4J1",""]
[{"$nulls":32},"C5C4",""]
[{"$nulls":32},"E3E1",""]
[{"$nulls":32},"I3I1",""]
[{"$nulls":32},"B4B1",""]
[{"$nulls":32},"G4G1",""]
[{"$nulls":32},"H4H2",""]
[{"$nulls":32},"A5A2",""]
[{"$nulls":32},"D5D2",""]
[{"$nulls":32},"B3B1",""]
[{"$nulls":32},"G3G1",""]
[{"$nulls":32},"C4C2",""]
[{"$nulls":32},"A5A3",""]
[{"$nulls":32},"D5D3",""]
[{"$nulls":32},"",""]
[{"$nulls":32},"",""]
[{"$nulls":32},"",""]
[{"$nulls":32},"",""]
[{"$nulls":32},"",""]
[{"$nulls":32},"",""]
[{"$nulls":32},"",""]
[{"$nulls":32},"",""]
[{"$nulls":32},"",""]
[{"$nulls":32},"",""]
[{"$nulls":32},"",""]
[{"$nulls":32},"",""]
[{"$nulls":32},"",""]
[{"$nulls":32},{"$f":"N6","v":"B1B2"},{"$f":"IF(O6=\"\",\"\",O6)","v":""}]
[{"$nulls":32},"G1G2",{"$f":"IF(O7=\"\",\"\",O7)","v":""}]
[{"$nulls":32},"H1H2",""]
[{"$nulls":32},"A3A4",""]
[{"$nulls":32},"D3D4",""]
[{"$nulls":32},"F3F4",""]
[{"$nulls":32},"J3J4",""]
[{"$nulls":32},"C1C5",""]
[{"$nulls":32},"E2E3",""]
[{"$nulls":32},"I2I3",""]
[{"$nulls":32},"B2B3",""]
[{"$nulls":32},"G2G3",""]
[{"$nulls":32},"H1H4",""]
[{"$nulls":32},"A4A5",""]
[{"$nulls":32},"D4D5",""]
[{"$nulls":32},"F1F3",""]
[{"$nulls":32},"J1J3",""]
[{"$nulls":32},"C1C4",""]
[{"$nulls":32},"E2E4",""]
[{"$nulls":32},"I2I4",""]
[{"$nulls":32},"B2B5",""]
[{"$nulls":32},"G2G5",""]
[{"$nulls":32},"C1C3",""]
[{"$nulls":32},"A2A4",""]
[{"$nulls":32},"D2D4",""]
[{"$nulls":32},"B3B5",""]
[{"$nulls":32},"G3G5",""]
[{"$nulls":32},"",""]
[{"$nulls":32},"",""]
[{"$nulls":32},"",""]
[{"$nulls":32},"",""]
[{"$nulls":32},"",""]
[{"$nulls":32},"",""]
[{"$nulls":32},"",""]
[{"$nulls":32},"",""]
[{"$nulls":32},"",""]
[{"$nulls":32},"",""]
[{"$nulls":32},"",""]
[{"$nulls":32},"",""]
[{"$nulls":32},"",""]
[{"$nulls":32},{"$f":"S6","v":"B2B1"},{"$f":"IF(T6=\"\",\"\",T6)","v":""}]
[{"$nulls":32},"G2G1",{"$f":"IF(T7=\"\",\"\",T7)","v":""}]
[{"$nulls":32},"H2H1",""]
[{"$nulls":32},"A4A3",""]
[{"$nulls":32},"D4D3",""]
[{"$nulls":32},"F4F3",""]
[{"$nulls":32},"J4J3",""]
[{"$nulls":32},"C5C1",""]
[{"$nulls":32},"E3E2",""]
[{"$nulls":32},"I3I2",""]
[{"$nulls":32},"B3B2",""]
[{"$nulls":32},"G3G2",""]
[{"$nulls":32},"H4H1",""]
[{"$nulls":32},"A5A4",""]
[{"$nulls":32},"D5D4",""]
[{"$nulls":32},"F3F1",""]
[{"$nulls":32},"J3J1",""]
[{"$nulls":32},"C4C1",""]
[{"$nulls":32},"E4E2",""]
[{"$nulls":32},"I4I2",""]
[{"$nulls":32},"B5B2",""]
[{"$nulls":32},"G5G2",""]
[{"$nulls":32},"C3C1",""]
[{"$nulls":32},"A4A2",""]
[{"$nulls":32},"D4D2",""]
[{"$nulls":32},"B5B3",""]
[{"$nulls":32},"G5G3",""]
[{"$nulls":32},"",""]
[{"$nulls":32},"",""]
[{"$nulls":32},"",""]
[{"$nulls":32},"",""]
[{"$nulls":32},"",""]
[{"$nulls":32},"",""]
[{"$nulls":32},"",""]
[{"$nulls":32},"",""]
[{"$nulls":32},"",""]
[{"$nulls":32},"",""]
[{"$nulls":32},"",""]
[{"$nulls":32},"",""]
[{"$nulls":32},"",""]

{"sheet":"対戦表3","index":8,"n_rows":245,"n_cols":34,"rows_kept":245,"merged":[[45,5,45,10],[45,15,45,20],[45,25,45,30],[46,5,46,10],[46,15,46,20],[46,25,46,30],[47,5,47,10],[47,15,47,20],[47,25,47,30],[48,5,48,10],[48,15,48,20],[48,25,48,30],[49,5,49,10],[49,15,49,20],[49,25,49,30],[50,5,50,10],[50,15,50,20],[50,25,50,30],[51,5,51,10],[51,15,51,20],[51,25,51,30],[52,5,52,10],[52,15,52,20],[52,25,52,30],[53,5,53,10],[53,15,53,20],[53,25,53,30],[54,5,54,10],[54,15,54,20],[54,25,54,30]]}
[{"$nulls":15},{"$f":"チーム表!$B$1","v":"第１３回　卒業記念ドッジボール大会"}]
[]
["　試合スケジュール"]
[]
[null,"時間",null,null,"点","Ａコート",{"$nulls":3},"点","Ａコート",{"$nulls":3},"点","Ｂコート",{"$nulls":3},"点","Ｂコート",{"$nulls":3},"点","Ｃコート",{"$nulls":3},"点","Ｃコート"]
[1,null,{"$f":"組合表!AG4","v":"A1"},{"$f":"CONCATENATE(C6,H6)","v":"A1A2"},null,{"$f":"VLOOKUP(C6,チーム表!C:D,2,FALSE)","v":"ＮＩＳＨＩファイヤースターズ"},"×",{"$f":"組合表!AH4","v":"A2"},{"$f":"CONCATENATE(H6,C6)","v":"A2A1"},null,{"$f":"VLOOKUP(H6,チーム表!C:D,2,FALSE)","v":"パイレーツα"},null,{"$f":"組合表!AI4","v":"B1"},{"$f":"CONCATENATE(M6,R6)","v":"B1B2"},null,{"$f":"VLOOKUP(M6,チーム表!C:D,2,FALSE)","v":"桜Ｖ６"},"×",{"$f":"組合表!AJ4","v":"B2"},{"$f":"CONCATENATE(R6,M6)","v":"B2B1"},null,{"$f":"VLOOKUP(R6,チーム表!C:D,2,FALSE)","v":"山中SPARS"},null,{"$f":"組合表!AK4","v":"C1"},{"$f":"CONCATENATE(W6,AB6)","v":"C1C2"},null,{"$f":"VLOOKUP(W6,チーム表!C:D,2,FALSE)","v":"珠洲クラブ"},{"$f":"Q6","v":"×"},{"$f":"組合表!AL4","v":"C2"},{"$f":"CONCATENATE(AB6,W6)","v":"C2C1"},null,{"$f":"VLOOKUP(AB6,チーム表!C:D,2,FALSE)","v":"向本折SPARS"},null,{"$f":"D6","v":"A1A2"},{"$f":"IF(E6=\"\",\"\",E6)","v":""}]
[2,null,{"$f":"組合表!AG5","v":"D1"},{"$f":"CONCATENATE(C7,H7)","v":"D1D2"},null,{"$f":"VLOOKUP(C7,チーム表!C:D,2,FALSE)","v":"杉っ子ドッジファイターズ"},"×",{"$f":"組合表!AH5","v":"D2"},{"$f":"CONCATENATE(H7,C7)","v":"D2D1"},null,{"$f":"VLOOKUP(H7,チーム表!C:D,2,FALSE)","v":"鞍月アタッカーズ"},null,{"$f":"組合表!AI5","v":"G1"},{"$f":"CONCATENATE(M7,R7)","v":"G1G2"},null,{"$f":"VLOOKUP(M7,チーム表!C:D,2,FALSE)","v":"ＮＩＳＨＩ Jr スターズ"},"×",{"$f":"組合表!AJ5","v":"G2"},{"$f":"CONCATENATE(R7,M7)","v":"G2G1"},null,{"$f":"VLOOKUP(R7,チーム表!C:D,2,FALSE)","v":"山中SＴARS"},null,{"$f":"組合表!AK5","v":"E1"},{"$f":"CONCATENATE(W7,AB7)","v":"E1E2"},null,{"$f":"VLOOKUP(W7,チーム表!C:D,2,FALSE)","v":"千坂ドッジファイヤーズ"},"×",{"$f":"組合表!AL5","v":"E2"},{"$f":"CONCATENATE(AB7,W7)","v":"E2E1"},null,{"$f":"VLOOKUP(AB7,チーム表!C:D,2,FALSE)","v":"福光サンダージュニア"},null,"D1D2",{"$f":"IF(E7=\"\",\"\",E7)","v":""}]
[3,null,{"$f":"組合表!AG6","v":"F1"},"F1F2",null,{"$f":"VLOOKUP(C8,チーム表!C:D,2,FALSE)","v":"珠洲魂８ "},"×",{"$f":"組合表!AH6","v":"F2"},"F2F1",null,{"$f":"VLOOKUP(H8,チーム表!C:D,2,FALSE)","v":"三馬パワフル"},null,{"$f":"組合表!AI6","v":"H1"},"H1H2",null,{"$f":"VLOOKUP(M8,チーム表!C:D,2,FALSE)","v":"桜Ｖ３"},"×",{"$f":"組合表!AJ6","v":"H2"},"H2H1",null,{"$f":"VLOOKUP(R8,チーム表!C:D,2,FALSE)","v":"鞍月・三谷アタッカーズ"},null,{"$f":"組合表!AK6","v":"I1"},"I1I2",null,{"$f":"VLOOKUP(W8,チーム表!C:D,2,FALSE)","v":"千坂Ｆロータスルート"},"×",{"$f":"組合表!AL6","v":"I2"},"I2I1",null,{"$f":"VLOOKUP(AB8,チーム表!C:D,2,FALSE)","v":"福光サンダーホープス"},null,"F1F2",""]
[4,null,{"$f":"組合表!AG7","v":"J1"},"J1J2",null,{"$f":"VLOOKUP(C9,チーム表!C:D,2,FALSE)","v":"ドッジの王子様"},"×",{"$f":"組合表!AH7","v":"J2"},"J2J1",null,{"$f":"VLOOKUP(H9,チーム表!C:D,2,FALSE)","v":"鳳至ドッジボールクラブJr"},null,{"$f":"組合表!AI7","v":"A3"},"A3A4",null,{"$f":"VLOOKUP(M9,チーム表!C:D,2,FALSE)","v":"鳳至ドッジボールクラブ"},"×",{"$f":"組合表!AJ7","v":"A4"},"A4A3",null,{"$f":"VLOOKUP(R9,チーム表!C:D,2,FALSE)","v":"ミラクル元キッズ"},null,{"$f":"組合表!AK7","v":"B3"},"B3B4",null,{"$f":"VLOOKUP(W9,チーム表!C:D,2,FALSE)","v":"小木クラブ"},"×",{"$f":"組合表!AL7","v":"B4"},"B4B3",null,{"$f":"VLOOKUP(AB9,チーム表!C:D,2,FALSE)","v":"Ｇ-Ｓhimozeki"},null,"J1J2",""]
[5,null,{"$f":"組合表!AG8","v":"C3"},"C3C4",null,{"$f":"VLOOKUP(C10,チーム表!C:D,2,FALSE)","v":"寺井クラブ"},"×",{"$f":"組合表!AH8","v":"C4"},"C4C3",null,{"$f":"VLOOKUP(H10,チーム表!C:D,2,FALSE)","v":"呉羽ドッジボールクラブ"},null,{"$f":"組合表!AI8","v":"D3"},"D3D4",null,{"$f":"VLOOKUP(M10,チーム表!C:D,2,FALSE)","v":"附属ドッジファイターズ"},"×",{"$f":"組合表!AJ8","v":"D4"},"D4D3",null,{"$f":"VLOOKUP(R10,チーム表!C:D,2,FALSE)","v":"鵜川ミラクルフェニックス"},null,{"$f":"組合表!AK8","v":"G3"},"G3G4",null,{"$f":"VLOOKUP(W10,チーム表!C:D,2,FALSE)","v":"奥能登クラブジュニア"},"×",{"$f":"組合表!AL8","v":"G4"},"G4G3",null,{"$f":"VLOOKUP(AB10,チーム表!C:D,2,FALSE)","v":"呉羽ジュニア"},null,"C3C4",""]
[6,null,{"$f":"組合表!AG9","v":"E3"},"E3E4",null,{"$f":"VLOOKUP(C11,チーム表!C:D,2,FALSE)","v":"向本折クラブＡ"},"×",{"$f":"組合表!AH9","v":"E4"},"E4E3",null,{"$f":"VLOOKUP(H11,チーム表!C:D,2,FALSE)","v":"田上闘球DREAMS"},null,{"$f":"組合表!AI9","v":"F3"},"F3F4",null,{"$f":"VLOOKUP(M11,チーム表!C:D,2,FALSE)","v":"敦賀西ホワイトキッズ　"},"×",{"$f":"組合表!AJ9","v":"F4"},"F4F3",null,{"$f":"VLOOKUP(R11,チーム表!C:D,2,FALSE)","v":"五福ダイヤモンドサンズ"},null,{"$f":"組合表!AK9","v":"H3"},"H3H4",null,{"$f":"VLOOKUP(W11,チーム表!C:D,2,FALSE)","v":"寺井クラブJr."},"×",{"$f":"組合表!AL9","v":"H4"},"H4H3",null,{"$f":"VLOOKUP(AB11,チーム表!C:D,2,FALSE)","v":"鵜川フェニックスジュニア"},null,"E3E4",""]
[7,null,{"$f":"組合表!AG10","v":"I3"},"I3I4",null,{"$f":"VLOOKUP(C12,チーム表!C:D,2,FALSE)","v":"寺井九谷クラブ"},"×",{"$f":"組合表!AH10","v":"I4"},"I4I3",null,{"$f":"VLOOKUP(H12,チーム表!C:D,2,FALSE)","v":"めちゃげん闘球小僧"},null,{"$f":"組合表!AI10","v":"J3"},"J3J4",null,{"$f":"VLOOKUP(M12,チーム表!C:D,2,FALSE)","v":"向本折クラブ　"},"×",{"$f":"組合表!AJ10","v":"J4"},"J4J3",null,{"$f":"VLOOKUP(R12,チーム表!C:D,2,FALSE)","v":"松任の大魔陣 Ｊｒ"},null,{"$f":"組合表!AK10","v":"A1"},"A1A5",null,{"$f":"VLOOKUP(W12,チーム表!C:D,2,FALSE)","v":"ＮＩＳＨＩファイヤースターズ"},"×",{"$f":"組合表!AL10","v":"A5"},"A5A1",null,{"$f":"VLOOKUP(AB12,チーム表!C:D,2,FALSE)","v":"米丸ドッジボールクラブ"},null,"I3I4",""]
[8,null,{"$f":"組合表!AG11","v":"B1"},"B1B5",null,{"$f":"VLOOKUP(C13,チーム表!C:D,2,FALSE)","v":"桜Ｖ６"},"×",{"$f":"組合表!AH11","v":"B5"},"B5B1",null,{"$f":"VLOOKUP(H13,チーム表!C:D,2,FALSE)","v":"めちゃげん"},null,{"$f":"組合表!AI11","v":"C1"},"C1C5",null,{"$f":"VLOOKUP(M13,チーム表!C:D,2,FALSE)","v":"珠洲クラブ"},"×",{"$f":"組合表!AJ11","v":"C5"},"C5C1",null,{"$f":"VLOOKUP(R13,チーム表!C:D,2,FALSE)","v":"三谷Ｄ.Ｂ.Ｃ"},null,{"$f":"組合表!AK11","v":"D1"},"D1D5",null,{"$f":"VLOOKUP(W13,チーム表!C:D,2,FALSE)","v":"杉っ子ドッジファイターズ"},{"$f":"Q14","v":"×"},{"$f":"組合表!AL11","v":"D5"},"D5D1",null,{"$f":"VLOOKUP(AB13,チーム表!C:D,2,FALSE)","v":"松任の大魔陣"},null,"B1B5",""]
[9,null,{"$f":"組合表!AG12","v":"G1"},"G1G5",null,{"$f":"VLOOKUP(C14,チーム表!C:D,2,FALSE)","v":"ＮＩＳＨＩ Jr スターズ"},"×",{"$f":"組合表!AH12","v":"G5"},"G5G1",null,{"$f":"VLOOKUP(H14,チーム表!C:D,2,FALSE)","v":"田上闘球ＦＵＴＵＲＥＳ"},null,{"$f":"組合表!AI12","v":"E2"},"E2E3",null,{"$f":"VLOOKUP(M14,チーム表!C:D,2,FALSE)","v":"福光サンダージュニア"},"×",{"$f":"組合表!AJ12","v":"E3"},"E3E2",null,{"$f":"VLOOKUP(R14,チーム表!C:D,2,FALSE)","v":"向本折クラブＡ"},null,{"$f":"組合表!AK12","v":"F2"},"F2F3",null,{"$f":"VLOOKUP(W14,チーム表!C:D,2,FALSE)","v":"三馬パワフル"},{"$f":"Q15","v":"×"},{"$f":"組合表!AL12","v":"F3"},"F3F2",null,{"$f":"VLOOKUP(AB14,チーム表!C:D,2,FALSE)","v":"敦賀西ホワイトキッズ　"},null,"G1G5",""]
[10,null,{"$f":"組合表!AG13","v":"H2"},"H2H3",null,{"$f":"VLOOKUP(C15,チーム表!C:D,2,FALSE)","v":"鞍月・三谷アタッカーズ"},"×",{"$f":"組合表!AH13","v":"H3"},"H3H2",null,{"$f":"VLOOKUP(H15,チーム表!C:D,2,FALSE)","v":"寺井クラブJr."},null,{"$f":"組合表!AI13","v":"I2"},"I2I3",null,{"$f":"VLOOKUP(M15,チーム表!C:D,2,FALSE)","v":"福光サンダーホープス"},"×",{"$f":"組合表!AJ13","v":"I3"},"I3I2",null,{"$f":"VLOOKUP(R15,チーム表!C:D,2,FALSE)","v":"寺井九谷クラブ"},null,{"$f":"組合表!AK13","v":"J2"},"J2J3",null,{"$f":"VLOOKUP(W15,チーム表!C:D,2,FALSE)","v":"鳳至ドッジボールクラブJr"},{"$f":"Q16","v":"×"},{"$f":"組合表!AL13","v":"J3"},"J3J2",null,{"$f":"VLOOKUP(AB15,チーム表!C:D,2,FALSE)","v":"向本折クラブ　"},null,"H2H3",""]
[11,null,{"$f":"組合表!AG14","v":"A2"},"A2A3",null,{"$f":"VLOOKUP(C16,チーム表!C:D,2,FALSE)","v":"パイレーツα"},"×",{"$f":"組合表!AH14","v":"A3"},"A3A2",null,{"$f":"VLOOKUP(H16,チーム表!C:D,2,FALSE)","v":"鳳至ドッジボールクラブ"},null,{"$f":"組合表!AI14","v":"B2"},"B2B3",null,{"$f":"VLOOKUP(M16,チーム表!C:D,2,FALSE)","v":"山中SPARS"},"×",{"$f":"組合表!AJ14","v":"B3"},"B3B2",null,{"$f":"VLOOKUP(R16,チーム表!C:D,2,FALSE)","v":"小木クラブ"},null,{"$f":"組合表!AK14","v":"C2"},"C2C3",null,{"$f":"VLOOKUP(W16,チーム表!C:D,2,FALSE)","v":"向本折SPARS"},{"$f":"Q17","v":"×"},{"$f":"組合表!AL14","v":"C3"},"C3C2",null,{"$f":"VLOOKUP(AB16,チーム表!C:D,2,FALSE)","v":"寺井クラブ"},null,"A2A3",""]
[12,null,{"$f":"組合表!AG15","v":"D2"},"D2D3",null,{"$f":"VLOOKUP(C17,チーム表!C:D,2,FALSE)","v":"鞍月アタッカーズ"},"×",{"$f":"組合表!AH15","v":"D3"},"D3D2",null,{"$f":"VLOOKUP(H17,チーム表!C:D,2,FALSE)","v":"附属ドッジファイターズ"},null,{"$f":"組合表!AI15","v":"G2"},"G2G3",null,{"$f":"VLOOKUP(M17,チーム表!C:D,2,FALSE)","v":"山中SＴARS"},"×",{"$f":"組合表!AJ15","v":"G3"},"G3G2",null,{"$f":"VLOOKUP(R17,チーム表!C:D,2,FALSE)","v":"奥能登クラブジュニア"},null,{"$f":"組合表!AK15","v":"E1"},"E1E4",null,{"$f":"VLOOKUP(W17,チーム表!C:D,2,FALSE)","v":"千坂ドッジファイヤーズ"},{"$f":"Q19","v":"×"},{"$f":"組合表!AL15","v":"E4"},"E4E1",null,{"$f":"VLOOKUP(AB17,チーム表!C:D,2,FALSE)","v":"田上闘球DREAMS"},null,"D2D3",""]
[13,null,{"$f":"組合表!AG16","v":"F1"},"F1F4",null,{"$f":"VLOOKUP(C18,チーム表!C:D,2,FALSE)","v":"珠洲魂８ "},"×",{"$f":"組合表!AH16","v":"F4"},"F4F1",null,{"$f":"VLOOKUP(H18,チーム表!C:D,2,FALSE)","v":"五福ダイヤモンドサンズ"},null,{"$f":"組合表!AI16","v":"H1"},"H1H4",null,{"$f":"VLOOKUP(M18,チーム表!C:D,2,FALSE)","v":"桜Ｖ３"},"×",{"$f":"組合表!AJ16","v":"H4"},"H4H1",null,{"$f":"VLOOKUP(R18,チーム表!C:D,2,FALSE)","v":"鵜川フェニックスジュニア"},null,{"$f":"組合表!AK16","v":"I1"},"I1I4",null,{"$f":"VLOOKUP(W18,チーム表!C:D,2,FALSE)","v":"千坂Ｆロータスルート"},{"$f":"Q29","v":"×"},{"$f":"組合表!AL16","v":"I4"},"I4I1",null,{"$f":"VLOOKUP(AB18,チーム表!C:D,2,FALSE)","v":"めちゃげん闘球小僧"},null,"F1F4",""]
[14,null,{"$f":"組合表!AG17","v":"J1"},"J1J4",null,{"$f":"VLOOKUP(C19,チーム表!C:D,2,FALSE)","v":"ドッジの王子様"},"×",{"$f":"組合表!AH17","v":"J4"},"J4J1",null,{"$f":"VLOOKUP(H19,チーム表!C:D,2,FALSE)","v":"松任の大魔陣 Ｊｒ"},null,{"$f":"組合表!AI17","v":"A4"},"A4A5",null,{"$f":"VLOOKUP(M19,チーム表!C:D,2,FALSE)","v":"ミラクル元キッズ"},"×",{"$f":"組合表!AJ17","v":"A5"},"A5A4",null,{"$f":"VLOOKUP(R19,チーム表!C:D,2,FALSE)","v":"米丸ドッジボールクラブ"},null,{"$f":"組合表!AK17","v":"B4"},"B4B5",null,{"$f":"VLOOKUP(W19,チーム表!C:D,2,FALSE)","v":"Ｇ-Ｓhimozeki"},"×",{"$f":"組合表!AL17","v":"B5"},"B5B4",null,{"$f":"VLOOKUP(AB19,チーム表!C:D,2,FALSE)","v":"めちゃげん"},null,"J1J4",""]
[15,null,{"$f":"組合表!AG18","v":"C4"},"C4C5",null,{"$f":"VLOOKUP(C20,チーム表!C:D,2,FALSE)","v":"呉羽ドッジボールクラブ"},"×",{"$f":"組合表!AH18","v":"C5"},"C5C4",null,{"$f":"VLOOKUP(H20,チーム表!C:D,2,FALSE)","v":"三谷Ｄ.Ｂ.Ｃ"},null,{"$f":"組合表!AI18","v":"D4"},"D4D5",null,{"$f":"VLOOKUP(M20,チーム表!C:D,2,FALSE)","v":"鵜川ミラクルフェニックス"},"×",{"$f":"組合表!AJ18","v":"D5"},"D5D4",null,{"$f":"VLOOKUP(R20,チーム表!C:D,2,FALSE)","v":"松任の大魔陣"},null,{"$f":"組合表!AK18","v":"G4"},"G4G5",null,{"$f":"VLOOKUP(W20,チーム表!C:D,2,FALSE)","v":"呉羽ジュニア"},"×",{"$f":"組合表!AL18","v":"G5"},"G5G4",null,{"$f":"VLOOKUP(AB20,チーム表!C:D,2,FALSE)","v":"田上闘球ＦＵＴＵＲＥＳ"},null,"C4C5",""]
[16,null,{"$f":"組合表!AG19","v":"E1"},{"$f":"CONCATENATE(C21,H21)","v":"E1E3"},null,{"$f":"VLOOKUP(C21,チーム表!C:D,2,FALSE)","v":"千坂ドッジファイヤーズ"},"×",{"$f":"組合表!AH19","v":"E3"},{"$f":"CONCATENATE(H21,C21)","v":"E3E1"},null,{"$f":"VLOOKUP(H21,チーム表!C:D,2,FALSE)","v":"向本折クラブＡ"},null,{"$f":"組合表!AI19","v":"F1"},{"$f":"CONCATENATE(M21,R21)","v":"F1F3"},null,{"$f":"VLOOKUP(M21,チーム表!C:D,2,FALSE)","v":"珠洲魂８ "},"×",{"$f":"組合表!AJ19","v":"F3"},{"$f":"CONCATENATE(R21,M21)","v":"F3F1"},null,{"$f":"VLOOKUP(R21,チーム表!C:D,2,FALSE)","v":"敦賀西ホワイトキッズ　"},null,{"$f":"組合表!AK19","v":"H1"},{"$f":"CONCATENATE(W21,AB21)","v":"H1H3"},null,{"$f":"VLOOKUP(W21,チーム表!C:D,2,FALSE)","v":"桜Ｖ３"},"×",{"$f":"組合表!AL19","v":"H3"},{"$f":"CONCATENATE(AB21,W21)","v":"H3H1"},null,{"$f":"VLOOKUP(AB21,チーム表!C:D,2,FALSE)","v":"寺井クラブJr."},null,"E1E3",""]
[17,null,{"$f":"組合表!AG20","v":"I1"},"I1I3",null,{"$f":"VLOOKUP(C22,チーム表!C:D,2,FALSE)","v":"千坂Ｆロータスルート"},"×",{"$f":"組合表!AH20","v":"I3"},"I3I1",null,{"$f":"VLOOKUP(H22,チーム表!C:D,2,FALSE)","v":"寺井九谷クラブ"},null,{"$f":"組合表!AI20","v":"J1"},"J1J3",null,{"$f":"VLOOKUP(M22,チーム表!C:D,2,FALSE)","v":"ドッジの王子様"},"×",{"$f":"組合表!AJ20","v":"J3"},"J3J1",null,{"$f":"VLOOKUP(R22,チーム表!C:D,2,FALSE)","v":"向本折クラブ　"},null,{"$f":"組合表!AK20","v":"A1"},"A1A4",null,{"$f":"VLOOKUP(W22,チーム表!C:D,2,FALSE)","v":"ＮＩＳＨＩファイヤースターズ"},"×",{"$f":"組合表!AL20","v":"A4"},"A4A1",null,{"$f":"VLOOKUP(AB22,チーム表!C:D,2,FALSE)","v":"ミラクル元キッズ"},null,"I1I3",""]
[18,null,{"$f":"組合表!AG21","v":"B1"},"B1B4",null,{"$f":"VLOOKUP(C23,チーム表!C:D,2,FALSE)","v":"桜Ｖ６"},"×",{"$f":"組合表!AH21","v":"B4"},"B4B1",null,{"$f":"VLOOKUP(H23,チーム表!C:D,2,FALSE)","v":"Ｇ-Ｓhimozeki"},null,{"$f":"組合表!AI21","v":"C1"},"C1C4",null,{"$f":"VLOOKUP(M23,チーム表!C:D,2,FALSE)","v":"珠洲クラブ"},"×",{"$f":"組合表!AJ21","v":"C4"},"C4C1",null,{"$f":"VLOOKUP(R23,チーム表!C:D,2,FALSE)","v":"呉羽ドッジボールクラブ"},null,{"$f":"組合表!AK21","v":"D1"},"D1D4",null,{"$f":"VLOOKUP(W23,チーム表!C:D,2,FALSE)","v":"杉っ子ドッジファイターズ"},"×",{"$f":"組合表!AL21","v":"D4"},"D4D1",null,{"$f":"VLOOKUP(AB23,チーム表!C:D,2,FALSE)","v":"鵜川ミラクルフェニックス"},null,"B1B4",""]
[19,null,{"$f":"組合表!AG22","v":"G1"},"G1G4",null,{"$f":"VLOOKUP(C24,チーム表!C:D,2,FALSE)","v":"ＮＩＳＨＩ Jr スターズ"},"×",{"$f":"組合表!AH22","v":"G4"},"G4G1",null,{"$f":"VLOOKUP(H24,チーム表!C:D,2,FALSE)","v":"呉羽ジュニア"},null,{"$f":"組合表!AI22","v":"E2"},"E2E4",null,{"$f":"VLOOKUP(M24,チーム表!C:D,2,FALSE)","v":"福光サンダージュニア"},"×",{"$f":"組合表!AJ22","v":"E4"},"E4E2",null,{"$f":"VLOOKUP(R24,チーム表!C:D,2,FALSE)","v":"田上闘球DREAMS"},null,{"$f":"組合表!AK22","v":"F2"},"F2F4",null,{"$f":"VLOOKUP(W24,チーム表!C:D,2,FALSE)","v":"三馬パワフル"},"×",{"$f":"組合表!AL22","v":"F4"},"F4F2",null,{"$f":"VLOOKUP(AB24,チーム表!C:D,2,FALSE)","v":"五福ダイヤモンドサンズ"},null,"G1G4",""]
[20,null,{"$f":"組合表!AG23","v":"H2"},"H2H4",null,{"$f":"VLOOKUP(C25,チーム表!C:D,2,FALSE)","v":"鞍月・三谷アタッカーズ"},"×",{"$f":"組合表!AH23","v":"H4"},"H4H2",null,{"$f":"VLOOKUP(H25,チーム表!C:D,2,FALSE)","v":"鵜川フェニックスジュニア"},null,{"$f":"組合表!AI23","v":"I2"},"I2I4",null,{"$f":"VLOOKUP(M25,チーム表!C:D,2,FALSE)","v":"福光サンダーホープス"},"×",{"$f":"組合表!AJ23","v":"I4"},"I4I2",null,{"$f":"VLOOKUP(R25,チーム表!C:D,2,FALSE)","v":"めちゃげん闘球小僧"},null,{"$f":"組合表!AK23","v":"J2"},"J2J4",null,{"$f":"VLOOKUP(W25,チーム表!C:D,2,FALSE)","v":"鳳至ドッジボールクラブJr"},"×",{"$f":"組合表!AL23","v":"J4"},"J4J2",null,{"$f":"VLOOKUP(AB25,チーム表!C:D,2,FALSE)","v":"松任の大魔陣 Ｊｒ"},null,"H2H4",""]
[21,null,{"$f":"組合表!AG24","v":"A2"},"A2A5",null,{"$f":"VLOOKUP(C26,チーム表!C:D,2,FALSE)","v":"パイレーツα"},"×",{"$f":"組合表!AH24","v":"A5"},"A5A2",null,{"$f":"VLOOKUP(H26,チーム表!C:D,2,FALSE)","v":"米丸ドッジボールクラブ"},null,{"$f":"組合表!AI24","v":"B2"},"B2B5",null,{"$f":"VLOOKUP(M26,チーム表!C:D,2,FALSE)","v":"山中SPARS"},"×",{"$f":"組合表!AJ24","v":"B5"},"B5B2",null,{"$f":"VLOOKUP(R26,チーム表!C:D,2,FALSE)","v":"めちゃげん"},null,{"$f":"組合表!AK24","v":"C2"},"C2C5",null,{"$f":"VLOOKUP(W26,チーム表!C:D,2,FALSE)","v":"向本折SPARS"},"×",{"$f":"組合表!AL24","v":"C5"},"C5C2",null,{"$f":"VLOOKUP(AB26,チーム表!C:D,2,FALSE)","v":"三谷Ｄ.Ｂ.Ｃ"},null,"A2A5",""]
[22,null,{"$f":"組合表!AG25","v":"D2"},"D2D5",null,{"$f":"VLOOKUP(C27,チーム表!C:D,2,FALSE)","v":"鞍月アタッカーズ"},"×",{"$f":"組合表!AH25","v":"D5"},"D5D2",null,{"$f":"VLOOKUP(H27,チーム表!C:D,2,FALSE)","v":"松任の大魔陣"},null,{"$f":"組合表!AI25","v":"G2"},"G2G5",null,{"$f":"VLOOKUP(M27,チーム表!C:D,2,FALSE)","v":"山中SＴARS"},"×",{"$f":"組合表!AJ25","v":"G5"},"G5G2",null,{"$f":"VLOOKUP(R27,チーム表!C:D,2,FALSE)","v":"田上闘球ＦＵＴＵＲＥＳ"},null,{"$f":"組合表!AK25","v":"A1"},"A1A3",null,{"$f":"VLOOKUP(W27,チーム表!C:D,2,FALSE)","v":"ＮＩＳＨＩファイヤースターズ"},"×",{"$f":"組合表!AL25","v":"A3"},"A3A1",null,{"$f":"VLOOKUP(AB27,チーム表!C:D,2,FALSE)","v":"鳳至ドッジボールクラブ"},null,"D2D5",""]
[23,null,{"$f":"組合表!AG26","v":"B1"},"B1B3",null,{"$f":"VLOOKUP(C28,チーム表!C:D,2,FALSE)","v":"桜Ｖ６"},"×",{"$f":"組合表!AH26","v":"B3"},"B3B1",null,{"$f":"VLOOKUP(H28,チーム表!C:D,2,FALSE)","v":"小木クラブ"},null,{"$f":"組合表!AI26","v":"C1"},"C1C3",null,{"$f":"VLOOKUP(M28,チーム表!C:D,2,FALSE)","v":"珠洲クラブ"},"×",{"$f":"組合表!AJ26","v":"C3"},"C3C1",null,{"$f":"VLOOKUP(R28,チーム表!C:D,2,FALSE)","v":"寺井クラブ"},null,{"$f":"組合表!AK26","v":"D1"},"D1D3",null,{"$f":"VLOOKUP(W28,チーム表!C:D,2,FALSE)","v":"杉っ子ドッジファイターズ"},"×",{"$f":"組合表!AL26","v":"D3"},"D3D1",null,{"$f":"VLOOKUP(AB28,チーム表!C:D,2,FALSE)","v":"附属ドッジファイターズ"},null,"B1B3",""]
[24,null,{"$f":"組合表!AG27","v":"G1"},"G1G3",null,{"$f":"VLOOKUP(C29,チーム表!C:D,2,FALSE)","v":"ＮＩＳＨＩ Jr スターズ"},"×",{"$f":"組合表!AH27","v":"G3"},"G3G1",null,{"$f":"VLOOKUP(H29,チーム表!C:D,2,FALSE)","v":"奥能登クラブジュニア"},null,{"$f":"組合表!AI27","v":"A2"},"A2A4",null,{"$f":"VLOOKUP(M29,チーム表!C:D,2,FALSE)","v":"パイレーツα"},"×",{"$f":"組合表!AJ27","v":"A4"},"A4A2",null,{"$f":"VLOOKUP(R29,チーム表!C:D,2,FALSE)","v":"ミラクル元キッズ"},null,{"$f":"組合表!AK27","v":"B2"},"B2B4",null,{"$f":"VLOOKUP(W29,チーム表!C:D,2,FALSE)","v":"山中SPARS"},"×",{"$f":"組合表!AL27","v":"B4"},"B4B2",null,{"$f":"VLOOKUP(AB29,チーム表!C:D,2,FALSE)","v":"Ｇ-Ｓhimozeki"},null,"G1G3",""]
[25,null,{"$f":"組合表!AG28","v":"C2"},"C2C4",null,{"$f":"VLOOKUP(C30,チーム表!C:D,2,FALSE)","v":"向本折SPARS"},"×",{"$f":"組合表!AH28","v":"C4"},"C4C2",null,{"$f":"VLOOKUP(H30,チーム表!C:D,2,FALSE)","v":"呉羽ドッジボールクラブ"},null,{"$f":"組合表!AI28","v":"D2"},"D2D4",null,{"$f":"VLOOKUP(M30,チーム表!C:D,2,FALSE)","v":"鞍月アタッカーズ"},"×",{"$f":"組合表!AJ28","v":"D4"},"D4D2",null,{"$f":"VLOOKUP(R30,チーム表!C:D,2,FALSE)","v":"鵜川ミラクルフェニックス"},null,{"$f":"組合表!AK28","v":"G2"},"G2G4",null,{"$f":"VLOOKUP(W30,チーム表!C:D,2,FALSE)","v":"山中SＴARS"},"×",{"$f":"組合表!AL28","v":"G4"},"G4G2",null,{"$f":"VLOOKUP(AB30,チーム表!C:D,2,FALSE)","v":"呉羽ジュニア"},null,"C2C4",""]
[26,null,{"$f":"組合表!AG29","v":"A3"},{"$f":"CONCATENATE(C31,H31)","v":"A3A5"},null,{"$f":"VLOOKUP(C31,チーム表!C:D,2,FALSE)","v":"鳳至ドッジボールクラブ"},"×",{"$f":"組合表!AH29","v":"A5"},{"$f":"CONCATENATE(H31,C31)","v":"A5A3"},null,{"$f":"VLOOKUP(H31,チーム表!C:D,2,FALSE)","v":"米丸ドッジボールクラブ"},null,{"$f":"組合表!AI29","v":"B3"},{"$f":"CONCATENATE(M31,R31)","v":"B3B5"},null,{"$f":"VLOOKUP(M31,チーム表!C:D,2,FALSE)","v":"小木クラブ"},"×",{"$f":"組合表!AJ29","v":"B5"},{"$f":"CONCATENATE(R31,M31)","v":"B5B3"},null,{"$f":"VLOOKUP(R31,チーム表!C:D,2,FALSE)","v":"めちゃげん"},null,{"$f":"組合表!AK29","v":"C3"},{"$f":"CONCATENATE(W31,AB31)","v":"C3C5"},null,{"$f":"VLOOKUP(W31,チーム表!C:D,2,FALSE)","v":"寺井クラブ"},"×",{"$f":"組合表!AL29","v":"C5"},{"$f":"CONCATENATE(AB31,W31)","v":"C5C3"},null,{"$f":"VLOOKUP(AB31,チーム表!C:D,2,FALSE)","v":"三谷Ｄ.Ｂ.Ｃ"},null,"A3A5",""]
[27,null,{"$f":"組合表!AG30","v":"D3"},"D3D5",null,{"$f":"VLOOKUP(C32,チーム表!C:D,2,FALSE)","v":"附属ドッジファイターズ"},"×",{"$f":"組合表!AH30","v":"D5"},"D5D3",null,{"$f":"VLOOKUP(H32,チーム表!C:D,2,FALSE)","v":"松任の大魔陣"},null,{"$f":"組合表!AI30","v":"G3"},"G3G5",null,{"$f":"VLOOKUP(M32,チーム表!C:D,2,FALSE)","v":"奥能登クラブジュニア"},"×",{"$f":"組合表!AJ30","v":"G5"},"G5G3",null,{"$f":"VLOOKUP(R32,チーム表!C:D,2,FALSE)","v":"田上闘球ＦＵＴＵＲＥＳ"},null,{"$f":"組合表!AK30","v":""},"",null,{"$f":"VLOOKUP(W32,チーム表!C:D,2,FALSE)","v":{"$error":"#N/A"}},"×",{"$f":"組合表!AL30","v":""},"",null,{"$f":"VLOOKUP(AB32,チーム表!C:D,2,FALSE)","v":{"$error":"#N/A"}},null,"D3D5",""]
[28,null,{"$f":"組合表!AG31","v":""},"",null,{"$f":"VLOOKUP(C33,チーム表!C:D,2,FALSE)","v":{"$error":"#N/A"}},"×",{"$f":"組合表!AH31","v":""},"",null,{"$f":"VLOOKUP(H33,チーム表!C:D,2,FALSE)","v":{"$error":"#N/A"}},null,{"$f":"組合表!AI31","v":""},"",null,{"$f":"VLOOKUP(M33,チーム表!C:D,2,FALSE)","v":{"$error":"#N/A"}},"×",{"$f":"組合表!AJ31","v":""},"",null,{"$f":"VLOOKUP(R33,チーム表!C:D,2,FALSE)","v":{"$error":"#N/A"}},null,{"$f":"組合表!AK31","v":""},"",null,{"$f":"VLOOKUP(W33,チーム表!C:D,2,FALSE)","v":{"$error":"#N/A"}},"×",{"$f":"組合表!AL31","v":""},"",null,{"$f":"VLOOKUP(AB33,チーム表!C:D,2,FALSE)","v":{"$error":"#N/A"}},null,"",""]
[29,null,{"$f":"組合表!AG32","v":""},"",null,{"$f":"VLOOKUP(C34,チーム表!C:D,2,FALSE)","v":{"$error":"#N/A"}},"×",{"$f":"組合表!AH32","v":""},"",null,{"$f":"VLOOKUP(H34,チーム表!C:D,2,FALSE)","v":{"$error":"#N/A"}},null,{"$f":"組合表!AI32","v":""},"",null,{"$f":"VLOOKUP(M34,チーム表!C:D,2,FALSE)","v":{"$error":"#N/A"}},"×",{"$f":"組合表!AJ32","v":""},"",null,{"$f":"VLOOKUP(R34,チーム表!C:D,2,FALSE)","v":{"$error":"#N/A"}},null,{"$f":"組合表!AK32","v":""},"",null,{"$f":"VLOOKUP(W34,チーム表!C:D,2,FALSE)","v":{"$error":"#N/A"}},"×",{"$f":"組合表!AL32","v":""},"",null,{"$f":"VLOOKUP(AB34,チーム表!C:D,2,FALSE)","v":{"$error":"#N/A"}},null,"",""]
[30,null,{"$f":"組合表!AG33","v":""},"",null,{"$f":"VLOOKUP(C35,チーム表!C:D,2,FALSE)","v":{"$error":"#N/A"}},"×",{"$f":"組合表!AH33","v":""},"",null,{"$f":"VLOOKUP(H35,チーム表!C:D,2,FALSE)","v":{"$error":"#N/A"}},null,{"$f":"組合表!AI33","v":""},"",null,{"$f":"VLOOKUP(M35,チーム表!C:D,2,FALSE)","v":{"$error":"#N/A"}},"×",{"$f":"組合表!AJ33","v":""},"",null,{"$f":"VLOOKUP(R35,チーム表!C:D,2,FALSE)","v":{"$error":"#N/A"}},null,{"$f":"組合表!AK33","v":""},"",null,{"$f":"VLOOKUP(W35,チーム表!C:D,2,FALSE)","v":{"$error":"#N/A"}},"×",{"$f":"組合表!AL33","v":""},"",null,{"$f":"VLOOKUP(AB35,チーム表!C:D,2,FALSE)","v":{"$error":"#N/A"}},null,"",""]
[31,null,{"$f":"組合表!AG34","v":""},"",null,{"$f":"VLOOKUP(C36,チーム表!C:D,2,FALSE)","v":{"$error":"#N/A"}},"×",{"$f":"組合表!AH34","v":""},"",null,{"$f":"VLOOKUP(H36,チーム表!C:D,2,FALSE)","v":{"$error":"#N/A"}},null,{"$f":"組合表!AI34","v":""},"",null,{"$f":"VLOOKUP(M36,チーム表!C:D,2,FALSE)","v":{"$error":"#N/A"}},"×",{"$f":"組合表!AJ34","v":""},"",null,{"$f":"VLOOKUP(R36,チーム表!C:D,2,FALSE)","v":{"$error":"#N/A"}},null,{"$f":"組合表!AK34","v":""},"",null,{"$f":"VLOOKUP(W36,チーム表!C:D,2,FALSE)","v":{"$error":"#N/A"}},"×",{"$f":"組合表!AL34","v":""},"",null,{"$f":"VLOOKUP(AB36,チーム表!C:D,2,FALSE)","v":{"$error":"#N/A"}},null,"",""]
[32,null,{"$f":"組合表!AG35","v":""},"",null,{"$f":"VLOOKUP(C37,チーム表!C:D,2,FALSE)","v":{"$error":"#N/A"}},"×",{"$f":"組合表!AH35","v":""},"",null,{"$f":"VLOOKUP(H37,チーム表!C:D,2,FALSE)","v":{"$error":"#N/A"}},null,{"$f":"組合表!AI35","v":""},"",null,{"$f":"VLOOKUP(M37,チーム表!C:D,2,FALSE)","v":{"$error":"#N/A"}},"×",{"$f":"組合表!AJ35","v":""},"",null,{"$f":"VLOOKUP(R37,チーム表!C:D,2,FALSE)","v":{"$error":"#N/A"}},null,{"$f":"組合表!AK35","v":""},"",null,{"$f":"VLOOKUP(W37,チーム表!C:D,2,FALSE)","v":{"$error":"#N/A"}},"×",{"$f":"組合表!AL35","v":""},"",null,{"$f":"VLOOKUP(AB37,チーム表!C:D,2,FALSE)","v":{"$error":"#N/A"}},null,"",""]
[33,null,{"$f":"組合表!AG36","v":""},"",null,{"$f":"VLOOKUP(C38,チーム表!C:D,2,FALSE)","v":{"$error":"#N/A"}},"×",{"$f":"組合表!AH36","v":""},"",null,{"$f":"VLOOKUP(H38,チーム表!C:D,2,FALSE)","v":{"$error":"#N/A"}},null,{"$f":"組合表!AI36","v":""},"",null,{"$f":"VLOOKUP(M38,チーム表!C:D,2,FALSE)","v":{"$error":"#N/A"}},"×",{"$f":"組合表!AJ36","v":""},"",null,{"$f":"VLOOKUP(R38,チーム表!C:D,2,FALSE)","v":{"$error":"#N/A"}},null,{"$f":"組合表!AK36","v":""},"",null,{"$f":"VLOOKUP(W38,チーム表!C:D,2,FALSE)","v":{"$error":"#N/A"}},"×",{"$f":"組合表!AL36","v":""},"",null,{"$f":"VLOOKUP(AB38,チーム表!C:D,2,FALSE)","v":{"$error":"#N/A"}},null,"",""]
[34,null,{"$f":"組合表!AG37","v":""},{"$f":"CONCATENATE(C39,H39)","v":""},null,{"$f":"VLOOKUP(C39,チーム表!C:D,2,FALSE)","v":{"$error":"#N/A"}},"×",{"$f":"組合表!AH37","v":""},{"$f":"CONCATENATE(H39,C39)","v":""},null,{"$f":"VLOOKUP(H39,チーム表!C:D,2,FALSE)","v":{"$error":"#N/A"}},null,{"$f":"組合表!AI37","v":""},{"$f":"CONCATENATE(M39,R39)","v":""},null,{"$f":"VLOOKUP(M39,チーム表!C:D,2,FALSE)","v":{"$error":"#N/A"}},"×",{"$f":"組合表!AJ37","v":""},{"$f":"CONCATENATE(R39,M39)","v":""},null,{"$f":"VLOOKUP(R39,チーム表!C:D,2,FALSE)","v":{"$error":"#N/A"}},null,{"$f":"組合表!AK37","v":""},{"$f":"CONCATENATE(W39,AB39)","v":""},null,{"$f":"VLOOKUP(W39,チーム表!C:D,2,FALSE)","v":{"$error":"#N/A"}},"×",{"$f":"組合表!AL37","v":""},{"$f":"CONCATENATE(AB39,W39)","v":""},null,{"$f":"VLOOKUP(AB39,チーム表!C:D,2,FALSE)","v":{"$error":"#N/A"}},null,"",""]
[35,null,{"$f":"組合表!AG38","v":""},{"$f":"CONCATENATE(C40,H40)","v":""},null,{"$f":"VLOOKUP(C40,チーム表!C:D,2,FALSE)","v":{"$error":"#N/A"}},"×",{"$f":"組合表!AH38","v":""},{"$f":"CONCATENATE(H40,C40)","v":""},null,{"$f":"VLOOKUP(H40,チーム表!C:D,2,FALSE)","v":{"$error":"#N/A"}},null,{"$f":"組合表!AI38","v":""},{"$f":"CONCATENATE(M40,R40)","v":""},null,{"$f":"VLOOKUP(M40,チーム表!C:D,2,FALSE)","v":{"$error":"#N/A"}},"×",{"$f":"組合表!AJ38","v":""},{"$f":"CONCATENATE(R40,M40)","v":""},null,{"$f":"VLOOKUP(R40,チーム表!C:D,2,FALSE)","v":{"$error":"#N/A"}},null,{"$f":"組合表!AK38","v":""},{"$f":"CONCATENATE(W40,AB40)","v":""},null,{"$f":"VLOOKUP(W40,チーム表!C:D,2,FALSE)","v":{"$error":"#N/A"}},"×",{"$f":"組合表!AL38","v":""},{"$f":"CONCATENATE(AB40,W40)","v":""},null,{"$f":"VLOOKUP(AB40,チーム表!C:D,2,FALSE)","v":{"$error":"#N/A"}},null,"",""]
[36,null,{"$f":"組合表!AG39","v":""},{"$f":"CONCATENATE(C41,H41)","v":""},null,{"$f":"VLOOKUP(C41,チーム表!C:D,2,FALSE)","v":{"$error":"#N/A"}},"×",{"$f":"組合表!AH39","v":""},{"$f":"CONCATENATE(H41,C41)","v":""},null,{"$f":"VLOOKUP(H41,チーム表!C:D,2,FALSE)","v":{"$error":"#N/A"}},null,{"$f":"組合表!AI39","v":""},{"$f":"CONCATENATE(M41,R41)","v":""},null,{"$f":"VLOOKUP(M41,チーム表!C:D,2,FALSE)","v":{"$error":"#N/A"}},"×",{"$f":"組合表!AJ39","v":""},{"$f":"CONCATENATE(R41,M41)","v":""},null,{"$f":"VLOOKUP(R41,チーム表!C:D,2,FALSE)","v":{"$error":"#N/A"}},null,{"$f":"組合表!AK39","v":""},{"$f":"CONCATENATE(W41,AB41)","v":""},null,{"$f":"VLOOKUP(W41,チーム表!C:D,2,FALSE)","v":{"$error":"#N/A"}},"×",{"$f":"組合表!AL39","v":""},{"$f":"CONCATENATE(AB41,W41)","v":""},null,{"$f":"VLOOKUP(AB41,チーム表!C:D,2,FALSE)","v":{"$error":"#N/A"}},null,"",""]
[37,null,{"$f":"組合表!AG40","v":""},"",null,{"$f":"VLOOKUP(C42,チーム表!C:D,2,FALSE)","v":{"$error":"#N/A"}},"×",{"$f":"組合表!AH40","v":""},"",null,{"$f":"VLOOKUP(H42,チーム表!C:D,2,FALSE)","v":{"$error":"#N/A"}},null,{"$f":"組合表!AI40","v":""},"",null,{"$f":"VLOOKUP(M42,チーム表!C:D,2,FALSE)","v":{"$error":"#N/A"}},"×",{"$f":"組合表!AJ40","v":""},"",null,{"$f":"VLOOKUP(R42,チーム表!C:D,2,FALSE)","v":{"$error":"#N/A"}},null,{"$f":"組合表!AK40","v":""},"",null,{"$f":"VLOOKUP(W42,チーム表!C:D,2,FALSE)","v":{"$error":"#N/A"}},"×",{"$f":"組合表!AL40","v":""},"",null,{"$f":"VLOOKUP(AB42,チーム表!C:D,2,FALSE)","v":{"$error":"#N/A"}},null,"",""]
[38,null,{"$f":"組合表!AG41","v":""},"",null,{"$f":"VLOOKUP(C43,チーム表!C:D,2,FALSE)","v":{"$error":"#N/A"}},"×",{"$f":"組合表!AH41","v":""},"",null,{"$f":"VLOOKUP(H43,チーム表!C:D,2,FALSE)","v":{"$error":"#N/A"}},null,{"$f":"組合表!AI41","v":""},"",null,{"$f":"VLOOKUP(M43,チーム表!C:D,2,FALSE)","v":{"$error":"#N/A"}},"×",{"$f":"組合表!AJ41","v":""},"",null,{"$f":"VLOOKUP(R43,チーム表!C:D,2,FALSE)","v":{"$error":"#N/A"}},null,{"$f":"組合表!AK41","v":""},"",null,{"$f":"VLOOKUP(W43,チーム表!C:D,2,FALSE)","v":{"$error":"#N/A"}},"×",{"$f":"組合表!AL41","v":""},"",null,{"$f":"VLOOKUP(AB43,チーム表!C:D,2,FALSE)","v":{"$error":"#N/A"}},null,"",""]
[39,null,{"$f":"組合表!AG42","v":""},"",null,{"$f":"VLOOKUP(C44,チーム表!C:D,2,FALSE)","v":{"$error":"#N/A"}},"×",{"$f":"組合表!AH42","v":""},"",null,{"$f":"VLOOKUP(H44,チーム表!C:D,2,FALSE)","v":{"$error":"#N/A"}},null,{"$f":"組合表!AI42","v":""},"",null,{"$f":"VLOOKUP(M44,チーム表!C:D,2,FALSE)","v":{"$error":"#N/A"}},"×",{"$f":"組合表!AJ42","v":""},"",null,{"$f":"VLOOKUP(R44,チーム表!C:D,2,FALSE)","v":{"$error":"#N/A"}},null,{"$f":"組合表!AK42","v":""},"",null,{"$f":"VLOOKUP(W44,チーム表!C:D,2,FALSE)","v":{"$error":"#N/A"}},"×",{"$f":"組合表!AL42","v":""},"",null,{"$f":"VLOOKUP(AB44,チーム表!C:D,2,FALSE)","v":{"$error":"#N/A"}},null,"",""]
[40,null,{"$f":"組合表!AG43","v":""},"",null,{"$f":"VLOOKUP(C45,チーム表!C:D,2,FALSE)","v":{"$error":"#N/A"}},"×",{"$f":"組合表!AH43","v":""},"",null,{"$f":"VLOOKUP(H45,チーム表!C:D,2,FALSE)","v":{"$error":"#N/A"}},null,{"$f":"組合表!AI43","v":""},"",null,{"$f":"VLOOKUP(M45,チーム表!C:D,2,FALSE)","v":{"$error":"#N/A"}},"×",{"$f":"組合表!AJ43","v":""},"",null,{"$f":"VLOOKUP(R45,チーム表!C:D,2,FALSE)","v":{"$error":"#N/A"}},null,{"$f":"組合表!AK43","v":""},"",null,{"$f":"VLOOKUP(W45,チーム表!C:D,2,FALSE)","v":{"$error":"#N/A"}},"×",{"$f":"組合表!AL43","v":""},"",null,{"$f":"VLOOKUP(AB45,チーム表!C:D,2,FALSE)","v":{"$error":"#N/A"}},null,"",""]
[41,null,1,{"$nulls":29},{"$f":"I6","v":"A2A1"},{"$f":"IF(J6=\"\",\"\",J6)","v":""}]
[42,null,2,{"$nulls":29},"D2D1",{"$f":"IF(J7=\"\",\"\",J7)","v":""}]
[43,null,3,{"$nulls":29},"F2F1",""]
[44,null,4,{"$nulls":29},"J2J1",""]
[45,null,5,{"$nulls":29},"C4C3",""]
[46,null,6,{"$nulls":29},"E4E3",""]
[47,null,7,{"$nulls":29},"I4I3",""]
[48,null,8,{"$nulls":29},"B5B1",""]
[49,null,9,{"$nulls":29},"G5G1",""]
[50,null,10,{"$nulls":29},"H3H2",""]
[{"$nulls":32},"A3A2",""]
[{"$nulls":32},"D3D2",""]
[{"$nulls":32},"F4F1",""]
[{"$nulls":32},"J4J1",""]
[{"$nulls":32},"C5C4",""]
[{"$nulls":32},"E3E1",""]
[{"$nulls":32},"I3I1",""]
[{"$nulls":32},"B4B1",""]
[{"$nulls":32},"G4G1",""]
[{"$nulls":32},"H4H2",""]
[{"$nulls":32},"A5A2",""]
[{"$nulls":32},"D5D2",""]
[{"$nulls":32},"B3B1",""]
[{"$nulls":32},"G3G1",""]
[{"$nulls":32},"C4C2",""]
[{"$nulls":32},"A5A3",""]
[{"$nulls":32},"D5D3",""]
[{"$nulls":32},"",""]
[{"$nulls":32},"",""]
[{"$nulls":32},"",""]
[{"$nulls":32},"",""]
[{"$nulls":32},"",""]
[{"$nulls":32},"",""]
[{"$nulls":32},"",""]
[{"$nulls":32},"",""]
[{"$nulls":32},"",""]
[{"$nulls":32},"",""]
[{"$nulls":32},"",""]
[{"$nulls":32},"",""]
[{"$nulls":32},"",""]
[{"$nulls":32},{"$f":"N6","v":"B1B2"},{"$f":"IF(O6=\"\",\"\",O6)","v":""}]
[{"$nulls":32},"G1G2",{"$f":"IF(O7=\"\",\"\",O7)","v":""}]
[{"$nulls":32},"H1H2",""]
[{"$nulls":32},"A3A4",""]
[{"$nulls":32},"D3D4",""]
[{"$nulls":32},"F3F4",""]
[{"$nulls":32},"J3J4",""]
[{"$nulls":32},"C1C5",""]
[{"$nulls":32},"E2E3",""]
[{"$nulls":32},"I2I3",""]
[{"$nulls":32},"B2B3",""]
[{"$nulls":32},"G2G3",""]
[{"$nulls":32},"H1H4",""]
[{"$nulls":32},"A4A5",""]
[{"$nulls":32},"D4D5",""]
[{"$nulls":32},"F1F3",""]
[{"$nulls":32},"J1J3",""]
[{"$nulls":32},"C1C4",""]
[{"$nulls":32},"E2E4",""]
[{"$nulls":32},"I2I4",""]
[{"$nulls":32},"B2B5",""]
[{"$nulls":32},"G2G5",""]
[{"$nulls":32},"C1C3",""]
[{"$nulls":32},"A2A4",""]
[{"$nulls":32},"D2D4",""]
[{"$nulls":32},"B3B5",""]
[{"$nulls":32},"G3G5",""]
[{"$nulls":32},"",""]
[{"$nulls":32},"",""]
[{"$nulls":32},"",""]
[{"$nulls":32},"",""]
[{"$nulls":32},"",""]
[{"$nulls":32},"",""]
[{"$nulls":32},"",""]
[{"$nulls":32},"",""]
[{"$nulls":32},"",""]
[{"$nulls":32},"",""]
[{"$nulls":32},"",""]
[{"$nulls":32},"",""]
[{"$nulls":32},"",""]
[{"$nulls":32},{"$f":"S6","v":"B2B1"},{"$f":"IF(T6=\"\",\"\",T6)","v":""}]
[{"$nulls":32},"G2G1",{"$f":"IF(T7=\"\",\"\",T7)","v":""}]
[{"$nulls":32},"H2H1",""]
[{"$nulls":32},"A4A3",""]
[{"$nulls":32},"D4D3",""]
[{"$nulls":32},"F4F3",""]
[{"$nulls":32},"J4J3",""]
[{"$nulls":32},"C5C1",""]
[{"$nulls":32},"E3E2",""]
[{"$nulls":32},"I3I2",""]
[{"$nulls":32},"B3B2",""]
[{"$nulls":32},"G3G2",""]
[{"$nulls":32},"H4H1",""]
[{"$nulls":32},"A5A4",""]
[{"$nulls":32},"D5D4",""]
[{"$nulls":32},"F3F1",""]
[{"$nulls":32},"J3J1",""]
[{"$nulls":32},"C4C1",""]
[{"$nulls":32},"E4E2",""]
[{"$nulls":32},"I4I2",""]
[{"$nulls":32},"B5B2",""]
[{"$nulls":32},"G5G2",""]
[{"$nulls":32},"C3C1",""]
[{"$nulls":32},"A4A2",""]
[{"$nulls":32},"D4D2",""]
[{"$nulls":32},"B5B3",""]
[{"$nulls":32},"G5G3",""]
[{"$nulls":32},"",""]
[{"$nulls":32},"",""]
[{"$nulls":32},"",""]
[{"$nulls":32},"",""]
[{"$nulls":32},"",""]
[{"$nulls":32},"",""]
[{"$nulls":32},"",""]
[{"$nulls":32},"",""]
[{"$nulls":32},"",""]
[{"$nulls":32},"",""]
[{"$nulls":32},"",""]
[{"$nulls":32},"",""]
[{"$nulls":32},"",""]
[{"$nulls":32},{"$f":"X6","v":"C1C2"},{"$f":"IF(Y6=\"\",\"\",Y6)","v":""}]
[{"$nulls":32},"E1E2",{"$f":"IF(Y7=\"\",\"\",Y7)","v":""}]
[{"$nulls":32},"I1I2",""]
[{"$nulls":32},"B3B4",""]
[{"$nulls":32},"G3G4",""]
[{"$nulls":32},"H3H4",""]
[{"$nulls":32},"A1A5",""]
[{"$nulls":32},"D1D5",""]
[{"$nulls":32},"F2F3",""]
[{"$nulls":32},"J2J3",""]
[{"$nulls":32},"C2C3",""]
[{"$nulls":32},"E1E4",""]
[{"$nulls":32},"I1I4",""]
[{"$nulls":32},"B4B5",""]
[{"$nulls":32},"G4G5",""]
[{"$nulls":32},"H1H3",""]
[{"$nulls":32},"A1A4",""]
[{"$nulls":32},"D1D4",""]
[{"$nulls":32},"F2F4",""]
[{"$nulls":32},"J2J4",""]
[{"$nulls":32},"C2C5",""]
[{"$nulls":32},"A1A3",""]
[{"$nulls":32},"D1D3",""]
[{"$nulls":32},"B2B4",""]
[{"$nulls":32},"G2G4",""]
[{"$nulls":32},"C3C5",""]
[{"$nulls":32},"",""]
[{"$nulls":32},"",""]
[{"$nulls":32},"",""]
[{"$nulls":32},"",""]
[{"$nulls":32},"",""]
[{"$nulls":32},"",""]
[{"$nulls":32},"",""]
[{"$nulls":32},"",""]
[{"$nulls":32},"",""]
[{"$nulls":32},"",""]
[{"$nulls":32},"",""]
[{"$nulls":32},"",""]
[{"$nulls":32},"",""]
[{"$nulls":32},"",""]
[{"$nulls":32},{"$f":"AC6","v":"C2C1"},{"$f":"IF(AD6=\"\",\"\",AD6)","v":""}]
[{"$nulls":32},"E2E1",{"$f":"IF(AD7=\"\",\"\",AD7)","v":""}]
[{"$nulls":32},"I2I1",""]
[{"$nulls":32},"B4B3",""]
[{"$nulls":32},"G4G3",""]
[{"$nulls":32},"H4H3",""]
[{"$nulls":32},"A5A1",""]
[{"$nulls":32},"D5D1",""]
[{"$nulls":32},"F3F2",""]
[{"$nulls":32},"J3J2",""]
[{"$nulls":32},"C3C2",""]
[{"$nulls":32},"E4E1",""]
[{"$nulls":32},"I4I1",""]
[{"$nulls":32},"B5B4",""]
[{"$nulls":32},"G5G4",""]
[{"$nulls":32},"H3H1",""]
[{"$nulls":32},"A4A1",""]
[{"$nulls":32},"D4D1",""]
[{"$nulls":32},"F4F2",""]
[{"$nulls":32},"J4J2",""]
[{"$nulls":32},"C5C2",""]
[{"$nulls":32},"A3A1",""]
[{"$nulls":32},"D3D1",""]
[{"$nulls":32},"B4B2",""]
[{"$nulls":32},"G4G2",""]
[{"$nulls":32},"C5C3",""]
[{"$nulls":32},"",""]
[{"$nulls":32},"",""]
[{"$nulls":32},"",""]
[{"$nulls":32},"",""]
[{"$nulls":32},"",""]
[{"$nulls":32},"",""]
[{"$nulls":32},"",""]
[{"$nulls":32},"",""]
[{"$nulls":32},"",""]
[{"$nulls":32},"",""]
[{"$nulls":32},"",""]
[{"$nulls":32},"",""]
[{"$nulls":32},"",""]
[{"$nulls":32},"",""]

{"sheet":"組合表","index":9,"n_rows":83,"n_cols":39,"rows_kept":83,"merged":[[2,32,2,33],[2,34,2,35],[2,36,2,37]]}
[{"$nulls":25},27]
[{"$nulls":25},80]
[1,2,3,4,5,6,7,8,9,10,11,12,13,14,15,16,17,18,19,20,21,22,23,24,25,{"$nulls":7},"Aコート",null,"Ｂコート",null,"Ｃコート"]
[null,5,"A","A1A2","A3A4","A1A5","A2A3","A4A5","A1A4","A2A5","A1A3","A2A4","A3A5",{"$nulls":13},"A1A2",null,"A1A2","B1B2","C1C2",null,{"$f":"LEFT(AC4,2)","v":"A1"},{"$f":"RIGHT(AC4,2)","v":"A2"},{"$f":"LEFT(AD4,2)","v":"B1"},{"$f":"RIGHT(AD4,2)","v":"B2"},{"$f":"LEFT(AE4,2)","v":"C1"},{"$f":"RIGHT(AE4,2)","v":"C2"},1]
[null,5,"B","B1B2","B3B4","B1B5","B2B3","B4B5","B1B4","B2B5","B1B3","B2B4","B3B5",{"$nulls":13},"B1B2",null,"D1D2","G1G2","E1E2",null,{"$f":"LEFT(AC5,2)","v":"D1"},{"$f":"RIGHT(AC5,2)","v":"D2"},{"$f":"LEFT(AD5,2)","v":"G1"},{"$f":"RIGHT(AD5,2)","v":"G2"},{"$f":"LEFT(AE5,2)","v":"E1"},{"$f":"RIGHT(AE5,2)","v":"E2"},2]
[null,5,"C","C1C2","C3C4","C1C5","C2C3","C4C5","C1C4","C2C5","C1C3","C2C4","C3C5",{"$nulls":13},"C1C2",null,"F1F2","H1H2","I1I2",null,"F1","F2","H1","H2","I1","I2",3]
[null,5,"D","D1D2","D3D4","D1D5","D2D3","D4D5","D1D4","D2D5","D1D3","D2D4","D3D5",{"$nulls":13},"D1D2",null,"J1J2","A3A4","B3B4",null,"J1","J2","A3","A4","B3","B4",4]
[null,5,"G","G1G2","G3G4","G1G5","G2G3","G4G5","G1G4","G2G5","G1G3","G2G4","G3G5",{"$nulls":13},"G1G2",null,"C3C4","D3D4","G3G4",null,"C3","C4","D3","D4","G3","G4",5]
[null,4,"E","E1E2","E3E4","E2E3","E1E4","E1E3","E2E4",{"$nulls":17},"E1E2",null,"E3E4","F3F4","H3H4",null,"E3","E4","F3","F4","H3","H4",6]
[null,4,"F","F1F2","F3F4","F2F3","F1F4","F1F3","F2F4",{"$nulls":17},"F1F2",null,"I3I4","J3J4","A1A5",null,"I3","I4","J3","J4","A1","A5",7]
[null,4,"H","H1H2","H3H4","H2H3","H1H4","H1H3","H2H4",{"$nulls":17},"H1H2",null,"B1B5","C1C5","D1D5",null,"B1","B5","C1","C5","D1","D5",8]
[null,4,"I","I1I2","I3I4","I2I3","I1I4","I1I3","I2I4",{"$nulls":17},"I1I2",null,"G1G5","E2E3","F2F3",null,"G1","G5","E2","E3","F2","F3",9]
[null,4,"J","J1J2","J3J4","J2J3","J1J4","J1J3","J2J4",{"$nulls":17},"J1J2",null,"H2H3","I2I3","J2J3",null,"H2","H3","I2","I3","J2","J3",10]
[{"$nulls":26},"A3A4",null,"A2A3","B2B3","C2C3",null,"A2","A3","B2","B3","C2","C3",11]
[{"$nulls":26},"B3B4",null,"D2D3","G2G3","E1E4",null,"D2","D3","G2","G3","E1","E4",12]
[{"$nulls":26},"C3C4",null,"F1F4","H1H4","I1I4",null,"F1","F4","H1","H4","I1","I4",13]
[{"$nulls":26},"D3D4",null,"J1J4","A4A5","B4B5",null,"J1","J4","A4","A5","B4","B5",14]
[{"$nulls":26},"G3G4",null,"C4C5","D4D5","G4G5",null,"C4","C5","D4","D5","G4","G5",15]
[{"$nulls":26},"E3E4",null,"E1E3","F1F3","H1H3",null,"E1","E3","F1","F3","H1","H3",16]
[{"$nulls":26},"F3F4",null,"I1I3","J1J3","A1A4",null,"I1","I3","J1","J3","A1","A4",17]
[{"$nulls":26},"H3H4",null,"B1B4","C1C4","D1D4",null,"B1","B4","C1","C4","D1","D4",18]
[{"$nulls":26},"I3I4",null,"G1G4","E2E4","F2F4",null,"G1","G4","E2","E4","F2","F4",19]
[{"$nulls":26},"J3J4",null,"H2H4","I2I4","J2J4",null,"H2","H4","I2","I4","J2","J4",20]
[{"$nulls":26},"A1A5",null,"A2A5","B2B5","C2C5",null,"A2","A5","B2","B5","C2","C5",21]
[{"$nulls":26},"B1B5",null,"D2D5","G2G5","A1A3",null,"D2","D5","G2","G5","A1","A3",22]
[{"$nulls":26},"C1C5",null,"B1B3","C1C3","D1D3",null,"B1","B3","C1","C3","D1","D3",23]
[{"$nulls":3},1,2,3,4,5,6,7,8,9,10,11,12,13,14,15,16,17,18,19,20,"21",null,null,"D1D5",null,"G1G3","A2A4","B2B4",null,"G1","G3","A2","A4","B2","B4",24]
["７チーム",null,"C",{"$f":"CONCATENATE(C28,1,C28,2)","v":"C1C2"},{"$f":"CONCATENATE(C28,3,C28,4)","v":"C3C4"},{"$f":"CONCATENATE(C28,5,C28,6)","v":"C5C6"},{"$f":"CONCATENATE(C28,1,C28,7)","v":"C1C7"},{"$f":"CONCATENATE(C28,2,C28,3)","v":"C2C3"},{"$f":"CONCATENATE(C28,4,C28,5)","v":"C4C5"},{"$f":"CONCATENATE(C28,6,C28,7)","v":"C6C7"},{"$f":"CONCATENATE(C28,1,C28,4)","v":"C1C4"},{"$f":"CONCATENATE(C28,2,C28,5)","v":"C2C5"},{"$f":"CONCATENATE(C28,3,C28,6)","v":"C3C6"},{"$f":"CONCATENATE(C28,4,C28,7)","v":"C4C7"},{"$f":"CONCATENATE(C28,1,C28,6)","v":"C1C6"},{"$f":"CONCATENATE(C28,5,C28,7)","v":"C5C7"},{"$f":"CONCATENATE(C28,1,C28,3)","v":"C1C3"},{"$f":"CONCATENATE(C28,2,C28,4)","v":"C2C4"},{"$f":"CONCATENATE(C28,3,C28,5)","v":"C3C5"},{"$f":"CONCATENATE(C28,4,C28,6)","v":"C4C6"},{"$f":"CONCATENATE(C28,2,C28,7)","v":"C2C7"},{"$f":"CONCATENATE(C28,1,C28,5)","v":"C1C5"},{"$f":"CONCATENATE(C28,2,C28,6)","v":"C2C6"},{"$f":"CONCATENATE(C28,3,C28,7)","v":"C3C7"},null,null,"G1G5",null,"C2C4","D2D4","G2G4",null,"C2","C4","D2","D4","G2","G4",25]
["6チーム",null,"F",{"$f":"CONCATENATE(C29,1,C29,2)","v":"F1F2"},{"$f":"CONCATENATE(C29,3,C29,4)","v":"F3F4"},{"$f":"CONCATENATE(C29,5,C29,6)","v":"F5F6"},{"$f":"CONCATENATE(C29,1,C29,3)","v":"F1F3"},{"$f":"CONCATENATE(C29,2,C29,4)","v":"F2F4"},{"$f":"CONCATENATE(C29,3,C29,5)","v":"F3F5"},{"$f":"CONCATENATE(C29,4,C29,6)","v":"F4F6"},{"$f":"CONCATENATE(C29,1,C29,5)","v":"F1F5"},{"$f":"CONCATENATE(C29,2,C29,6)","v":"F2F6"},{"$f":"CONCATENATE(C29,1,C29,4)","v":"F1F4"},{"$f":"CONCATENATE(C29,2,C29,5)","v":"F2F5"},{"$f":"CONCATENATE(C29,3,C29,6)","v":"F3F6"},{"$f":"CONCATENATE(C29,4,C29,5)","v":"F4F5"},{"$f":"CONCATENATE(C29,2,C29,3)","v":"F2F3"},{"$f":"CONCATENATE(C29,1,C29,6)","v":"F1F6"},{"$nulls":8},"E2E3",null,"A3A5","B3B5","C3C5",null,"A3","A5","B3","B5","C3","C5",26]
["5チーム",null,"G",{"$f":"CONCATENATE(C30,1,C30,2)","v":"G1G2"},{"$f":"CONCATENATE(C30,3,C30,4)","v":"G3G4"},{"$f":"CONCATENATE(C30,1,C30,5)","v":"G1G5"},{"$f":"CONCATENATE(C30,2,C30,3)","v":"G2G3"},{"$f":"CONCATENATE(C30,4,C30,5)","v":"G4G5"},{"$f":"CONCATENATE(C30,1,C30,4)","v":"G1G4"},{"$f":"CONCATENATE(C30,2,C30,5)","v":"G2G5"},{"$f":"CONCATENATE(C30,1,C30,3)","v":"G1G3"},{"$f":"CONCATENATE(C30,2,C30,4)","v":"G2G4"},{"$f":"CONCATENATE(C30,3,C30,5)","v":"G3G5"},{"$nulls":13},"F2F3",null,"D3D5","G3G5",null,null,"D3","D5","G3","G5","","",27]
["4チーム",null,"J",{"$f":"CONCATENATE(C31,1,C31,2)","v":"J1J2"},{"$f":"CONCATENATE(C31,3,C31,4)","v":"J3J4"},{"$f":"CONCATENATE(C31,2,C31,3)","v":"J2J3"},{"$f":"CONCATENATE(C31,1,C31,4)","v":"J1J4"},{"$f":"CONCATENATE(C31,1,C31,3)","v":"J1J3"},{"$f":"CONCATENATE(C31,2,C31,4)","v":"J2J4"},{"$nulls":17},"H2H3",{"$nulls":5},"","","","","","",28]
["3チーム",null,"H",{"$f":"CONCATENATE(C32,1,C32,2)","v":"H1H2"},{"$f":"CONCATENATE(C32,2,C32,3)","v":"H2H3"},{"$f":"CONCATENATE(C32,1,C32,3)","v":"H1H3"},{"$nulls":20},"I2I3",{"$nulls":5},"","","","","","",29]
[{"$nulls":26},"J2J3",{"$nulls":5},"","","","","","",30]
[{"$nulls":26},"A2A3",{"$nulls":5},"","","","","","",31]
[{"$nulls":26},"B2B3",{"$nulls":5},"","","","","","",32]
[{"$nulls":26},"C2C3",{"$nulls":5},"","","","","","",33]
[{"$nulls":26},"D2D3",{"$nulls":5},"","","","","","",34]
[{"$nulls":26},"G2G3",{"$nulls":5},{"$f":"LEFT(AC38,2)","v":""},{"$f":"RIGHT(AC38,2)","v":""},{"$f":"LEFT(AD38,2)","v":""},{"$f":"RIGHT(AD38,2)","v":""},{"$f":"LEFT(AE38,2)","v":""},{"$f":"RIGHT(AE38,2)","v":""},35]
[{"$nulls":26},"E1E4",{"$nulls":5},"","","","","","",36]
[{"$nulls":26},"F1F4",{"$nulls":5},"","","","","","",37]
[{"$nulls":26},"H1H4",{"$nulls":5},"","","","","","",38]
[{"$nulls":26},"I1I4",{"$nulls":5},"","","","","","",39]
[{"$nulls":26},"J1J4",{"$nulls":5},"","","","","","",40]
[{"$nulls":26},"A4A5"]
[{"$nulls":26},"B4B5"]
[{"$nulls":26},"C4C5"]
[{"$nulls":26},"D4D5"]
[{"$nulls":26},"G4G5"]
[{"$nulls":26},"E1E3"]
[{"$nulls":26},"F1F3"]
[{"$nulls":26},"H1H3"]
[{"$nulls":26},"I1I3"]
[{"$nulls":26},"J1J3"]
[{"$nulls":26},"A1A4"]
[{"$nulls":26},"B1B4"]
[{"$nulls":26},"C1C4"]
[{"$nulls":26},"D1D4"]
[{"$nulls":26},"G1G4"]
[{"$nulls":26},"E2E4"]
[{"$nulls":26},"F2F4"]
[{"$nulls":26},"H2H4"]
[{"$nulls":26},"I2I4"]
[{"$nulls":26},"J2J4"]
[{"$nulls":26},"A2A5"]
[{"$nulls":26},"B2B5"]
[{"$nulls":26},"C2C5"]
[{"$nulls":26},"D2D5"]
[{"$nulls":26},"G2G5"]
[{"$nulls":26},"A1A3"]
[{"$nulls":26},"B1B3"]
[{"$nulls":26},"C1C3"]
[{"$nulls":26},"D1D3"]
[{"$nulls":26},"G1G3"]
[{"$nulls":26},"A2A4"]
[{"$nulls":26},"B2B4"]
[{"$nulls":26},"C2C4"]
[{"$nulls":26},"D2D4"]
[{"$nulls":26},"G2G4"]
[{"$nulls":26},"A3A5"]
[{"$nulls":26},"B3B5"]
[{"$nulls":26},"C3C5"]
[{"$nulls":26},"D3D5"]
[{"$nulls":26},"G3G5"]